Workbook

Sheet Прайс и заказ
A1: · Прайс-лист «Ленты» · 21.09.2026
A2: Компания | D2: Комментарий | G2: Поиск по прайсу | J2: Заполните колонку «Заказать» — выбранные позиции сами соберутся на листе «Ваш заказ». LavrPack · +7 (8482) 63-53-54 · 8 (800) 444-26-45 · www.test.lavrpack.ru
A3: Контактное лицо | D3: Дата прайса | E3: 21.09.2026 13:37
A4: Телефон | D4: Категория | E4: Ленты
A5: Город | D5: Источник | E5: https://www.test.lavrpack.ru | G5: =IF($G$3="","",SUMPRODUCT(--ISNUMBER(SEARCH($G$3,$B$7:$B$435&" "&$C$7:$C$435&" "&$D$7:$D$435&" "&$E$7:$E$435)))&" найдено — совпадения подсвечены")
A6: Фото | B6: Артикул | C6: Товар | D6: Цвет / вариант | E6: Размер / характеристика | F6: Ед. | G6: В коробке | H6: Розница, с НДС | I6: Опт, с НДС | J6: В наличии | K6: Заказать | L6: Сумма | M6: Комментарий | N6: служебная | P6: UUID
A7: Полипропилен — 135 поз. | N7: =IF(K7>0,COUNTIF($K$7:K7,">0"),"")
B8: 70314 | C8: Лента | D8: белый | E8: простая 0,5см×500ярд | G8: 1 | H8: 231 | I8: 150 | J8: 227 | L8: =IF(K8>0,K8*I8,"") | N8: =IF(K8>0,COUNTIF($K$7:K8,">0"),"") | O8: https://www.test.lavrpack.ru/local/templates/phoenix_v1/images_cache/thumbs/aaa49224e55801eb8806b15d311a2223.webp?v=1789963868 | P8: 8ca2a692-bb0f-11ec-bc66-00e01a6800eb
B9: 70345 | C9: Лента | D9: гвардейская | E9: простая 0,5см×500ярд | G9: 1 | H9: 242 | I9: 153 | J9: 90 | L9: =IF(K9>0,K9*I9,"") | N9: =IF(K9>0,COUNTIF($K$7:K9,">0"),"") | O9: https://www.test.lavrpack.ru/local/templates/phoenix_v1/images_cache/thumbs/2a5c301d9e81285dcffc4163e5b96c5c.webp?v=1789963866 | P9: 732cc0b2-bb1e-11ec-bc66-00e01a6800eb
B10: 70328 | C10: Лента | D10: желтый | E10: простая 0,5см×500ярд | G10: 1 | H10: 231 | I10: 150 | J10: 230 | L10: =IF(K10>0,K10*I10,"") | N10: =IF(K10>0,COUNTIF($K$7:K10,">0"),"") | O10: https://www.test.lavrpack.ru/local/templates/phoenix_v1/images_cache/thumbs/b6be36eabf2e388bcb5e9fc130ab25b5.webp?v=1789963864 | P10: 509e4b49-bb1c-11ec-bc66-00e01a6800eb
B11: 70338 | C11: Лента | D11: орхидея | E11: простая 0,5см×500ярд | G11: 1 | H11: 231 | I11: 150 | J11: 148 | L11: =IF(K11>0,K11*I11,"") | N11: =IF(K11>0,COUNTIF($K$7:K11,">0"),"") | O11: https://www.test.lavrpack.ru/local/templates/phoenix_v1/images_cache/thumbs/aa956add85721650663d713219cf5a69.webp?v=1789963870 | P11: b3bd9629-bb1d-11ec-bc66-00e01a6800eb
B12: 102971 | C12: Лента | D12: зеленый | E12: простая 0,5см×500ярд | G12: 1 | H12: 231 | I12: 150 | J12: 28 | L12: =IF(K12>0,K12*I12,"") | N12: =IF(K12>0,COUNTIF($K$7:K12,">0"),"") | O12: https://www.test.lavrpack.ru/local/templates/phoenix_v1/images_cache/thumbs/8ab4478ab500ca647124fdc2865bea4f.webp?v=1789946141 | P12: 0aca731e-06db-11ee-90e0-00e01a6800eb
B13: 70334 | C13: Лента | D13: серый | E13: простая 0,5см×500ярд | G13: 1 | H13: 231 | I13: 150 | J13: 115 | L13: =IF(K13>0,K13*I13,"") | N13: =IF(K13>0,COUNTIF($K$7:K13,">0"),"") | O13: https://www.test.lavrpack.ru/local/templates/phoenix_v1/images_cache/thumbs/b2da2bc8c4547025d13b20e02f99643a.webp?v=1789963873 | P13: f3e0ec54-bb1c-11ec-bc66-00e01a6800eb
B14: 70329 | C14: Лента | D14: небесно-голубой | E14: простая 0,5см×500ярд | G14: 1 | H14: 231 | I14: 150 | J14: 19 | L14: =IF(K14>0,K14*I14,"") | N14: =IF(K14>0,COUNTIF($K$7:K14,">0"),"") | O14: https://www.test.lavrpack.ru/local/templates/phoenix_v1/images_cache/thumbs/91eed477d4763c943288c7e04a654af6.webp?v=1789963866 | P14: 6e963e5c-bb1c-11ec-bc66-00e01a6800eb
B15: 70330 | C15: Лента | D15: желтый/зеленый | E15: простая 0,5см×500ярд | G15: 1 | H15: 231 | I15: 150 | J15: 35 | L15: =IF(K15>0,K15*I15,"") | N15: =IF(K15>0,COUNTIF($K$7:K15,">0"),"") | O15: https://www.test.lavrpack.ru/local/templates/phoenix_v1/images_cache/thumbs/25be6abf7364166c061b5b6c9b8982de.webp?v=1789963868 | P15: 9b927fc9-bb1c-11ec-bc66-00e01a6800eb
B16: 102968 | C16: Лента | D16: бронза | E16: простая 0,5см×500ярд | G16: 1 | H16: 231 | I16: 150 | J16: 16 | L16: =IF(K16>0,K16*I16,"") | N16: =IF(K16>0,COUNTIF($K$7:K16,">0"),"") | O16: https://www.test.lavrpack.ru/local/templates/phoenix_v1/images_cache/thumbs/235728cad088e8f867a08314e2d0ed4e.webp?v=1789946143 | P16: 88986f61-06da-11ee-90e0-00e01a6800eb
B17: 70335 | C17: Лента | D17: оранжевый | E17: простая 0,5см×500ярд | G17: 1 | H17: 231 | I17: 150 | J17: 67 | L17: =IF(K17>0,K17*I17,"") | N17: =IF(K17>0,COUNTIF($K$7:K17,">0"),"") | O17: https://www.test.lavrpack.ru/local/templates/phoenix_v1/images_cache/thumbs/d5fb75584119ebc3113f1ce89c4cbf31.webp?v=1789963856 | P17: 05b67ba1-bb1d-11ec-bc66-00e01a6800eb
B18: 102966 | C18: Лента | D18: вишня/лаванда | E18: простая 0,5см×500ярд | G18: 1 | H18: 231 | I18: 150 | J18: 159 | L18: =IF(K18>0,K18*I18,"") | N18: =IF(K18>0,COUNTIF($K$7:K18,">0"),"") | O18: https://www.test.lavrpack.ru/local/templates/phoenix_v1/images_cache/thumbs/9450658fe9932c961ff7e2e6dc75aeaf.webp?v=1789946144 | P18: 95525e18-06d8-11ee-90e0-00e01a6800eb
B19: 70322 | C19: Лента | D19: красный | E19: простая 0,5см×500ярд | G19: 1 | H19: 231 | I19: 150 | J19: 328 | L19: =IF(K19>0,K19*I19,"") | N19: =IF(K19>0,COUNTIF($K$7:K19,">0"),"") | O19: https://www.test.lavrpack.ru/local/templates/phoenix_v1/images_cache/thumbs/571414947c9342d321be8569de9a4dbc.webp?v=1789963864 | P19: 50e33eba-bb17-11ec-bc66-00e01a6800eb
... B72: 70402 | C72: Лента простая | D72: красный на розовом | E72: Горошек, 2см×50ярд | G72: 1 | H72: 99 | I72: 66 | J72: 63 | L72: =IF(K72>0,K72*I72,"") | N72: =IF(K72>0,COUNTIF($K$7:K72,">0"),"") | O72: https://www.test.lavrpack.ru/local/templates/phoenix_v1/images_cache/thumbs/730d6d276159be3caad275997ecfae58.webp?v=1789963871 | P72: d661b152-bbbb-11ec-bc66-00e01a6800eb
B73: 113527 | C73: Лента простая | D73: красный на белом | E73: Сердца итальянские, 2см×50ярд | G73: 1 | H73: 110 | I73: 69 | J73: 74 | L73: =IF(K73>0,K73*I73,"") | N73: =IF(K73>0,COUNTIF($K$7:K73,">0"),"") | P73: 88afee9a-5e1b-11f0-ab47-22344d083d2c
B74: 70403 | C74: Лента простая | D74: красные на белом | E74: Сердца Польские, 2см×50ярд | G74: 1 | H74: 110 | I74: 69 | J74: 101 | L74: =IF(K74>0,K74*I74,"") | N74: =IF(K74>0,COUNTIF($K$7:K74,">0"),"") | O74: https://www.test.lavrpack.ru/local/templates/phoenix_v1/images_cache/thumbs/d753cd3988a88b5902f172b82cd3db40.webp?v=1789963873 | P74: ef9945db-bbbb-11ec-bc66-00e01a6800eb
B75: 70356 | C75: Лента простая | D75: на белом | E75: Сердца Польские, 3см×50ярд | G75: 1 | H75: 165 | I75: 104 | J75: 25 | L75: =IF(K75>0,K75*I75,"") | N75: =IF(K75>0,COUNTIF($K$7:K75,">0"),"") | O75: https://www.test.lavrpack.ru/local/templates/phoenix_v1/images_cache/thumbs/e5c3b6fceb624c465d754a38175f99cc.webp?v=1789963872 | P75: dbc821e7-bb22-11ec-bc66-00e01a6800eb
B76: 111480 | C76: Лента простая | D76: ярко-розовая | E76: тиснение дерево 3см×50ярд | G76: 1 | H76: 165 | I76: 104 | J76: 127 | L76: =IF(K76>0,K76*I76,"") | N76: =IF(K76>0,COUNTIF($K$7:K76,">0"),"") | O76: https://www.test.lavrpack.ru/local/templates/phoenix_v1/images_cache/thumbs/8380822187772105a6e2e694fccfbe26.webp?v=1789946142 | P76: 3e82bdd2-ef7a-11ef-ab3d-22344d083d2c
B77: 105207 | C77: Лента простая | D77: Серо-зеленый (L30) | E77: 1,8см×50м, | G77: 1 | H77: 28 | I77: 28 | J77: 8724 | L77: =IF(K77>0,K77*I77,"") | N77: =IF(K77>0,COUNTIF($K$7:K77,">0"),"") | O77: https://www.test.lavrpack.ru/local/templates/phoenix_v1/images_cache/thumbs/ac4d974af3981d132b45bf757c722c46.webp?v=1789911444 | P77: 1294861b-903c-11ee-a8ad-00e01a6800eb#d6cbb1e9-903d-11ee-a8ad-00e01a6800eb
B78: 105207 | C78: Лента простая | D78: Персиковый (L12) | E78: 1,8см×50м, | G78: 1 | H78: 28 | I78: 28 | J78: 8623 | L78: =IF(K78>0,K78*I78,"") | N78: =IF(K78>0,COUNTIF($K$7:K78,">0"),"") | O78: https://www.test.lavrpack.ru/local/templates/phoenix_v1/images_cache/thumbs/24f35d87b387883c7ea70eeb98cb7343.webp?v=1789911444 | P78: 1294861b-903c-11ee-a8ad-00e01a6800eb#a278d4cb-903c-11ee-a8ad-00e01a6800eb
B79: 105207 | C79: Лента простая | D79: Голубой (L51) | E79: 1,8см×50м, | G79: 1 | H79: 28 | I79: 28 | J79: 10555 | L79: =IF(K79>0,K79*I79,"") | N79: =IF(K79>0,COUNTIF($K$7:K79,">0"),"") | O79: https://www.test.lavrpack.ru/local/templates/phoenix_v1/images_cache/thumbs/f55b9ff36eb5cded32cb24934521852e.webp?v=1789911444 | P79: 1294861b-903c-11ee-a8ad-00e01a6800eb#7fad778a-903c-11ee-a8ad-00e01a6800eb
B80: 105207 | C80: Лента простая | D80: Черный (L70) | E80: 1,8см×50м, | G80: 1 | H80: 28 | I80: 28 | J80: 2039 | L80: =IF(K80>0,K80*I80,"") | N80: =IF(K80>0,COUNTIF($K$7:K80,">0"),"") | O80: https://www.test.lavrpack.ru/local/templates/phoenix_v1/images_cache/thumbs/d11d58457c9b9c6e975c2e952ba0a5b8.webp?v=1789911444 | P80: 1294861b-903c-11ee-a8ad-00e01a6800eb#32427660-903c-11ee-a8ad-00e01a6800eb
B81: 105207 | C81: Лента простая | D81: Алый (L01) | E81: 1,8см×50м, | G81: 1 | H81: 28 | I81: 28 | J81: 7369 | L81: =IF(K81>0,K81*I81,"") | N81: =IF(K81>0,COUNTIF($K$7:K81,">0"),"") | O81: https://www.test.lavrpack.ru/local/templates/phoenix_v1/images_cache/thumbs/a5a725e9caed0cd3e7e9ba97a57f7156.webp?v=1789911444 | P81: 1294861b-903c-11ee-a8ad-00e01a6800eb#dd4df538-903d-11ee-a8ad-00e01a6800eb
B82: 105207 | C82: Лента простая | D82: Зеленый (L34) | E82: 1,8см×50м, | G82: 1 | H82: 28 | I82: 28 | J82: 4937 | L82: =IF(K82>0,K82*I82,"") | N82: =IF(K82>0,COUNTIF($K$7:K82,">0"),"") | O82: https://www.test.lavrpack.ru/local/templates/phoenix_v1/images_cache/thumbs/6a3f370180aaba20872f846368b250a9.webp?v=1789911444 | P82: 1294861b-903c-11ee-a8ad-00e01a6800eb#79645550-903c-11ee-a8ad-00e01a6800eb
B83: 105207 | C83: Лента простая | D83: Желтый (L21) | E83: 1,8см×50м, | G83: 1 | H83: 28 | I83: 28 | J83: 2060 | L83: =IF(K83>0,K83*I83,"") | N83: =IF(K83>0,COUNTIF($K$7:K83,">0"),"") | O83: https://www.test.lavrpack.ru/local/templates/phoenix_v1/images_cache/thumbs/051ea07ecc76a657204f42b60f69b0af.webp?v=1789911444 | P83: 1294861b-903c-11ee-a8ad-00e01a6800eb#a87f508b-903c-11ee-a8ad-00e01a6800eb
B84: 105207 | C84: Лента простая | D84: Жемчужный (L24) | E84: 1,8см×50м, | G84: 1 | H84: 28 | I84: 28 | J84: 5449 | L84: =IF(K84>0,K84*I84,"") | N84: =IF(K84>0,COUNTIF($K$7:K84,">0"),"") | O84: https://www.test.lavrpack.ru/local/templates/phoenix_v1/images_cache/thumbs/72311b4256125e2d99d60485c83765cb.webp?v=1789911444 | P84: 1294861b-903c-11ee-a8ad-00e01a6800eb#d9126523-903c-11ee-a8ad-00e01a6800eb
B85: 105207 | C85: Лента простая | D85: Бежевый (L23) | E85: 1,8см×50м, | G85: 1 | H85: 28 | I85: 28 | J85: 9432 | L85: =IF(K85>0,K85*I85,"") | N85: =IF(K85>0,COUNTIF($K$7:K85,">0"),"") | O85: https://www.test.lavrpack.ru/local/templates/phoenix_v1/images_cache/thumbs/f625430cee4b35133ce73ae2853dbc87.webp?v=1789911444 | P85: 1294861b-903c-11ee-a8ad-00e01a6800eb#c43e5b3d-903c-11ee-a8ad-00e01a6800eb
... B128: 70361 | C128: Лента с з/п | D128: зеленый | E128: 0,5см×250ярд | G128: 1 | H128: 242 | I128: 158 | J128: 23 | L128: =IF(K128>0,K128*I128,"") | N128: =IF(K128>0,COUNTIF($K$7:K128,">0"),"") | O128: https://www.test.lavrpack.ru/local/templates/phoenix_v1/images_cache/thumbs/e02d25c08c01d107782d8d58bb09c12a.webp?v=1789963867 | P128: 7ab3276a-bb23-11ec-bc66-00e01a6800eb
B129: 104050 | C129: Лента с з/п | D129: Звезды белый | E129: 0,5см×250ярд | G129: 1 | H129: 242 | I129: 158 | J129: 41 | L129: =IF(K129>0,K129*I129,"") | N129: =IF(K129>0,COUNTIF($K$7:K129,">0"),"") | P129: d281eda7-532a-11ee-bc2f-00e01a6800eb
B130: 70364 | C130: Лента с з/п | D130: черный | E130: 0,5см×250ярд | G130: 1 | H130: 242 | I130: 158 | J130: 128 | L130: =IF(K130>0,K130*I130,"") | N130: =IF(K130>0,COUNTIF($K$7:K130,">0"),"") | O130: https://www.test.lavrpack.ru/local/templates/phoenix_v1/images_cache/thumbs/e4deeb58608169fd51839cc8de92fdfd.webp?v=1789963862 | P130: 46415f8e-bb24-11ec-bc66-00e01a6800eb
B131: 70665 | C131: Лента с з/п | D131: голубой | E131: 0,5см×250ярд | G131: 1 | H131: 242 | I131: 158 | J131: 41 | L131: =IF(K131>0,K131*I131,"") | N131: =IF(K131>0,COUNTIF($K$7:K131,">0"),"") | O131: https://www.test.lavrpack.ru/local/templates/phoenix_v1/images_cache/thumbs/d567cfe5333dd9beade32161f7b597dc.webp?v=1789963872 | P131: eabfa9dc-c537-11ec-bc66-00e01a6800eb
B132: 70357 | C132: Лента с з/п | D132: ярко-розовая | E132: 0,5см×250ярд | G132: 1 | H132: 242 | I132: 158 | J132: 214 | L132: =IF(K132>0,K132*I132,"") | N132: =IF(K132>0,COUNTIF($K$7:K132,">0"),"") | O132: https://www.test.lavrpack.ru/local/templates/phoenix_v1/images_cache/thumbs/fc51c127a301a11cf7a9e8becf31788f.webp?v=1789963874 | P132: ff46a694-bb22-11ec-bc66-00e01a6800eb
B133: 70359 | C133: Лента с з/п | D133: синий | E133: 0,5см×250ярд | G133: 1 | H133: 242 | I133: 158 | J133: 19 | L133: =IF(K133>0,K133*I133,"") | N133: =IF(K133>0,COUNTIF($K$7:K133,">0"),"") | O133: https://www.test.lavrpack.ru/local/templates/phoenix_v1/images_cache/thumbs/0c7f043cfdea560abf357c1e130fa866.webp?v=1789963858 | P133: 20071268-bb23-11ec-bc66-00e01a6800eb
B134: 70363 | C134: Лента с з/п | D134: вишневый | E134: 0,5см×250ярд | G134: 1 | H134: 242 | I134: 158 | J134: 64 | L134: =IF(K134>0,K134*I134,"") | N134: =IF(K134>0,COUNTIF($K$7:K134,">0"),"") | O134: https://www.test.lavrpack.ru/local/templates/phoenix_v1/images_cache/thumbs/a519d878ce9c5b14e20fe0bd1ba0cd82.webp?v=1789963860 | P134: 2a34544a-bb24-11ec-bc66-00e01a6800eb
...

Sheet Ваш заказ
A1: · Ваш заказ
A2: Здесь автоматически отображаются только позиции, в которых на листе «Прайс и заказ» указано количество. Лист обновляется сам — ничего копировать не нужно.
A3: Компания | B3: =IF('Прайс и заказ'!B2="","",'Прайс и заказ'!B2) | C3: Телефон | D3: =IF('Прайс и заказ'!B4="","",'Прайс и заказ'!B4) | E3: Город | F3: =IF('Прайс и заказ'!B5="","",'Прайс и заказ'!B5)
A4: Контактное лицо | B4: =IF('Прайс и заказ'!B3="","",'Прайс и заказ'!B3) | C4: Комментарий | D4: =IF('Прайс и заказ'!E2="","",'Прайс и заказ'!E2)
A5: Дата прайса | B5: =IF('Прайс и заказ'!E3="","",'Прайс и заказ'!E3) | C5: Категория | D5: =IF('Прайс и заказ'!E4="","",'Прайс и заказ'!E4)
A6: Итого позиций | C6: ='Прайс и заказ'!K437 | D6: Общее количество | F6: ='Прайс и заказ'!K438 | G6: Сумма заказа | I6: ='Прайс и заказ'!K439
A8: Фото | B8: Артикул | C8: Товар | D8: Цвет / вариант | E8: Ед. | F8: Цена опт, с НДС | G8: Заказать | H8: Сумма | I8: Комментарий | J8: служебная
A9: =IF($J9=0,"",IFERROR(_xlfn.IMAGE(INDEX('Прайс и заказ'!$O:$O,$J9)),"")) | B9: =IF($J9=0,"",IF(INDEX('Прайс и заказ'!B:B,$J9)="","",INDEX('Прайс и заказ'!B:B,$J9))) | C9: =IF($J9=0,"",IF(INDEX('Прайс и заказ'!C:C,$J9)="","",INDEX('Прайс и заказ'!C:C,$J9))) | D9: =IF($J9=0,"",IF(INDEX('Прайс и заказ'!D:D,$J9)="","",INDEX('Прайс и заказ'!D:D,$J9))) | E9: =IF($J9=0,"",IF(INDEX('Прайс и заказ'!F:F,$J9)="","",INDEX('Прайс и заказ'!F:F,$J9))) | F9: =IF($J9=0,"",IF(INDEX('Прайс и заказ'!I:I,$J9)="","",INDEX('Прайс и заказ'!I:I,$J9))) | G9: =IF($J9=0,"",IF(INDEX('Прайс и заказ'!K:K,$J9)="","",INDEX('Прайс и заказ'!K:K,$J9))) | H9: =IF($J9=0,"",IF(INDEX('Прайс и заказ'!L:L,$J9)="","",INDEX('Прайс и заказ'!L:L,$J9))) | I9: =IF($J9=0,"",IF(INDEX('Прайс и заказ'!M:M,$J9)="","",INDEX('Прайс и заказ'!M:M,$J9))) | J9: =IFERROR(MATCH(1,'Прайс и заказ'!$N$7:$N$435,0)+6,0) | K9: =IF($J9=0,"← Пока ничего не выбрано — заполните колонку «Заказать» на листе «Прайс и заказ»","")
A10: =IF($J10=0,"",IFERROR(_xlfn.IMAGE(INDEX('Прайс и заказ'!$O:$O,$J10)),"")) | B10: =IF($J10=0,"",IF(INDEX('Прайс и заказ'!B:B,$J10)="","",INDEX('Прайс и заказ'!B:B,$J10))) | C10: =IF($J10=0,"",IF(INDEX('Прайс и заказ'!C:C,$J10)="","",INDEX('Прайс и заказ'!C:C,$J10))) | D10: =IF($J10=0,"",IF(INDEX('Прайс и заказ'!D:D,$J10)="","",INDEX('Прайс и заказ'!D:D,$J10))) | E10: =IF($J10=0,"",IF(INDEX('Прайс и заказ'!F:F,$J10)="","",INDEX('Прайс и заказ'!F:F,$J10))) | F10: =IF($J10=0,"",IF(INDEX('Прайс и заказ'!I:I,$J10)="","",INDEX('Прайс и заказ'!I:I,$J10))) | G10: =IF($J10=0,"",IF(INDEX('Прайс и заказ'!K:K,$J10)="","",INDEX('Прайс и заказ'!K:K,$J10))) | H10: =IF($J10=0,"",IF(INDEX('Прайс и заказ'!L:L,$J10)="","",INDEX('Прайс и заказ'!L:L,$J10))) | I10: =IF($J10=0,"",IF(INDEX('Прайс и заказ'!M:M,$J10)="","",INDEX('Прайс и заказ'!M:M,$J10))) | J10: =IFERROR(MATCH(2,'Прайс и заказ'!$N$7:$N$435,0)+6,0)
A11: =IF($J11=0,"",IFERROR(_xlfn.IMAGE(INDEX('Прайс и заказ'!$O:$O,$J11)),"")) | B11: =IF($J11=0,"",IF(INDEX('Прайс и заказ'!B:B,$J11)="","",INDEX('Прайс и заказ'!B:B,$J11))) | C11: =IF($J11=0,"",IF(INDEX('Прайс и заказ'!C:C,$J11)="","",INDEX('Прайс и заказ'!C:C,$J11))) | D11: =IF($J11=0,"",IF(INDEX('Прайс и заказ'!D:D,$J11)="","",INDEX('Прайс и заказ'!D:D,$J11))) | E11: =IF($J11=0,"",IF(INDEX('Прайс и заказ'!F:F,$J11)="","",INDEX('Прайс и заказ'!F:F,$J11))) | F11: =IF($J11=0,"",IF(INDEX('Прайс и заказ'!I:I,$J11)="","",INDEX('Прайс и заказ'!I:I,$J11))) | G11: =IF($J11=0,"",IF(INDEX('Прайс и заказ'!K:K,$J11)="","",INDEX('Прайс и заказ'!K:K,$J11))) | H11: =IF($J11=0,"",IF(INDEX('Прайс и заказ'!L:L,$J11)="","",INDEX('Прайс и заказ'!L:L,$J11))) | I11: =IF($J11=0,"",IF(INDEX('Прайс и заказ'!M:M,$J11)="","",INDEX('Прайс и заказ'!M:M,$J11))) | J11: =IFERROR(MATCH(3,'Прайс и заказ'!$N$7:$N$435,0)+6,0)
A12: =IF($J12=0,"",IFERROR(_xlfn.IMAGE(INDEX('Прайс и заказ'!$O:$O,$J12)),"")) | B12: =IF($J12=0,"",IF(INDEX('Прайс и заказ'!B:B,$J12)="","",INDEX('Прайс и заказ'!B:B,$J12))) | C12: =IF($J12=0,"",IF(INDEX('Прайс и заказ'!C:C,$J12)="","",INDEX('Прайс и заказ'!C:C,$J12))) | D12: =IF($J12=0,"",IF(INDEX('Прайс и заказ'!D:D,$J12)="","",INDEX('Прайс и заказ'!D:D,$J12))) | E12: =IF($J12=0,"",IF(INDEX('Прайс и заказ'!F:F,$J12)="","",INDEX('Прайс и заказ'!F:F,$J12))) | F12: =IF($J12=0,"",IF(INDEX('Прайс и заказ'!I:I,$J12)="","",INDEX('Прайс и заказ'!I:I,$J12))) | G12: =IF($J12=0,"",IF(INDEX('Прайс и заказ'!K:K,$J12)="","",INDEX('Прайс и заказ'!K:K,$J12))) | H12: =IF($J12=0,"",IF(INDEX('Прайс и заказ'!L:L,$J12)="","",INDEX('Прайс и заказ'!L:L,$J12))) | I12: =IF($J12=0,"",IF(INDEX('Прайс и заказ'!M:M,$J12)="","",INDEX('Прайс и заказ'!M:M,$J12))) | J12: =IFERROR(MATCH(4,'Прайс и заказ'!$N$7:$N$435,0)+6,0)
A13: =IF($J13=0,"",IFERROR(_xlfn.IMAGE(INDEX('Прайс и заказ'!$O:$O,$J13)),"")) | B13: =IF($J13=0,"",IF(INDEX('Прайс и заказ'!B:B,$J13)="","",INDEX('Прайс и заказ'!B:B,$J13))) | C13: =IF($J13=0,"",IF(INDEX('Прайс и заказ'!C:C,$J13)="","",INDEX('Прайс и заказ'!C:C,$J13))) | D13: =IF($J13=0,"",IF(INDEX('Прайс и заказ'!D:D,$J13)="","",INDEX('Прайс и заказ'!D:D,$J13))) | E13: =IF($J13=0,"",IF(INDEX('Прайс и заказ'!F:F,$J13)="","",INDEX('Прайс и заказ'!F:F,$J13))) | F13: =IF($J13=0,"",IF(INDEX('Прайс и заказ'!I:I,$J13)="","",INDEX('Прайс и заказ'!I:I,$J13))) | G13: =IF($J13=0,"",IF(INDEX('Прайс и заказ'!K:K,$J13)="","",INDEX('Прайс и заказ'!K:K,$J13))) | H13: =IF($J13=0,"",IF(INDEX('Прайс и заказ'!L:L,$J13)="","",INDEX('Прайс и заказ'!L:L,$J13))) | I13: =IF($J13=0,"",IF(INDEX('Прайс и заказ'!M:M,$J13)="","",INDEX('Прайс и заказ'!M:M,$J13))) | J13: =IFERROR(MATCH(5,'Прайс и заказ'!$N$7:$N$435,0)+6,0)
A14: =IF($J14=0,"",IFERROR(_xlfn.IMAGE(INDEX('Прайс и заказ'!$O:$O,$J14)),"")) | B14: =IF($J14=0,"",IF(INDEX('Прайс и заказ'!B:B,$J14)="","",INDEX('Прайс и заказ'!B:B,$J14))) | C14: =IF($J14=0,"",IF(INDEX('Прайс и заказ'!C:C,$J14)="","",INDEX('Прайс и заказ'!C:C,$J14))) | D14: =IF($J14=0,"",IF(INDEX('Прайс и заказ'!D:D,$J14)="","",INDEX('Прайс и заказ'!D:D,$J14))) | E14: =IF($J14=0,"",IF(INDEX('Прайс и заказ'!F:F,$J14)="","",INDEX('Прайс и заказ'!F:F,$J14))) | F14: =IF($J14=0,"",IF(INDEX('Прайс и заказ'!I:I,$J14)="","",INDEX('Прайс и заказ'!I:I,$J14))) | G14: =IF($J14=0,"",IF(INDEX('Прайс и заказ'!K:K,$J14)="","",INDEX('Прайс и заказ'!K:K,$J14))) | H14: =IF($J14=0,"",IF(INDEX('Прайс и заказ'!L:L,$J14)="","",INDEX('Прайс и заказ'!L:L,$J14))) | I14: =IF($J14=0,"",IF(INDEX('Прайс и заказ'!M:M,$J14)="","",INDEX('Прайс и заказ'!M:M,$J14))) | J14: =IFERROR(MATCH(6,'Прайс и заказ'!$N$7:$N$435,0)+6,0)
A15: =IF($J15=0,"",IFERROR(_xlfn.IMAGE(INDEX('Прайс и заказ'!$O:$O,$J15)),"")) | B15: =IF($J15=0,"",IF(INDEX('Прайс и заказ'!B:B,$J15)="","",INDEX('Прайс и заказ'!B:B,$J15))) | C15: =IF($J15=0,"",IF(INDEX('Прайс и заказ'!C:C,$J15)="","",INDEX('Прайс и заказ'!C:C,$J15))) | D15: =IF($J15=0,"",IF(INDEX('Прайс и заказ'!D:D,$J15)="","",INDEX('Прайс и заказ'!D:D,$J15))) | E15: =IF($J15=0,"",IF(INDEX('Прайс и заказ'!F:F,$J15)="","",INDEX('Прайс и заказ'!F:F,$J15))) | F15: =IF($J15=0,"",IF(INDEX('Прайс и заказ'!I:I,$J15)="","",INDEX('Прайс и заказ'!I:I,$J15))) | G15: =IF($J15=0,"",IF(INDEX('Прайс и заказ'!K:K,$J15)="","",INDEX('Прайс и заказ'!K:K,$J15))) | H15: =IF($J15=0,"",IF(INDEX('Прайс и заказ'!L:L,$J15)="","",INDEX('Прайс и заказ'!L:L,$J15))) | I15: =IF($J15=0,"",IF(INDEX('Прайс и заказ'!M:M,$J15)="","",INDEX('Прайс и заказ'!M:M,$J15))) | J15: =IFERROR(MATCH(7,'Прайс и заказ'!$N$7:$N$435,0)+6,0)
A16: =IF($J16=0,"",IFERROR(_xlfn.IMAGE(INDEX('Прайс и заказ'!$O:$O,$J16)),"")) | B16: =IF($J16=0,"",IF(INDEX('Прайс и заказ'!B:B,$J16)="","",INDEX('Прайс и заказ'!B:B,$J16))) | C16: =IF($J16=0,"",IF(INDEX('Прайс и заказ'!C:C,$J16)="","",INDEX('Прайс и заказ'!C:C,$J16))) | D16: =IF($J16=0,"",IF(INDEX('Прайс и заказ'!D:D,$J16)="","",INDEX('Прайс и заказ'!D:D,$J16))) | E16: =IF($J16=0,"",IF(INDEX('Прайс и заказ'!F:F,$J16)="","",INDEX('Прайс и заказ'!F:F,$J16))) | F16: =IF($J16=0,"",IF(INDEX('Прайс и заказ'!I:I,$J16)="","",INDEX('Прайс и заказ'!I:I,$J16))) | G16: =IF($J16=0,"",IF(INDEX('Прайс и заказ'!K:K,$J16)="","",INDEX('Прайс и заказ'!K:K,$J16))) | H16: =IF($J16=0,"",IF(INDEX('Прайс и заказ'!L:L,$J16)="","",INDEX('Прайс и заказ'!L:L,$J16))) | I16: =IF($J16=0,"",IF(INDEX('Прайс и заказ'!M:M,$J16)="","",INDEX('Прайс и заказ'!M:M,$J16))) | J16: =IFERROR(MATCH(8,'Прайс и заказ'!$N$7:$N$435,0)+6,0)
A17: =IF($J17=0,"",IFERROR(_xlfn.IMAGE(INDEX('Прайс и заказ'!$O:$O,$J17)),"")) | B17: =IF($J17=0,"",IF(INDEX('Прайс и заказ'!B:B,$J17)="","",INDEX('Прайс и заказ'!B:B,$J17))) | C17: =IF($J17=0,"",IF(INDEX('Прайс и заказ'!C:C,$J17)="","",INDEX('Прайс и заказ'!C:C,$J17))) | D17: =IF($J17=0,"",IF(INDEX('Прайс и заказ'!D:D,$J17)="","",INDEX('Прайс и заказ'!D:D,$J17))) | E17: =IF($J17=0,"",IF(INDEX('Прайс и заказ'!F:F,$J17)="","",INDEX('Прайс и заказ'!F:F,$J17))) | F17: =IF($J17=0,"",IF(INDEX('Прайс и заказ'!I:I,$J17)="","",INDEX('Прайс и заказ'!I:I,$J17))) | G17: =IF($J17=0,"",IF(INDEX('Прайс и заказ'!K:K,$J17)="","",INDEX('Прайс и заказ'!K:K,$J17))) | H17: =IF($J17=0,"",IF(INDEX('Прайс и заказ'!L:L,$J17)="","",INDEX('Прайс и заказ'!L:L,$J17))) | I17: =IF($J17=0,"",IF(INDEX('Прайс и заказ'!M:M,$J17)="","",INDEX('Прайс и заказ'!M:M,$J17))) | J17: =IFERROR(MATCH(9,'Прайс и заказ'!$N$7:$N$435,0)+6,0)
A18: =IF($J18=0,"",IFERROR(_xlfn.IMAGE(INDEX('Прайс и заказ'!$O:$O,$J18)),"")) | B18: =IF($J18=0,"",IF(INDEX('Прайс и заказ'!B:B,$J18)="","",INDEX('Прайс и заказ'!B:B,$J18))) | C18: =IF($J18=0,"",IF(INDEX('Прайс и заказ'!C:C,$J18)="","",INDEX('Прайс и заказ'!C:C,$J18))) | D18: =IF($J18=0,"",IF(INDEX('Прайс и заказ'!D:D,$J18)="","",INDEX('Прайс и заказ'!D:D,$J18))) | E18: =IF($J18=0,"",IF(INDEX('Прайс и заказ'!F:F,$J18)="","",INDEX('Прайс и заказ'!F:F,$J18))) | F18: =IF($J18=0,"",IF(INDEX('Прайс и заказ'!I:I,$J18)="","",INDEX('Прайс и заказ'!I:I,$J18))) | G18: =IF($J18=0,"",IF(INDEX('Прайс и заказ'!K:K,$J18)="","",INDEX('Прайс и заказ'!K:K,$J18))) | H18: =IF($J18=0,"",IF(INDEX('Прайс и заказ'!L:L,$J18)="","",INDEX('Прайс и заказ'!L:L,$J18))) | I18: =IF($J18=0,"",IF(INDEX('Прайс и заказ'!M:M,$J18)="","",INDEX('Прайс и заказ'!M:M,$J18))) | J18: =IFERROR(MATCH(10,'Прайс и заказ'!$N$7:$N$435,0)+6,0)
A19: =IF($J19=0,"",IFERROR(_xlfn.IMAGE(INDEX('Прайс и заказ'!$O:$O,$J19)),"")) | B19: =IF($J19=0,"",IF(INDEX('Прайс и заказ'!B:B,$J19)="","",INDEX('Прайс и заказ'!B:B,$J19))) | C19: =IF($J19=0,"",IF(INDEX('Прайс и заказ'!C:C,$J19)="","",INDEX('Прайс и заказ'!C:C,$J19))) | D19: =IF($J19=0,"",IF(INDEX('Прайс и заказ'!D:D,$J19)="","",INDEX('Прайс и заказ'!D:D,$J19))) | E19: =IF($J19=0,"",IF(INDEX('Прайс и заказ'!F:F,$J19)="","",INDEX('Прайс и заказ'!F:F,$J19))) | F19: =IF($J19=0,"",IF(INDEX('Прайс и заказ'!I:I,$J19)="","",INDEX('Прайс и заказ'!I:I,$J19))) | G19: =IF($J19=0,"",IF(INDEX('Прайс и заказ'!K:K,$J19)="","",INDEX('Прайс и заказ'!K:K,$J19))) | H19: =IF($J19=0,"",IF(INDEX('Прайс и заказ'!L:L,$J19)="","",INDEX('Прайс и заказ'!L:L,$J19))) | I19: =IF($J19=0,"",IF(INDEX('Прайс и заказ'!M:M,$J19)="","",INDEX('Прайс и заказ'!M:M,$J19))) | J19: =IFERROR(MATCH(11,'Прайс и заказ'!$N$7:$N$435,0)+6,0)
A20: =IF($J20=0,"",IFERROR(_xlfn.IMAGE(INDEX('Прайс и заказ'!$O:$O,$J20)),"")) | B20: =IF($J20=0,"",IF(INDEX('Прайс и заказ'!B:B,$J20)="","",INDEX('Прайс и заказ'!B:B,$J20))) | C20: =IF($J20=0,"",IF(INDEX('Прайс и заказ'!C:C,$J20)="","",INDEX('Прайс и заказ'!C:C,$J20))) | D20: =IF($J20=0,"",IF(INDEX('Прайс и заказ'!D:D,$J20)="","",INDEX('Прайс и заказ'!D:D,$J20))) | E20: =IF($J20=0,"",IF(INDEX('Прайс и заказ'!F:F,$J20)="","",INDEX('Прайс и заказ'!F:F,$J20))) | F20: =IF($J20=0,"",IF(INDEX('Прайс и заказ'!I:I,$J20)="","",INDEX('Прайс и заказ'!I:I,$J20))) | G20: =IF($J20=0,"",IF(INDEX('Прайс и заказ'!K:K,$J20)="","",INDEX('Прайс и заказ'!K:K,$J20))) | H20: =IF($J20=0,"",IF(INDEX('Прайс и заказ'!L:L,$J20)="","",INDEX('Прайс и заказ'!L:L,$J20))) | I20: =IF($J20=0,"",IF(INDEX('Прайс и заказ'!M:M,$J20)="","",INDEX('Прайс и заказ'!M:M,$J20))) | J20: =IFERROR(MATCH(12,'Прайс и заказ'!$N$7:$N$435,0)+6,0)
A21: =IF($J21=0,"",IFERROR(_xlfn.IMAGE(INDEX('Прайс и заказ'!$O:$O,$J21)),"")) | B21: =IF($J21=0,"",IF(INDEX('Прайс и заказ'!B:B,$J21)="","",INDEX('Прайс и заказ'!B:B,$J21))) | C21: =IF($J21=0,"",IF(INDEX('Прайс и заказ'!C:C,$J21)="","",INDEX('Прайс и заказ'!C:C,$J21))) | D21: =IF($J21=0,"",IF(INDEX('Прайс и заказ'!D:D,$J21)="","",INDEX('Прайс и заказ'!D:D,$J21))) | E21: =IF($J21=0,"",IF(INDEX('Прайс и заказ'!F:F,$J21)="","",INDEX('Прайс и заказ'!F:F,$J21))) | F21: =IF($J21=0,"",IF(INDEX('Прайс и заказ'!I:I,$J21)="","",INDEX('Прайс и заказ'!I:I,$J21))) | G21: =IF($J21=0,"",IF(INDEX('Прайс и заказ'!K:K,$J21)="","",INDEX('Прайс и заказ'!K:K,$J21))) | H21: =IF($J21=0,"",IF(INDEX('Прайс и заказ'!L:L,$J21)="","",INDEX('Прайс и заказ'!L:L,$J21))) | I21: =IF($J21=0,"",IF(INDEX('Прайс и заказ'!M:M,$J21)="","",INDEX('Прайс и заказ'!M:M,$J21))) | J21: =IFERROR(MATCH(13,'Прайс и заказ'!$N$7:$N$435,0)+6,0)
A22: =IF($J22=0,"",IFERROR(_xlfn.IMAGE(INDEX('Прайс и заказ'!$O:$O,$J22)),"")) | B22: =IF($J22=0,"",IF(INDEX('Прайс и заказ'!B:B,$J22)="","",INDEX('Прайс и заказ'!B:B,$J22))) | C22: =IF($J22=0,"",IF(INDEX('Прайс и заказ'!C:C,$J22)="","",INDEX('Прайс и заказ'!C:C,$J22))) | D22: =IF($J22=0,"",IF(INDEX('Прайс и заказ'!D:D,$J22)="","",INDEX('Прайс и заказ'!D:D,$J22))) | E22: =IF($J22=0,"",IF(INDEX('Прайс и заказ'!F:F,$J22)="","",INDEX('Прайс и заказ'!F:F,$J22))) | F22: =IF($J22=0,"",IF(INDEX('Прайс и заказ'!I:I,$J22)="","",INDEX('Прайс и заказ'!I:I,$J22))) | G22: =IF($J22=0,"",IF(INDEX('Прайс и заказ'!K:K,$J22)="","",INDEX('Прайс и заказ'!K:K,$J22))) | H22: =IF($J22=0,"",IF(INDEX('Прайс и заказ'!L:L,$J22)="","",INDEX('Прайс и заказ'!L:L,$J22))) | I22: =IF($J22=0,"",IF(INDEX('Прайс и заказ'!M:M,$J22)="","",INDEX('Прайс и заказ'!M:M,$J22))) | J22: =IFERROR(MATCH(14,'Прайс и заказ'!$N$7:$N$435,0)+6,0)
A23: =IF($J23=0,"",IFERROR(_xlfn.IMAGE(INDEX('Прайс и заказ'!$O:$O,$J23)),"")) | B23: =IF($J23=0,"",IF(INDEX('Прайс и заказ'!B:B,$J23)="","",INDEX('Прайс и заказ'!B:B,$J23))) | C23: =IF($J23=0,"",IF(INDEX('Прайс и заказ'!C:C,$J23)="","",INDEX('Прайс и заказ'!C:C,$J23))) | D23: =IF($J23=0,"",IF(INDEX('Прайс и заказ'!D:D,$J23)="","",INDEX('Прайс и заказ'!D:D,$J23))) | E23: =IF($J23=0,"",IF(INDEX('Прайс и заказ'!F:F,$J23)="","",INDEX('Прайс и заказ'!F:F,$J23))) | F23: =IF($J23=0,"",IF(INDEX('Прайс и заказ'!I:I,$J23)="","",INDEX('Прайс и заказ'!I:I,$J23))) | G23: =IF($J23=0,"",IF(INDEX('Прайс и заказ'!K:K,$J23)="","",INDEX('Прайс и заказ'!K:K,$J23))) | H23: =IF($J23=0,"",IF(INDEX('Прайс и заказ'!L:L,$J23)="","",INDEX('Прайс и заказ'!L:L,$J23))) | I23: =IF($J23=0,"",IF(INDEX('Прайс и заказ'!M:M,$J23)="","",INDEX('Прайс и заказ'!M:M,$J23))) | J23: =IFERROR(MATCH(15,'Прайс и заказ'!$N$7:$N$435,0)+6,0)
A24: =IF($J24=0,"",IFERROR(_xlfn.IMAGE(INDEX('Прайс и заказ'!$O:$O,$J24)),"")) | B24: =IF($J24=0,"",IF(INDEX('Прайс и заказ'!B:B,$J24)="","",INDEX('Прайс и заказ'!B:B,$J24))) | C24: =IF($J24=0,"",IF(INDEX('Прайс и заказ'!C:C,$J24)="","",INDEX('Прайс и заказ'!C:C,$J24))) | D24: =IF($J24=0,"",IF(INDEX('Прайс и заказ'!D:D,$J24)="","",INDEX('Прайс и заказ'!D:D,$J24))) | E24: =IF($J24=0,"",IF(INDEX('Прайс и заказ'!F:F,$J24)="","",INDEX('Прайс и заказ'!F:F,$J24))) | F24: =IF($J24=0,"",IF(INDEX('Прайс и заказ'!I:I,$J24)="","",INDEX('Прайс и заказ'!I:I,$J24))) | G24: =IF($J24=0,"",IF(INDEX('Прайс и заказ'!K:K,$J24)="","",INDEX('Прайс и заказ'!K:K,$J24))) | H24: =IF($J24=0,"",IF(INDEX('Прайс и заказ'!L:L,$J24)="","",INDEX('Прайс и заказ'!L:L,$J24))) | I24: =IF($J24=0,"",IF(INDEX('Прайс и заказ'!M:M,$J24)="","",INDEX('Прайс и заказ'!M:M,$J24))) | J24: =IFERROR(MATCH(16,'Прайс и заказ'!$N$7:$N$435,0)+6,0)
A25: =IF($J25=0,"",IFERROR(_xlfn.IMAGE(INDEX('Прайс и заказ'!$O:$O,$J25)),"")) | B25: =IF($J25=0,"",IF(INDEX('Прайс и заказ'!B:B,$J25)="","",INDEX('Прайс и заказ'!B:B,$J25))) | C25: =IF($J25=0,"",IF(INDEX('Прайс и заказ'!C:C,$J25)="","",INDEX('Прайс и заказ'!C:C,$J25))) | D25: =IF($J25=0,"",IF(INDEX('Прайс и заказ'!D:D,$J25)="","",INDEX('Прайс и заказ'!D:D,$J25))) | E25: =IF($J25=0,"",IF(INDEX('Прайс и заказ'!F:F,$J25)="","",INDEX('Прайс и заказ'!F:F,$J25))) | F25: =IF($J25=0,"",IF(INDEX('Прайс и заказ'!I:I,$J25)="","",INDEX('Прайс и заказ'!I:I,$J25))) | G25: =IF($J25=0,"",IF(INDEX('Прайс и заказ'!K:K,$J25)="","",INDEX('Прайс и заказ'!K:K,$J25))) | H25: =IF($J25=0,"",IF(INDEX('Прайс и заказ'!L:L,$J25)="","",INDEX('Прайс и заказ'!L:L,$J25))) | I25: =IF($J25=0,"",IF(INDEX('Прайс и заказ'!M:M,$J25)="","",INDEX('Прайс и заказ'!M:M,$J25))) | J25: =IFERROR(MATCH(17,'Прайс и заказ'!$N$7:$N$435,0)+6,0)
A26: =IF($J26=0,"",IFERROR(_xlfn.IMAGE(INDEX('Прайс и заказ'!$O:$O,$J26)),"")) | B26: =IF($J26=0,"",IF(INDEX('Прайс и заказ'!B:B,$J26)="","",INDEX('Прайс и заказ'!B:B,$J26))) | C26: =IF($J26=0,"",IF(INDEX('Прайс и заказ'!C:C,$J26)="","",INDEX('Прайс и заказ'!C:C,$J26))) | D26: =IF($J26=0,"",IF(INDEX('Прайс и заказ'!D:D,$J26)="","",INDEX('Прайс и заказ'!D:D,$J26))) | E26: =IF($J26=0,"",IF(INDEX('Прайс и заказ'!F:F,$J26)="","",INDEX('Прайс и заказ'!F:F,$J26))) | F26: =IF($J26=0,"",IF(INDEX('Прайс и заказ'!I:I,$J26)="","",INDEX('Прайс и заказ'!I:I,$J26))) | G26: =IF($J26=0,"",IF(INDEX('Прайс и заказ'!K:K,$J26)="","",INDEX('Прайс и заказ'!K:K,$J26))) | H26: =IF($J26=0,"",IF(INDEX('Прайс и заказ'!L:L,$J26)="","",INDEX('Прайс и заказ'!L:L,$J26))) | I26: =IF($J26=0,"",IF(INDEX('Прайс и заказ'!M:M,$J26)="","",INDEX('Прайс и заказ'!M:M,$J26))) | J26: =IFERROR(MATCH(18,'Прайс и заказ'!$N$7:$N$435,0)+6,0)
A27: =IF($J27=0,"",IFERROR(_xlfn.IMAGE(INDEX('Прайс и заказ'!$O:$O,$J27)),"")) | B27: =IF($J27=0,"",IF(INDEX('Прайс и заказ'!B:B,$J27)="","",INDEX('Прайс и заказ'!B:B,$J27))) | C27: =IF($J27=0,"",IF(INDEX('Прайс и заказ'!C:C,$J27)="","",INDEX('Прайс и заказ'!C:C,$J27))) | D27: =IF($J27=0,"",IF(INDEX('Прайс и заказ'!D:D,$J27)="","",INDEX('Прайс и заказ'!D:D,$J27))) | E27: =IF($J27=0,"",IF(INDEX('Прайс и заказ'!F:F,$J27)="","",INDEX('Прайс и заказ'!F:F,$J27))) | F27: =IF($J27=0,"",IF(INDEX('Прайс и заказ'!I:I,$J27)="","",INDEX('Прайс и заказ'!I:I,$J27))) | G27: =IF($J27=0,"",IF(INDEX('Прайс и заказ'!K:K,$J27)="","",INDEX('Прайс и заказ'!K:K,$J27))) | H27: =IF($J27=0,"",IF(INDEX('Прайс и заказ'!L:L,$J27)="","",INDEX('Прайс и заказ'!L:L,$J27))) | I27: =IF($J27=0,"",IF(INDEX('Прайс и заказ'!M:M,$J27)="","",INDEX('Прайс и заказ'!M:M,$J27))) | J27: =IFERROR(MATCH(19,'Прайс и заказ'!$N$7:$N$435,0)+6,0)
A28: =IF($J28=0,"",IFERROR(_xlfn.IMAGE(INDEX('Прайс и заказ'!$O:$O,$J28)),"")) | B28: =IF($J28=0,"",IF(INDEX('Прайс и заказ'!B:B,$J28)="","",INDEX('Прайс и заказ'!B:B,$J28))) | C28: =IF($J28=0,"",IF(INDEX('Прайс и заказ'!C:C,$J28)="","",INDEX('Прайс и заказ'!C:C,$J28))) | D28: =IF($J28=0,"",IF(INDEX('Прайс и заказ'!D:D,$J28)="","",INDEX('Прайс и заказ'!D:D,$J28))) | E28: =IF($J28=0,"",IF(INDEX('Прайс и заказ'!F:F,$J28)="","",INDEX('Прайс и заказ'!F:F,$J28))) | F28: =IF($J28=0,"",IF(INDEX('Прайс и заказ'!I:I,$J28)="","",INDEX('Прайс и заказ'!I:I,$J28))) | G28: =IF($J28=0,"",IF(INDEX('Прайс и заказ'!K:K,$J28)="","",INDEX('Прайс и заказ'!K:K,$J28))) | H28: =IF($J28=0,"",IF(INDEX('Прайс и заказ'!L:L,$J28)="","",INDEX('Прайс и заказ'!L:L,$J28))) | I28: =IF($J28=0,"",IF(INDEX('Прайс и заказ'!M:M,$J28)="","",INDEX('Прайс и заказ'!M:M,$J28))) | J28: =IFERROR(MATCH(20,'Прайс и заказ'!$N$7:$N$435,0)+6,0)
A29: =IF($J29=0,"",IFERROR(_xlfn.IMAGE(INDEX('Прайс и заказ'!$O:$O,$J29)),"")) | B29: =IF($J29=0,"",IF(INDEX('Прайс и заказ'!B:B,$J29)="","",INDEX('Прайс и заказ'!B:B,$J29))) | C29: =IF($J29=0,"",IF(INDEX('Прайс и заказ'!C:C,$J29)="","",INDEX('Прайс и заказ'!C:C,$J29))) | D29: =IF($J29=0,"",IF(INDEX('Прайс и заказ'!D:D,$J29)="","",INDEX('Прайс и заказ'!D:D,$J29))) | E29: =IF($J29=0,"",IF(INDEX('Прайс и заказ'!F:F,$J29)="","",INDEX('Прайс и заказ'!F:F,$J29))) | F29: =IF($J29=0,"",IF(INDEX('Прайс и заказ'!I:I,$J29)="","",INDEX('Прайс и заказ'!I:I,$J29))) | G29: =IF($J29=0,"",IF(INDEX('Прайс и заказ'!K:K,$J29)="","",INDEX('Прайс и заказ'!K:K,$J29))) | H29: =IF($J29=0,"",IF(INDEX('Прайс и заказ'!L:L,$J29)="","",INDEX('Прайс и заказ'!L:L,$J29))) | I29: =IF($J29=0,"",IF(INDEX('Прайс и заказ'!M:M,$J29)="","",INDEX('Прайс и заказ'!M:M,$J29))) | J29: =IFERROR(MATCH(21,'Прайс и заказ'!$N$7:$N$435,0)+6,0)
A30: =IF($J30=0,"",IFERROR(_xlfn.IMAGE(INDEX('Прайс и заказ'!$O:$O,$J30)),"")) | B30: =IF($J30=0,"",IF(INDEX('Прайс и заказ'!B:B,$J30)="","",INDEX('Прайс и заказ'!B:B,$J30))) | C30: =IF($J30=0,"",IF(INDEX('Прайс и заказ'!C:C,$J30)="","",INDEX('Прайс и заказ'!C:C,$J30))) | D30: =IF($J30=0,"",IF(INDEX('Прайс и заказ'!D:D,$J30)="","",INDEX('Прайс и заказ'!D:D,$J30))) | E30: =IF($J30=0,"",IF(INDEX('Прайс и заказ'!F:F,$J30)="","",INDEX('Прайс и заказ'!F:F,$J30))) | F30: =IF($J30=0,"",IF(INDEX('Прайс и заказ'!I:I,$J30)="","",INDEX('Прайс и заказ'!I:I,$J30))) | G30: =IF($J30=0,"",IF(INDEX('Прайс и заказ'!K:K,$J30)="","",INDEX('Прайс и заказ'!K:K,$J30))) | H30: =IF($J30=0,"",IF(INDEX('Прайс и заказ'!L:L,$J30)="","",INDEX('Прайс и заказ'!L:L,$J30))) | I30: =IF($J30=0,"",IF(INDEX('Прайс и заказ'!M:M,$J30)="","",INDEX('Прайс и заказ'!M:M,$J30))) | J30: =IFERROR(MATCH(22,'Прайс и заказ'!$N$7:$N$435,0)+6,0)
A31: =IF($J31=0,"",IFERROR(_xlfn.IMAGE(INDEX('Прайс и заказ'!$O:$O,$J31)),"")) | B31: =IF($J31=0,"",IF(INDEX('Прайс и заказ'!B:B,$J31)="","",INDEX('Прайс и заказ'!B:B,$J31))) | C31: =IF($J31=0,"",IF(INDEX('Прайс и заказ'!C:C,$J31)="","",INDEX('Прайс и заказ'!C:C,$J31))) | D31: =IF($J31=0,"",IF(INDEX('Прайс и заказ'!D:D,$J31)="","",INDEX('Прайс и заказ'!D:D,$J31))) | E31: =IF($J31=0,"",IF(INDEX('Прайс и заказ'!F:F,$J31)="","",INDEX('Прайс и заказ'!F:F,$J31))) | F31: =IF($J31=0,"",IF(INDEX('Прайс и заказ'!I:I,$J31)="","",INDEX('Прайс и заказ'!I:I,$J31))) | G31: =IF($J31=0,"",IF(INDEX('Прайс и заказ'!K:K,$J31)="","",INDEX('Прайс и заказ'!K:K,$J31))) | H31: =IF($J31=0,"",IF(INDEX('Прайс и заказ'!L:L,$J31)="","",INDEX('Прайс и заказ'!L:L,$J31))) | I31: =IF($J31=0,"",IF(INDEX('Прайс и заказ'!M:M,$J31)="","",INDEX('Прайс и заказ'!M:M,$J31))) | J31: =IFERROR(MATCH(23,'Прайс и заказ'!$N$7:$N$435,0)+6,0)
A32: =IF($J32=0,"",IFERROR(_xlfn.IMAGE(INDEX('Прайс и заказ'!$O:$O,$J32)),"")) | B32: =IF($J32=0,"",IF(INDEX('Прайс и заказ'!B:B,$J32)="","",INDEX('Прайс и заказ'!B:B,$J32))) | C32: =IF($J32=0,"",IF(INDEX('Прайс и заказ'!C:C,$J32)="","",INDEX('Прайс и заказ'!C:C,$J32))) | D32: =IF($J32=0,"",IF(INDEX('Прайс и заказ'!D:D,$J32)="","",INDEX('Прайс и заказ'!D:D,$J32))) | E32: =IF($J32=0,"",IF(INDEX('Прайс и заказ'!F:F,$J32)="","",INDEX('Прайс и заказ'!F:F,$J32))) | F32: =IF($J32=0,"",IF(INDEX('Прайс и заказ'!I:I,$J32)="","",INDEX('Прайс и заказ'!I:I,$J32))) | G32: =IF($J32=0,"",IF(INDEX('Прайс и заказ'!K:K,$J32)="","",INDEX('Прайс и заказ'!K:K,$J32))) | H32: =IF($J32=0,"",IF(INDEX('Прайс и заказ'!L:L,$J32)="","",INDEX('Прайс и заказ'!L:L,$J32))) | I32: =IF($J32=0,"",IF(INDEX('Прайс и заказ'!M:M,$J32)="","",INDEX('Прайс и заказ'!M:M,$J32))) | J32: =IFERROR(MATCH(24,'Прайс и заказ'!$N$7:$N$435,0)+6,0)
A33: =IF($J33=0,"",IFERROR(_xlfn.IMAGE(INDEX('Прайс и заказ'!$O:$O,$J33)),"")) | B33: =IF($J33=0,"",IF(INDEX('Прайс и заказ'!B:B,$J33)="","",INDEX('Прайс и заказ'!B:B,$J33))) | C33: =IF($J33=0,"",IF(INDEX('Прайс и заказ'!C:C,$J33)="","",INDEX('Прайс и заказ'!C:C,$J33))) | D33: =IF($J33=0,"",IF(INDEX('Прайс и заказ'!D:D,$J33)="","",INDEX('Прайс и заказ'!D:D,$J33))) | E33: =IF($J33=0,"",IF(INDEX('Прайс и заказ'!F:F,$J33)="","",INDEX('Прайс и заказ'!F:F,$J33))) | F33: =IF($J33=0,"",IF(INDEX('Прайс и заказ'!I:I,$J33)="","",INDEX('Прайс и заказ'!I:I,$J33))) | G33: =IF($J33=0,"",IF(INDEX('Прайс и заказ'!K:K,$J33)="","",INDEX('Прайс и заказ'!K:K,$J33))) | H33: =IF($J33=0,"",IF(INDEX('Прайс и заказ'!L:L,$J33)="","",INDEX('Прайс и заказ'!L:L,$J33))) | I33: =IF($J33=0,"",IF(INDEX('Прайс и заказ'!M:M,$J33)="","",INDEX('Прайс и заказ'!M:M,$J33))) | J33: =IFERROR(MATCH(25,'Прайс и заказ'!$N$7:$N$435,0)+6,0)
A34: =IF($J34=0,"",IFERROR(_xlfn.IMAGE(INDEX('Прайс и заказ'!$O:$O,$J34)),"")) | B34: =IF($J34=0,"",IF(INDEX('Прайс и заказ'!B:B,$J34)="","",INDEX('Прайс и заказ'!B:B,$J34))) | C34: =IF($J34=0,"",IF(INDEX('Прайс и заказ'!C:C,$J34)="","",INDEX('Прайс и заказ'!C:C,$J34))) | D34: =IF($J34=0,"",IF(INDEX('Прайс и заказ'!D:D,$J34)="","",INDEX('Прайс и заказ'!D:D,$J34))) | E34: =IF($J34=0,"",IF(INDEX('Прайс и заказ'!F:F,$J34)="","",INDEX('Прайс и заказ'!F:F,$J34))) | F34: =IF($J34=0,"",IF(INDEX('Прайс и заказ'!I:I,$J34)="","",INDEX('Прайс и заказ'!I:I,$J34))) | G34: =IF($J34=0,"",IF(INDEX('Прайс и заказ'!K:K,$J34)="","",INDEX('Прайс и заказ'!K:K,$J34))) | H34: =IF($J34=0,"",IF(INDEX('Прайс и заказ'!L:L,$J34)="","",INDEX('Прайс и заказ'!L:L,$J34))) | I34: =IF($J34=0,"",IF(INDEX('Прайс и заказ'!M:M,$J34)="","",INDEX('Прайс и заказ'!M:M,$J34))) | J34: =IFERROR(MATCH(26,'Прайс и заказ'!$N$7:$N$435,0)+6,0)
A35: =IF($J35=0,"",IFERROR(_xlfn.IMAGE(INDEX('Прайс и заказ'!$O:$O,$J35)),"")) | B35: =IF($J35=0,"",IF(INDEX('Прайс и заказ'!B:B,$J35)="","",INDEX('Прайс и заказ'!B:B,$J35))) | C35: =IF($J35=0,"",IF(INDEX('Прайс и заказ'!C:C,$J35)="","",INDEX('Прайс и заказ'!C:C,$J35))) | D35: =IF($J35=0,"",IF(INDEX('Прайс и заказ'!D:D,$J35)="","",INDEX('Прайс и заказ'!D:D,$J35))) | E35: =IF($J35=0,"",IF(INDEX('Прайс и заказ'!F:F,$J35)="","",INDEX('Прайс и заказ'!F:F,$J35))) | F35: =IF($J35=0,"",IF(INDEX('Прайс и заказ'!I:I,$J35)="","",INDEX('Прайс и заказ'!I:I,$J35))) | G35: =IF($J35=0,"",IF(INDEX('Прайс и заказ'!K:K,$J35)="","",INDEX('Прайс и заказ'!K:K,$J35))) | H35: =IF($J35=0,"",IF(INDEX('Прайс и заказ'!L:L,$J35)="","",INDEX('Прайс и заказ'!L:L,$J35))) | I35: =IF($J35=0,"",IF(INDEX('Прайс и заказ'!M:M,$J35)="","",INDEX('Прайс и заказ'!M:M,$J35))) | J35: =IFERROR(MATCH(27,'Прайс и заказ'!$N$7:$N$435,0)+6,0)
A36: =IF($J36=0,"",IFERROR(_xlfn.IMAGE(INDEX('Прайс и заказ'!$O:$O,$J36)),"")) | B36: =IF($J36=0,"",IF(INDEX('Прайс и заказ'!B:B,$J36)="","",INDEX('Прайс и заказ'!B:B,$J36))) | C36: =IF($J36=0,"",IF(INDEX('Прайс и заказ'!C:C,$J36)="","",INDEX('Прайс и заказ'!C:C,$J36))) | D36: =IF($J36=0,"",IF(INDEX('Прайс и заказ'!D:D,$J36)="","",INDEX('Прайс и заказ'!D:D,$J36))) | E36: =IF($J36=0,"",IF(INDEX('Прайс и заказ'!F:F,$J36)="","",INDEX('Прайс и заказ'!F:F,$J36))) | F36: =IF($J36=0,"",IF(INDEX('Прайс и заказ'!I:I,$J36)="","",INDEX('Прайс и заказ'!I:I,$J36))) | G36: =IF($J36=0,"",IF(INDEX('Прайс и заказ'!K:K,$J36)="","",INDEX('Прайс и заказ'!K:K,$J36))) | H36: =IF($J36=0,"",IF(INDEX('Прайс и заказ'!L:L,$J36)="","",INDEX('Прайс и заказ'!L:L,$J36))) | I36: =IF($J36=0,"",IF(INDEX('Прайс и заказ'!M:M,$J36)="","",INDEX('Прайс и заказ'!M:M,$J36))) | J36: =IFERROR(MATCH(28,'Прайс и заказ'!$N$7:$N$435,0)+6,0)
A37: =IF($J37=0,"",IFERROR(_xlfn.IMAGE(INDEX('Прайс и заказ'!$O:$O,$J37)),"")) | B37: =IF($J37=0,"",IF(INDEX('Прайс и заказ'!B:B,$J37)="","",INDEX('Прайс и заказ'!B:B,$J37))) | C37: =IF($J37=0,"",IF(INDEX('Прайс и заказ'!C:C,$J37)="","",INDEX('Прайс и заказ'!C:C,$J37))) | D37: =IF($J37=0,"",IF(INDEX('Прайс и заказ'!D:D,$J37)="","",INDEX('Прайс и заказ'!D:D,$J37))) | E37: =IF($J37=0,"",IF(INDEX('Прайс и заказ'!F:F,$J37)="","",INDEX('Прайс и заказ'!F:F,$J37))) | F37: =IF($J37=0,"",IF(INDEX('Прайс и заказ'!I:I,$J37)="","",INDEX('Прайс и заказ'!I:I,$J37))) | G37: =IF($J37=0,"",IF(INDEX('Прайс и заказ'!K:K,$J37)="","",INDEX('Прайс и заказ'!K:K,$J37))) | H37: =IF($J37=0,"",IF(INDEX('Прайс и заказ'!L:L,$J37)="","",INDEX('Прайс и заказ'!L:L,$J37))) | I37: =IF($J37=0,"",IF(INDEX('Прайс и заказ'!M:M,$J37)="","",INDEX('Прайс и заказ'!M:M,$J37))) | J37: =IFERROR(MATCH(29,'Прайс и заказ'!$N$7:$N$435,0)+6,0)
A38: =IF($J38=0,"",IFERROR(_xlfn.IMAGE(INDEX('Прайс и заказ'!$O:$O,$J38)),"")) | B38: =IF($J38=0,"",IF(INDEX('Прайс и заказ'!B:B,$J38)="","",INDEX('Прайс и заказ'!B:B,$J38))) | C38: =IF($J38=0,"",IF(INDEX('Прайс и заказ'!C:C,$J38)="","",INDEX('Прайс и заказ'!C:C,$J38))) | D38: =IF($J38=0,"",IF(INDEX('Прайс и заказ'!D:D,$J38)="","",INDEX('Прайс и заказ'!D:D,$J38))) | E38: =IF($J38=0,"",IF(INDEX('Прайс и заказ'!F:F,$J38)="","",INDEX('Прайс и заказ'!F:F,$J38))) | F38: =IF($J38=0,"",IF(INDEX('Прайс и заказ'!I:I,$J38)="","",INDEX('Прайс и заказ'!I:I,$J38))) | G38: =IF($J38=0,"",IF(INDEX('Прайс и заказ'!K:K,$J38)="","",INDEX('Прайс и заказ'!K:K,$J38))) | H38: =IF($J38=0,"",IF(INDEX('Прайс и заказ'!L:L,$J38)="","",INDEX('Прайс и заказ'!L:L,$J38))) | I38: =IF($J38=0,"",IF(INDEX('Прайс и заказ'!M:M,$J38)="","",INDEX('Прайс и заказ'!M:M,$J38))) | J38: =IFERROR(MATCH(30,'Прайс и заказ'!$N$7:$N$435,0)+6,0)
A39: =IF($J39=0,"",IFERROR(_xlfn.IMAGE(INDEX('Прайс и заказ'!$O:$O,$J39)),"")) | B39: =IF($J39=0,"",IF(INDEX('Прайс и заказ'!B:B,$J39)="","",INDEX('Прайс и заказ'!B:B,$J39))) | C39: =IF($J39=0,"",IF(INDEX('Прайс и заказ'!C:C,$J39)="","",INDEX('Прайс и заказ'!C:C,$J39))) | D39: =IF($J39=0,"",IF(INDEX('Прайс и заказ'!D:D,$J39)="","",INDEX('Прайс и заказ'!D:D,$J39))) | E39: =IF($J39=0,"",IF(INDEX('Прайс и заказ'!F:F,$J39)="","",INDEX('Прайс и заказ'!F:F,$J39))) | F39: =IF($J39=0,"",IF(INDEX('Прайс и заказ'!I:I,$J39)="","",INDEX('Прайс и заказ'!I:I,$J39))) | G39: =IF($J39=0,"",IF(INDEX('Прайс и заказ'!K:K,$J39)="","",INDEX('Прайс и заказ'!K:K,$J39))) | H39: =IF($J39=0,"",IF(INDEX('Прайс и заказ'!L:L,$J39)="","",INDEX('Прайс и заказ'!L:L,$J39))) | I39: =IF($J39=0,"",IF(INDEX('Прайс и заказ'!M:M,$J39)="","",INDEX('Прайс и заказ'!M:M,$J39))) | J39: =IFERROR(MATCH(31,'Прайс и заказ'!$N$7:$N$435,0)+6,0)
A40: =IF($J40=0,"",IFERROR(_xlfn.IMAGE(INDEX('Прайс и заказ'!$O:$O,$J40)),"")) | B40: =IF($J40=0,"",IF(INDEX('Прайс и заказ'!B:B,$J40)="","",INDEX('Прайс и заказ'!B:B,$J40))) | C40: =IF($J40=0,"",IF(INDEX('Прайс и заказ'!C:C,$J40)="","",INDEX('Прайс и заказ'!C:C,$J40))) | D40: =IF($J40=0,"",IF(INDEX('Прайс и заказ'!D:D,$J40)="","",INDEX('Прайс и заказ'!D:D,$J40))) | E40: =IF($J40=0,"",IF(INDEX('Прайс и заказ'!F:F,$J40)="","",INDEX('Прайс и заказ'!F:F,$J40))) | F40: =IF($J40=0,"",IF(INDEX('Прайс и заказ'!I:I,$J40)="","",INDEX('Прайс и заказ'!I:I,$J40))) | G40: =IF($J40=0,"",IF(INDEX('Прайс и заказ'!K:K,$J40)="","",INDEX('Прайс и заказ'!K:K,$J40))) | H40: =IF($J40=0,"",IF(INDEX('Прайс и заказ'!L:L,$J40)="","",INDEX('Прайс и заказ'!L:L,$J40))) | I40: =IF($J40=0,"",IF(INDEX('Прайс и заказ'!M:M,$J40)="","",INDEX('Прайс и заказ'!M:M,$J40))) | J40: =IFERROR(MATCH(32,'Прайс и заказ'!$N$7:$N$435,0)+6,0)
A41: =IF($J41=0,"",IFERROR(_xlfn.IMAGE(INDEX('Прайс и заказ'!$O:$O,$J41)),"")) | B41: =IF($J41=0,"",IF(INDEX('Прайс и заказ'!B:B,$J41)="","",INDEX('Прайс и заказ'!B:B,$J41))) | C41: =IF($J41=0,"",IF(INDEX('Прайс и заказ'!C:C,$J41)="","",INDEX('Прайс и заказ'!C:C,$J41))) | D41: =IF($J41=0,"",IF(INDEX('Прайс и заказ'!D:D,$J41)="","",INDEX('Прайс и заказ'!D:D,$J41))) | E41: =IF($J41=0,"",IF(INDEX('Прайс и заказ'!F:F,$J41)="","",INDEX('Прайс и заказ'!F:F,$J41))) | F41: =IF($J41=0,"",IF(INDEX('Прайс и заказ'!I:I,$J41)="","",INDEX('Прайс и заказ'!I:I,$J41))) | G41: =IF($J41=0,"",IF(INDEX('Прайс и заказ'!K:K,$J41)="","",INDEX('Прайс и заказ'!K:K,$J41))) | H41: =IF($J41=0,"",IF(INDEX('Прайс и заказ'!L:L,$J41)="","",INDEX('Прайс и заказ'!L:L,$J41))) | I41: =IF($J41=0,"",IF(INDEX('Прайс и заказ'!M:M,$J41)="","",INDEX('Прайс и заказ'!M:M,$J41))) | J41: =IFERROR(MATCH(33,'Прайс и заказ'!$N$7:$N$435,0)+6,0)
...
