Workbook

Sheet Прайс и заказ
A1: · Прайс-лист «Ленты» · 21.09.2026
A2: Компания | D2: Комментарий | G2: Поиск по прайсу | J2: Заполните колонку «Заказать» — выбранные позиции сами соберутся на листе «Ваш заказ». LavrPack · +7 (8482) 63-53-54 · 8 (800) 444-26-45 · www.test.lavrpack.ru
A3: Контактное лицо | D3: Дата прайса | E3: 21.09.2026 13:37
A4: Телефон | D4: Категория | E4: Ленты
A5: Город | D5: Источник | E5: https://www.test.lavrpack.ru | G5: =IF($G$3="","",SUMPRODUCT(--ISNUMBER(SEARCH($G$3,$B$7:$B$435&" "&$C$7:$C$435&" "&$D$7:$D$435&" "&$E$7:$E$435)))&" найдено — совпадения подсвечены")
A6: Фото | B6: Артикул | C6: Товар | D6: Цвет / вариант | E6: Размер / характеристика | F6: Ед. | G6: В коробке | H6: Розница, с НДС | I6: Опт, с НДС | J6: В наличии | K6: Заказать | L6: Сумма | M6: Комментарий | N6: служебная | P6: UUID
A7: Полипропилен — 135 поз. | N7: =IF(K7>0,COUNTIF($K$7:K7,">0"),"")
B8: 70314 | C8: Лента | D8: белый | E8: простая 0,5см×500ярд | G8: 1 | H8: 231 | I8: 150 | J8: 227 | L8: =IF(K8>0,K8*I8,"") | N8: =IF(K8>0,COUNTIF($K$7:K8,">0"),"") | O8: https://www.test.lavrpack.ru/local/templates/phoenix_v1/images_cache/thumbs/aaa49224e55801eb8806b15d311a2223.webp?v=1789963868 | P8: 8ca2a692-bb0f-11ec-bc66-00e01a6800eb
B9: 70345 | C9: Лента | D9: гвардейская | E9: простая 0,5см×500ярд | G9: 1 | H9: 242 | I9: 153 | J9: 90 | L9: =IF(K9>0,K9*I9,"") | N9: =IF(K9>0,COUNTIF($K$7:K9,">0"),"") | O9: https://www.test.lavrpack.ru/local/templates/phoenix_v1/images_cache/thumbs/2a5c301d9e81285dcffc4163e5b96c5c.webp?v=1789963866 | P9: 732cc0b2-bb1e-11ec-bc66-00e01a6800eb
B10: 70328 | C10: Лента | D10: желтый | E10: простая 0,5см×500ярд | G10: 1 | H10: 231 | I10: 150 | J10: 230 | L10: =IF(K10>0,K10*I10,"") | N10: =IF(K10>0,COUNTIF($K$7:K10,">0"),"") | O10: https://www.test.lavrpack.ru/local/templates/phoenix_v1/images_cache/thumbs/b6be36eabf2e388bcb5e9fc130ab25b5.webp?v=1789963864 | P10: 509e4b49-bb1c-11ec-bc66-00e01a6800eb
B11: 70338 | C11: Лента | D11: орхидея | E11: простая 0,5см×500ярд | G11: 1 | H11: 231 | I11: 150 | J11: 148 | L11: =IF(K11>0,K11*I11,"") | N11: =IF(K11>0,COUNTIF($K$7:K11,">0"),"") | O11: https://www.test.lavrpack.ru/local/templates/phoenix_v1/images_cache/thumbs/aa956add85721650663d713219cf5a69.webp?v=1789963870 | P11: b3bd9629-bb1d-11ec-bc66-00e01a6800eb
B12: 102971 | C12: Лента | D12: зеленый | E12: простая 0,5см×500ярд | G12: 1 | H12: 231 | I12: 150 | J12: 28 | L12: =IF(K12>0,K12*I12,"") | N12: =IF(K12>0,COUNTIF($K$7:K12,">0"),"") | O12: https://www.test.lavrpack.ru/local/templates/phoenix_v1/images_cache/thumbs/8ab4478ab500ca647124fdc2865bea4f.webp?v=1789946141 | P12: 0aca731e-06db-11ee-90e0-00e01a6800eb
B13: 70334 | C13: Лента | D13: серый | E13: простая 0,5см×500ярд | G13: 1 | H13: 231 | I13: 150 | J13: 115 | L13: =IF(K13>0,K13*I13,"") | N13: =IF(K13>0,COUNTIF($K$7:K13,">0"),"") | O13: https://www.test.lavrpack.ru/local/templates/phoenix_v1/images_cache/thumbs/b2da2bc8c4547025d13b20e02f99643a.webp?v=1789963873 | P13: f3e0ec54-bb1c-11ec-bc66-00e01a6800eb
B14: 70329 | C14: Лента | D14: небесно-голубой | E14: простая 0,5см×500ярд | G14: 1 | H14: 231 | I14: 150 | J14: 19 | L14: =IF(K14>0,K14*I14,"") | N14: =IF(K14>0,COUNTIF($K$7:K14,">0"),"") | O14: https://www.test.lavrpack.ru/local/templates/phoenix_v1/images_cache/thumbs/91eed477d4763c943288c7e04a654af6.webp?v=1789963866 | P14: 6e963e5c-bb1c-11ec-bc66-00e01a6800eb
B15: 70330 | C15: Лента | D15: желтый/зеленый | E15: простая 0,5см×500ярд | G15: 1 | H15: 231 | I15: 150 | J15: 35 | L15: =IF(K15>0,K15*I15,"") | N15: =IF(K15>0,COUNTIF($K$7:K15,">0"),"") | O15: https://www.test.lavrpack.ru/local/templates/phoenix_v1/images_cache/thumbs/25be6abf7364166c061b5b6c9b8982de.webp?v=1789963868 | P15: 9b927fc9-bb1c-11ec-bc66-00e01a6800eb
B16: 102968 | C16: Лента | D16: бронза | E16: простая 0,5см×500ярд | G16: 1 | H16: 231 | I16: 150 | J16: 16 | L16: =IF(K16>0,K16*I16,"") | N16: =IF(K16>0,COUNTIF($K$7:K16,">0"),"") | O16: https://www.test.lavrpack.ru/local/templates/phoenix_v1/images_cache/thumbs/235728cad088e8f867a08314e2d0ed4e.webp?v=1789946143 | P16: 88986f61-06da-11ee-90e0-00e01a6800eb
B17: 70335 | C17: Лента | D17: оранжевый | E17: простая 0,5см×500ярд | G17: 1 | H17: 231 | I17: 150 | J17: 67 | L17: =IF(K17>0,K17*I17,"") | N17: =IF(K17>0,COUNTIF($K$7:K17,">0"),"") | O17: https://www.test.lavrpack.ru/local/templates/phoenix_v1/images_cache/thumbs/d5fb75584119ebc3113f1ce89c4cbf31.webp?v=1789963856 | P17: 05b67ba1-bb1d-11ec-bc66-00e01a6800eb
B18: 102966 | C18: Лента | D18: вишня/лаванда | E18: простая 0,5см×500ярд | G18: 1 | H18: 231 | I18: 150 | J18: 159 | L18: =IF(K18>0,K18*I18,"") | N18: =IF(K18>0,COUNTIF($K$7:K18,">0"),"") | O18: https://www.test.lavrpack.ru/local/templates/phoenix_v1/images_cache/thumbs/9450658fe9932c961ff7e2e6dc75aeaf.webp?v=1789946144 | P18: 95525e18-06d8-11ee-90e0-00e01a6800eb
B19: 70322 | C19: Лента | D19: красный | E19: простая 0,5см×500ярд | G19: 1 | H19: 231 | I19: 150 | J19: 328 | L19: =IF(K19>0,K19*I19,"") | N19: =IF(K19>0,COUNTIF($K$7:K19,">0"),"") | O19: https://www.test.lavrpack.ru/local/templates/phoenix_v1/images_cache/thumbs/571414947c9342d321be8569de9a4dbc.webp?v=1789963864 | P19: 50e33eba-bb17-11ec-bc66-00e01a6800eb
... B72: 70402 | C72: Лента простая | D72: красный на розовом | E72: Горошек, 2см×50ярд | G72: 1 | H72: 99 | I72: 66 | J72: 63 | L72: =IF(K72>0,K72*I72,"") | N72: =IF(K72>0,COUNTIF($K$7:K72,">0"),"") | O72: https://www.test.lavrpack.ru/local/templates/phoenix_v1/images_cache/thumbs/730d6d276159be3caad275997ecfae58.webp?v=1789963871 | P72: d661b152-bbbb-11ec-bc66-00e01a6800eb
B73: 113527 | C73: Лента простая | D73: красный на белом | E73: Сердца итальянские, 2см×50ярд | G73: 1 | H73: 110 | I73: 69 | J73: 74 | L73: =IF(K73>0,K73*I73,"") | N73: =IF(K73>0,COUNTIF($K$7:K73,">0"),"") | P73: 88afee9a-5e1b-11f0-ab47-22344d083d2c
B74: 70403 | C74: Лента простая | D74: красные на белом | E74: Сердца Польские, 2см×50ярд | G74: 1 | H74: 110 | I74: 69 | J74: 101 | L74: =IF(K74>0,K74*I74,"") | N74: =IF(K74>0,COUNTIF($K$7:K74,">0"),"") | O74: https://www.test.lavrpack.ru/local/templates/phoenix_v1/images_cache/thumbs/d753cd3988a88b5902f172b82cd3db40.webp?v=1789963873 | P74: ef9945db-bbbb-11ec-bc66-00e01a6800eb
B75: 70356 | C75: Лента простая | D75: на белом | E75: Сердца Польские, 3см×50ярд | G75: 1 | H75: 165 | I75: 104 | J75: 25 | L75: =IF(K75>0,K75*I75,"") | N75: =IF(K75>0,COUNTIF($K$7:K75,">0"),"") | O75: https://www.test.lavrpack.ru/local/templates/phoenix_v1/images_cache/thumbs/e5c3b6fceb624c465d754a38175f99cc.webp?v=1789963872 | P75: dbc821e7-bb22-11ec-bc66-00e01a6800eb
B76: 111480 | C76: Лента простая | D76: ярко-розовая | E76: тиснение дерево 3см×50ярд | G76: 1 | H76: 165 | I76: 104 | J76: 127 | L76: =IF(K76>0,K76*I76,"") | N76: =IF(K76>0,COUNTIF($K$7:K76,">0"),"") | O76: https://www.test.lavrpack.ru/local/templates/phoenix_v1/images_cache/thumbs/8380822187772105a6e2e694fccfbe26.webp?v=1789946142 | P76: 3e82bdd2-ef7a-11ef-ab3d-22344d083d2c
B77: 105207 | C77: Лента простая | D77: Серо-зеленый (L30) | E77: 1,8см×50м, | G77: 1 | H77: 28 | I77: 28 | J77: 8724 | L77: =IF(K77>0,K77*I77,"") | N77: =IF(K77>0,COUNTIF($K$7:K77,">0"),"") | O77: https://www.test.lavrpack.ru/local/templates/phoenix_v1/images_cache/thumbs/ac4d974af3981d132b45bf757c722c46.webp?v=1789911444 | P77: 1294861b-903c-11ee-a8ad-00e01a6800eb#d6cbb1e9-903d-11ee-a8ad-00e01a6800eb
B78: 105207 | C78: Лента простая | D78: Персиковый (L12) | E78: 1,8см×50м, | G78: 1 | H78: 28 | I78: 28 | J78: 8623 | L78: =IF(K78>0,K78*I78,"") | N78: =IF(K78>0,COUNTIF($K$7:K78,">0"),"") | O78: https://www.test.lavrpack.ru/local/templates/phoenix_v1/images_cache/thumbs/24f35d87b387883c7ea70eeb98cb7343.webp?v=1789911444 | P78: 1294861b-903c-11ee-a8ad-00e01a6800eb#a278d4cb-903c-11ee-a8ad-00e01a6800eb
B79: 105207 | C79: Лента простая | D79: Голубой (L51) | E79: 1,8см×50м, | G79: 1 | H79: 28 | I79: 28 | J79: 10555 | L79: =IF(K79>0,K79*I79,"") | N79: =IF(K79>0,COUNTIF($K$7:K79,">0"),"") | O79: https://www.test.lavrpack.ru/local/templates/phoenix_v1/images_cache/thumbs/f55b9ff36eb5cded32cb24934521852e.webp?v=1789911444 | P79: 1294861b-903c-11ee-a8ad-00e01a6800eb#7fad778a-903c-11ee-a8ad-00e01a6800eb
B80: 105207 | C80: Лента простая | D80: Черный (L70) | E80: 1,8см×50м, | G80: 1 | H80: 28 | I80: 28 | J80: 2039 | L80: =IF(K80>0,K80*I80,"") | N80: =IF(K80>0,COUNTIF($K$7:K80,">0"),"") | O80: https://www.test.lavrpack.ru/local/templates/phoenix_v1/images_cache/thumbs/d11d58457c9b9c6e975c2e952ba0a5b8.webp?v=1789911444 | P80: 1294861b-903c-11ee-a8ad-00e01a6800eb#32427660-903c-11ee-a8ad-00e01a6800eb
B81: 105207 | C81: Лента простая | D81: Алый (L01) | E81: 1,8см×50м, | G81: 1 | H81: 28 | I81: 28 | J81: 7369 | L81: =IF(K81>0,K81*I81,"") | N81: =IF(K81>0,COUNTIF($K$7:K81,">0"),"") | O81: https://www.test.lavrpack.ru/local/templates/phoenix_v1/images_cache/thumbs/a5a725e9caed0cd3e7e9ba97a57f7156.webp?v=1789911444 | P81: 1294861b-903c-11ee-a8ad-00e01a6800eb#dd4df538-903d-11ee-a8ad-00e01a6800eb
B82: 105207 | C82: Лента простая | D82: Зеленый (L34) | E82: 1,8см×50м, | G82: 1 | H82: 28 | I82: 28 | J82: 4937 | L82: =IF(K82>0,K82*I82,"") | N82: =IF(K82>0,COUNTIF($K$7:K82,">0"),"") | O82: https://www.test.lavrpack.ru/local/templates/phoenix_v1/images_cache/thumbs/6a3f370180aaba20872f846368b250a9.webp?v=1789911444 | P82: 1294861b-903c-11ee-a8ad-00e01a6800eb#79645550-903c-11ee-a8ad-00e01a6800eb
B83: 105207 | C83: Лента простая | D83: Желтый (L21) | E83: 1,8см×50м, | G83: 1 | H83: 28 | I83: 28 | J83: 2060 | L83: =IF(K83>0,K83*I83,"") | N83: =IF(K83>0,COUNTIF($K$7:K83,">0"),"") | O83: https://www.test.lavrpack.ru/local/templates/phoenix_v1/images_cache/thumbs/051ea07ecc76a657204f42b60f69b0af.webp?v=1789911444 | P83: 1294861b-903c-11ee-a8ad-00e01a6800eb#a87f508b-903c-11ee-a8ad-00e01a6800eb
B84: 105207 | C84: Лента простая | D84: Жемчужный (L24) | E84: 1,8см×50м, | G84: 1 | H84: 28 | I84: 28 | J84: 5449 | L84: =IF(K84>0,K84*I84,"") | N84: =IF(K84>0,COUNTIF($K$7:K84,">0"),"") | O84: https://www.test.lavrpack.ru/local/templates/phoenix_v1/images_cache/thumbs/72311b4256125e2d99d60485c83765cb.webp?v=1789911444 | P84: 1294861b-903c-11ee-a8ad-00e01a6800eb#d9126523-903c-11ee-a8ad-00e01a6800eb
B85: 105207 | C85: Лента простая | D85: Бежевый (L23) | E85: 1,8см×50м, | G85: 1 | H85: 28 | I85: 28 | J85: 9432 | L85: =IF(K85>0,K85*I85,"") | N85: =IF(K85>0,COUNTIF($K$7:K85,">0"),"") | O85: https://www.test.lavrpack.ru/local/templates/phoenix_v1/images_cache/thumbs/f625430cee4b35133ce73ae2853dbc87.webp?v=1789911444 | P85: 1294861b-903c-11ee-a8ad-00e01a6800eb#c43e5b3d-903c-11ee-a8ad-00e01a6800eb
... B128: 70361 | C128: Лента с з/п | D128: зеленый | E128: 0,5см×250ярд | G128: 1 | H128: 242 | I128: 158 | J128: 23 | L128: =IF(K128>0,K128*I128,"") | N128: =IF(K128>0,COUNTIF($K$7:K128,">0"),"") | O128: https://www.test.lavrpack.ru/local/templates/phoenix_v1/images_cache/thumbs/e02d25c08c01d107782d8d58bb09c12a.webp?v=1789963867 | P128: 7ab3276a-bb23-11ec-bc66-00e01a6800eb
B129: 104050 | C129: Лента с з/п | D129: Звезды белый | E129: 0,5см×250ярд | G129: 1 | H129: 242 | I129: 158 | J129: 41 | L129: =IF(K129>0,K129*I129,"") | N129: =IF(K129>0,COUNTIF($K$7:K129,">0"),"") | P129: d281eda7-532a-11ee-bc2f-00e01a6800eb
B130: 70364 | C130: Лента с з/п | D130: черный | E130: 0,5см×250ярд | G130: 1 | H130: 242 | I130: 158 | J130: 128 | L130: =IF(K130>0,K130*I130,"") | N130: =IF(K130>0,COUNTIF($K$7:K130,">0"),"") | O130: https://www.test.lavrpack.ru/local/templates/phoenix_v1/images_cache/thumbs/e4deeb58608169fd51839cc8de92fdfd.webp?v=1789963862 | P130: 46415f8e-bb24-11ec-bc66-00e01a6800eb
B131: 70665 | C131: Лента с з/п | D131: голубой | E131: 0,5см×250ярд | G131: 1 | H131: 242 | I131: 158 | J131: 41 | L131: =IF(K131>0,K131*I131,"") | N131: =IF(K131>0,COUNTIF($K$7:K131,">0"),"") | O131: https://www.test.lavrpack.ru/local/templates/phoenix_v1/images_cache/thumbs/d567cfe5333dd9beade32161f7b597dc.webp?v=1789963872 | P131: eabfa9dc-c537-11ec-bc66-00e01a6800eb
B132: 70357 | C132: Лента с з/п | D132: ярко-розовая | E132: 0,5см×250ярд | G132: 1 | H132: 242 | I132: 158 | J132: 214 | L132: =IF(K132>0,K132*I132,"") | N132: =IF(K132>0,COUNTIF($K$7:K132,">0"),"") | O132: https://www.test.lavrpack.ru/local/templates/phoenix_v1/images_cache/thumbs/fc51c127a301a11cf7a9e8becf31788f.webp?v=1789963874 | P132: ff46a694-bb22-11ec-bc66-00e01a6800eb
B133: 70359 | C133: Лента с з/п | D133: синий | E133: 0,5см×250ярд | G133: 1 | H133: 242 | I133: 158 | J133: 19 | L133: =IF(K133>0,K133*I133,"") | N133: =IF(K133>0,COUNTIF($K$7:K133,">0"),"") | O133: https://www.test.lavrpack.ru/local/templates/phoenix_v1/images_cache/thumbs/0c7f043cfdea560abf357c1e130fa866.webp?v=1789963858 | P133: 20071268-bb23-11ec-bc66-00e01a6800eb
B134: 70363 | C134: Лента с з/п | D134: вишневый | E134: 0,5см×250ярд | G134: 1 | H134: 242 | I134: 158 | J134: 64 | L134: =IF(K134>0,K134*I134,"") | N134: =IF(K134>0,COUNTIF($K$7:K134,">0"),"") | O134: https://www.test.lavrpack.ru/local/templates/phoenix_v1/images_cache/thumbs/a519d878ce9c5b14e20fe0bd1ba0cd82.webp?v=1789963860 | P134: 2a34544a-bb24-11ec-bc66-00e01a6800eb
B135: 104053 | C135: Лента с з/п | D135: Звезды зеленый | E135: 0,5см×250ярд | G135: 1 | H135: 242 | I135: 158 | J135: 115 | L135: =IF(K135>0,K135*I135,"") | N135: =IF(K135>0,COUNTIF($K$7:K135,">0"),"") | P135: 532b2e57-532b-11ee-bc2f-00e01a6800eb
B136: 104051 | C136: Лента с з/п | D136: Звезды синий | E136: 0,5см×250ярд | G136: 1 | H136: 242 | I136: 158 | J136: 118 | L136: =IF(K136>0,K136*I136,"") | N136: =IF(K136>0,COUNTIF($K$7:K136,">0"),"") | P136: eda17ba6-532a-11ee-bc2f-00e01a6800eb
B137: 70362 | C137: Лента с з/п | D137: желтый | E137: 0,5см×250ярд | G137: 1 | H137: 242 | I137: 158 | J137: 73 | L137: =IF(K137>0,K137*I137,"") | N137: =IF(K137>0,COUNTIF($K$7:K137,">0"),"") | O137: https://www.test.lavrpack.ru/local/templates/phoenix_v1/images_cache/thumbs/e1e8805c456269f84dd814e253afe8f3.webp?v=1789963857 | P137: 1a26bfdc-bb24-11ec-bc66-00e01a6800eb
B138: 70373 | C138: Лента с з/п | D138: розовый | E138: 0,5см×250ярд | G138: 1 | H138: 242 | I138: 158 | J138: 241 | L138: =IF(K138>0,K138*I138,"") | N138: =IF(K138>0,COUNTIF($K$7:K138,">0"),"") | O138: https://www.test.lavrpack.ru/local/templates/phoenix_v1/images_cache/thumbs/e889ca5ab2a997a1a27f4b7c890b0eaf.webp?v=1789963871 | P138: da45c912-bb27-11ec-bc66-00e01a6800eb
B139: 70668 | C139: Лента с з/п | D139: красный/горох | E139: 0,5см×250ярд | G139: 1 | H139: 242 | I139: 158 | J139: 161 | L139: =IF(K139>0,K139*I139,"") | N139: =IF(K139>0,COUNTIF($K$7:K139,">0"),"") | O139: https://www.test.lavrpack.ru/local/templates/phoenix_v1/images_cache/thumbs/d654d8991e0ccc4f25e26586adbfa181.webp?v=1789963858 | P139: 1cd6c789-c53d-11ec-bc66-00e01a6800eb
B140: 70366 | C140: Лента с з/п | D140: бронза | E140: 0,5см×250ярд | G140: 1 | H140: 242 | I140: 158 | J140: 319 | L140: =IF(K140>0,K140*I140,"") | N140: =IF(K140>0,COUNTIF($K$7:K140,">0"),"") | O140: https://www.test.lavrpack.ru/local/templates/phoenix_v1/images_cache/thumbs/329adaef4a81440866b0e6aac041f380.webp?v=1789963860 | P140: 2d704b12-bb25-11ec-bc66-00e01a6800eb
B141: 104052 | C141: Лента с з/п | D141: Звезды красный | E141: 0,5см×250ярд | G141: 1 | H141: 242 | I141: 158 | J141: 76 | L141: =IF(K141>0,K141*I141,"") | N141: =IF(K141>0,COUNTIF($K$7:K141,">0"),"") | O141: https://www.test.lavrpack.ru/local/templates/phoenix_v1/images_cache/thumbs/aa2fdb684a3bdae37796db396fae130c.webp?v=1789963862 | P141: 3f8a3574-532b-11ee-bc2f-00e01a6800eb
B142: 70367 | C142: Лента с з/п | D142: красный | E142: 0,5см×250ярд | G142: 1 | H142: 242 | I142: 158 | J142: 118 | L142: =IF(K142>0,K142*I142,"") | N142: =IF(K142>0,COUNTIF($K$7:K142,">0"),"") | O142: https://www.test.lavrpack.ru/local/templates/phoenix_v1/images_cache/thumbs/e32da91dc38670bbe31f668e642adb24.webp?v=1789963872 | P142: eb249ffa-bb25-11ec-bc66-00e01a6800eb
A143: Атласные — 128 поз. | N143: =IF(K143>0,COUNTIF($K$7:K143,">0"),"")
B144: 67372 | C144: Лента атласная | D144: Пепельная роза (91) | E144: 10мм×25ярд. Китай | G144: 1 | H144: 36.3 | I144: 24 | J144: 10433 | L144: =IF(K144>0,K144*I144,"") | N144: =IF(K144>0,COUNTIF($K$7:K144,">0"),"") | O144: https://www.test.lavrpack.ru/local/templates/phoenix_v1/images_cache/thumbs/8e3f19bdaad306a7661510a591118b10.webp?v=1789963890 | P144: c284841d-7f2d-11ec-b73f-0018e40a3af2#586c0940-618e-11ed-bb4b-00e01a6800eb
B145: 67372 | C145: Лента атласная | D145: Черный (39) | E145: 10мм×25ярд. Китай | G145: 1 | H145: 36.3 | I145: 24 | J145: 12140 | L145: =IF(K145>0,K145*I145,"") | N145: =IF(K145>0,COUNTIF($K$7:K145,">0"),"") | O145: https://www.test.lavrpack.ru/local/templates/phoenix_v1/images_cache/thumbs/70e5f81180d0c3534ca9bbba4426b278.webp?v=1789963892 | P145: c284841d-7f2d-11ec-b73f-0018e40a3af2#9cc8086a-0ba2-11ef-9f05-00e01a6800eb
B146: 67372 | C146: Лента атласная | D146: Красный (26) | E146: 10мм×25ярд. Китай | G146: 1 | H146: 36.3 | I146: 24 | J146: 9457 | L146: =IF(K146>0,K146*I146,"") | N146: =IF(K146>0,COUNTIF($K$7:K146,">0"),"") | O146: https://www.test.lavrpack.ru/local/templates/phoenix_v1/images_cache/thumbs/0f5c9571d96dbf4c729a844af135a6d2.webp?v=1789963889 | P146: c284841d-7f2d-11ec-b73f-0018e40a3af2#49127e1b-6658-11ed-bb4b-00e01a6800eb
B147: 67372 | C147: Лента атласная | D147: Лайм (150) | E147: 10мм×25ярд. Китай | G147: 1 | H147: 36.3 | I147: 24 | J147: 7539 | L147: =IF(K147>0,K147*I147,"") | N147: =IF(K147>0,COUNTIF($K$7:K147,">0"),"") | O147: https://www.test.lavrpack.ru/local/templates/phoenix_v1/images_cache/thumbs/2daa93762523a719468903119d6fa605.webp?v=1789963892 | P147: c284841d-7f2d-11ec-b73f-0018e40a3af2#accde95c-0ba3-11ef-9f05-00e01a6800eb
B148: 67372 | C148: Лента атласная | D148: Небесный (11) | E148: 10мм×25ярд. Китай | G148: 1 | H148: 36.3 | I148: 24 | J148: 4052 | L148: =IF(K148>0,K148*I148,"") | N148: =IF(K148>0,COUNTIF($K$7:K148,">0"),"") | O148: https://www.test.lavrpack.ru/local/templates/phoenix_v1/images_cache/thumbs/873f947f2f37032400b90733edd0795d.webp?v=1789963892 | P148: c284841d-7f2d-11ec-b73f-0018e40a3af2#85346199-618e-11ed-bb4b-00e01a6800eb
B149: 67372 | C149: Лента атласная | D149: Ярко-розовый (05) | E149: 10мм×25ярд. Китай | G149: 1 | H149: 36.3 | I149: 24 | J149: 10136 | L149: =IF(K149>0,K149*I149,"") | N149: =IF(K149>0,COUNTIF($K$7:K149,">0"),"") | O149: https://www.test.lavrpack.ru/local/templates/phoenix_v1/images_cache/thumbs/1a7f39478156c180df49a222e805846c.webp?v=1789963889 | P149: c284841d-7f2d-11ec-b73f-0018e40a3af2#429e0e5d-618e-11ed-bb4b-00e01a6800eb
B150: 67372 | C150: Лента атласная | D150: Ягодный (134) | E150: 10мм×25ярд. Китай | G150: 1 | H150: 36.3 | I150: 24 | J150: 10053 | L150: =IF(K150>0,K150*I150,"") | N150: =IF(K150>0,COUNTIF($K$7:K150,">0"),"") | O150: https://www.test.lavrpack.ru/local/templates/phoenix_v1/images_cache/thumbs/78bfb3aac031cdc1027fe332b5c4ac28.webp?v=1789963891 | P150: c284841d-7f2d-11ec-b73f-0018e40a3af2#8237cb02-0ba3-11ef-9f05-00e01a6800eb
B151: 67372 | C151: Лента атласная | D151: Фуксия (27) | E151: 10мм×25ярд. Китай | G151: 1 | H151: 36.3 | I151: 24 | J151: 9949 | L151: =IF(K151>0,K151*I151,"") | N151: =IF(K151>0,COUNTIF($K$7:K151,">0"),"") | O151: https://www.test.lavrpack.ru/local/templates/phoenix_v1/images_cache/thumbs/dea7c89b83f5bbe82f77935f5a54bdac.webp?v=1789963889 | P151: c284841d-7f2d-11ec-b73f-0018e40a3af2#4aab760b-618e-11ed-bb4b-00e01a6800eb
B152: 67372 | C152: Лента атласная | D152: Зеленый (19) | E152: 10мм×25ярд. Китай | G152: 1 | H152: 36.3 | I152: 24 | J152: 4524 | L152: =IF(K152>0,K152*I152,"") | N152: =IF(K152>0,COUNTIF($K$7:K152,">0"),"") | O152: https://www.test.lavrpack.ru/local/templates/phoenix_v1/images_cache/thumbs/9194e90ae318e4d9b855e550556e82da.webp?v=1789963889 | P152: c284841d-7f2d-11ec-b73f-0018e40a3af2#311fb62f-6658-11ed-bb4b-00e01a6800eb
B153: 67372 | C153: Лента атласная | D153: Оливковый (110) | E153: 10мм×25ярд. Китай | G153: 1 | H153: 36.3 | I153: 24 | J153: 12715 | L153: =IF(K153>0,K153*I153,"") | N153: =IF(K153>0,COUNTIF($K$7:K153,">0"),"") | O153: https://www.test.lavrpack.ru/local/templates/phoenix_v1/images_cache/thumbs/e895dd712f20c3954d68511d4819d3a7.webp?v=1789963890 | P153: c284841d-7f2d-11ec-b73f-0018e40a3af2#4bfb7e78-7bc7-11ef-ab51-1cfd08767542
B154: 67372 | C154: Лента атласная | D154: Винный | E154: 10мм×25ярд. Китай | G154: 1 | H154: 36.3 | I154: 24 | J154: 4969 | L154: =IF(K154>0,K154*I154,"") | N154: =IF(K154>0,COUNTIF($K$7:K154,">0"),"") | O154: https://www.test.lavrpack.ru/local/templates/phoenix_v1/images_cache/thumbs/bdade3dedf8fd9d069c779f3ca1a0b98.webp?v=1789963891 | P154: c284841d-7f2d-11ec-b73f-0018e40a3af2#6567ed9d-6658-11ed-bb4b-00e01a6800eb
B155: 67372 | C155: Лента атласная | D155: Белый (01) | E155: 10мм×25ярд. Китай | G155: 1 | H155: 36.3 | I155: 24 | J155: 6831 | L155: =IF(K155>0,K155*I155,"") | N155: =IF(K155>0,COUNTIF($K$7:K155,">0"),"") | O155: https://www.test.lavrpack.ru/local/templates/phoenix_v1/images_cache/thumbs/6333bec69482da7b9abecb039691e4b5.webp?v=1789963888 | P155: c284841d-7f2d-11ec-b73f-0018e40a3af2#2e3521f3-618e-11ed-bb4b-00e01a6800eb
... B188: 67394 | C188: Лента атласная | D188: Шампань (02) | E188: 20мм×25ярд. Китай | G188: 1 | H188: 57.2 | I188: 35 | J188: 1480 | L188: =IF(K188>0,K188*I188,"") | N188: =IF(K188>0,COUNTIF($K$7:K188,">0"),"") | O188: https://www.test.lavrpack.ru/local/templates/phoenix_v1/images_cache/thumbs/bf2a200f84727b5378c3935529d82f83.webp?v=1789963896 | P188: c89a93de-7f2d-11ec-b73f-0018e40a3af2#7133aebf-bc1a-11ed-ba70-00e01a6800eb
B189: 71393 | C189: Лента атласная | D189: Графит (03) | E189: 25мм×25ярд. Китай | F189: упак | G189: 5 | H189: 66 | I189: 39 | J189: 10893 | L189: =IF(K189>0,K189*I189,"") | N189: =IF(K189>0,COUNTIF($K$7:K189,">0"),"") | O189: https://www.test.lavrpack.ru/local/templates/phoenix_v1/images_cache/thumbs/14bc4bc803e4be6beed33a0f4f4b5f1a.webp?v=1789963880 | P189: 454d5aae-dcc9-11ec-bc66-00e01a6800eb#a95ada6c-9271-11ee-a8ad-00e01a6800eb
B190: 71393 | C190: Лента атласная | D190: Бледно-голубой (145) | E190: 25мм×25ярд. Китай | F190: упак | G190: 5 | H190: 66 | I190: 39 | J190: 3000 | L190: =IF(K190>0,K190*I190,"") | N190: =IF(K190>0,COUNTIF($K$7:K190,">0"),"") | O190: https://www.test.lavrpack.ru/local/templates/phoenix_v1/images_cache/thumbs/f3c8bf75b1e6074eb73c140cdb280ce1.webp?v=1789968269 | P190: 454d5aae-dcc9-11ec-bc66-00e01a6800eb#b1d80fe2-bc1d-11ed-ba70-00e01a6800eb
B191: 71393 | C191: Лента атласная | D191: Ярко-розовый (05) | E191: 25мм×25ярд. Китай | F191: упак | G191: 5 | H191: 66 | I191: 39 | J191: 32265 | L191: =IF(K191>0,K191*I191,"") | N191: =IF(K191>0,COUNTIF($K$7:K191,">0"),"") | O191: https://www.test.lavrpack.ru/local/templates/phoenix_v1/images_cache/thumbs/c2484c35292f40328a66a7fd7cc09750.webp?v=1789963876 | P191: 454d5aae-dcc9-11ec-bc66-00e01a6800eb#4eef81d0-619b-11ed-bb4b-00e01a6800eb
B192: 71393 | C192: Лента атласная | D192: Оранжевый (144) | E192: 25мм×25ярд. Китай | F192: упак | G192: 5 | H192: 66 | I192: 39 | J192: 3256 | L192: =IF(K192>0,K192*I192,"") | N192: =IF(K192>0,COUNTIF($K$7:K192,">0"),"") | O192: https://www.test.lavrpack.ru/local/templates/phoenix_v1/images_cache/thumbs/7ea067f64c0668d6f1a024b9931a621e.webp?v=1789963877 | P192: 454d5aae-dcc9-11ec-bc66-00e01a6800eb#6b46e3f2-619b-11ed-bb4b-00e01a6800eb
B193: 71393 | C193: Лента атласная | D193: Алый (163) | E193: 25мм×25ярд. Китай | F193: упак | G193: 5 | H193: 66 | I193: 39 | J193: 4884 | L193: =IF(K193>0,K193*I193,"") | N193: =IF(K193>0,COUNTIF($K$7:K193,">0"),"") | O193: https://www.test.lavrpack.ru/local/templates/phoenix_v1/images_cache/thumbs/eaf2fb020c11118219a76d99dcb63b1f.webp?v=1789963878 | P193: 454d5aae-dcc9-11ec-bc66-00e01a6800eb#8702642f-665c-11ed-bb4b-00e01a6800eb
B194: 71393 | C194: Лента атласная | D194: Темно-фиолетовый (46) | E194: 25мм×25ярд. Китай | F194: упак | G194: 5 | H194: 66 | I194: 39 | J194: 2995 | L194: =IF(K194>0,K194*I194,"") | N194: =IF(K194>0,COUNTIF($K$7:K194,">0"),"") | O194: https://www.test.lavrpack.ru/local/templates/phoenix_v1/images_cache/thumbs/5a85a8f7e287d1a6d8d53f833e9fb7ee.webp?v=1789968267 | P194: 454d5aae-dcc9-11ec-bc66-00e01a6800eb#07bc86e6-bc1c-11ed-ba70-00e01a6800eb
B195: 71393 | C195: Лента атласная | D195: Вишня (48) | E195: 25мм×25ярд. Китай | F195: упак | G195: 5 | H195: 66 | I195: 39 | J195: 20085 | L195: =IF(K195>0,K195*I195,"") | N195: =IF(K195>0,COUNTIF($K$7:K195,">0"),"") | O195: https://www.test.lavrpack.ru/local/templates/phoenix_v1/images_cache/thumbs/29d8c93fad25e1125df50128a89b26bb.webp?v=1789968270 | P195: 454d5aae-dcc9-11ec-bc66-00e01a6800eb#bbf1393f-9271-11ee-a8ad-00e01a6800eb
B196: 71393 | C196: Лента атласная | D196: Пудра (92) | E196: 25мм×25ярд. Китай | F196: упак | G196: 5 | H196: 66 | I196: 39 | J196: 5978 | L196: =IF(K196>0,K196*I196,"") | N196: =IF(K196>0,COUNTIF($K$7:K196,">0"),"") | O196: https://www.test.lavrpack.ru/local/templates/phoenix_v1/images_cache/thumbs/0da323542b5c1e5a365b4a75008f1180.webp?v=1789968269 | P196: 454d5aae-dcc9-11ec-bc66-00e01a6800eb#71b87d9f-619b-11ed-bb4b-00e01a6800eb
B197: 71393 | C197: Лента атласная | D197: Абрикосовый (97) | E197: 25мм×25ярд. Китай | F197: упак | G197: 5 | H197: 66 | I197: 39 | J197: 2100 | L197: =IF(K197>0,K197*I197,"") | N197: =IF(K197>0,COUNTIF($K$7:K197,">0"),"") | O197: https://www.test.lavrpack.ru/local/templates/phoenix_v1/images_cache/thumbs/2b6ade7063bd151caa0797f054ae5d59.webp?v=1789968268 | P197: 454d5aae-dcc9-11ec-bc66-00e01a6800eb#1669675c-bc1d-11ed-ba70-00e01a6800eb
B198: 71393 | C198: Лента атласная | D198: Темно-сиреневый (21) | E198: 25мм×25ярд. Китай | F198: упак | G198: 5 | H198: 66 | I198: 39 | J198: 2100 | L198: =IF(K198>0,K198*I198,"") | N198: =IF(K198>0,COUNTIF($K$7:K198,">0"),"") | O198: https://www.test.lavrpack.ru/local/templates/phoenix_v1/images_cache/thumbs/a554198156c7bab9d6b893a550ed6f51.webp?v=1789968269 | P198: 454d5aae-dcc9-11ec-bc66-00e01a6800eb#803cd9e6-090d-11ef-9f05-00e01a6800eb
B199: 71393 | C199: Лента атласная | D199: Белый (01) | E199: 25мм×25ярд. Китай | F199: упак | G199: 5 | H199: 66 | I199: 39 | J199: 95835 | L199: =IF(K199>0,K199*I199,"") | N199: =IF(K199>0,COUNTIF($K$7:K199,">0"),"") | O199: https://www.test.lavrpack.ru/local/templates/phoenix_v1/images_cache/thumbs/398af68f4b3215fec89338255ee0d3b4.webp?v=1789968268 | P199: 454d5aae-dcc9-11ec-bc66-00e01a6800eb#5ea67e5a-64db-11ed-bb4b-00e01a6800eb
B200: 71393 | C200: Лента атласная | D200: Слоновая кость (83) | E200: 25мм×25ярд. Китай | F200: упак | G200: 5 | H200: 66 | I200: 39 | J200: 4496 | L200: =IF(K200>0,K200*I200,"") | N200: =IF(K200>0,COUNTIF($K$7:K200,">0"),"") | O200: https://www.test.lavrpack.ru/local/templates/phoenix_v1/images_cache/thumbs/32945328be7419273f97ffc271265600.webp?v=1789968269 | P200: 454d5aae-dcc9-11ec-bc66-00e01a6800eb#b7a8108c-6659-11ed-bb4b-00e01a6800eb
... B260: 68170 | C260: Лента атласная | D260: Ягодный (134) | E260: 38мм×25ярд. Китай | F260: упак | G260: 5 | H260: 99 | I260: 58 | J260: 2894 | L260: =IF(K260>0,K260*I260,"") | N260: =IF(K260>0,COUNTIF($K$7:K260,">0"),"") | O260: https://www.test.lavrpack.ru/local/templates/phoenix_v1/images_cache/thumbs/2c5a4cd4e7695646eb0fd6721f910f30.webp?v=1789911444 | P260: 18cd602f-7f2f-11ec-b73f-0018e40a3af2#6dbb0075-0bab-11ef-9f05-00e01a6800eb
B261: 105683 | C261: Лента атласная "I like you" | D261: Розовый | E261: 25мм×25ярд., | G261: 1 | H261: 297 | I261: 185 | J261: 32 | L261: =IF(K261>0,K261*I261,"") | N261: =IF(K261>0,COUNTIF($K$7:K261,">0"),"") | O261: https://www.test.lavrpack.ru/local/templates/phoenix_v1/images_cache/thumbs/1d53556e0b7da362f186618107970de1.webp?v=1789963874 | P261: 1f00eb3e-b697-11ee-baea-00e01a6800eb#de4af035-ed9f-11ee-9f05-00e01a6800eb
B262: 104353 | C262: Лента атласная | D262: со снежинками, Золото | E262: 10мм×25ярд, | G262: 1 | H262: 132 | I262: 131 | J262: 475 | L262: =IF(K262>0,K262*I262,"") | N262: =IF(K262>0,COUNTIF($K$7:K262,">0"),"") | O262: https://www.test.lavrpack.ru/local/templates/phoenix_v1/images_cache/thumbs/9e789f527fa8a4a2487df0d276ddadce.webp?v=1789911444 | P262: 1b39ec9c-6445-11ee-bc2f-00e01a6800eb#e6205f42-6665-11ee-bc2f-00e01a6800eb
B263: 104353 | C263: Лента атласная | D263: со снежинками, Серебро | E263: 10мм×25ярд, | G263: 1 | H263: 132 | I263: 131 | J263: 1218 | L263: =IF(K263>0,K263*I263,"") | N263: =IF(K263>0,COUNTIF($K$7:K263,">0"),"") | O263: https://www.test.lavrpack.ru/local/templates/phoenix_v1/images_cache/thumbs/e346523f855365ed3edfe1675929d6f4.webp?v=1789963874 | P263: 1b39ec9c-6445-11ee-bc2f-00e01a6800eb#ec1892c5-6665-11ee-bc2f-00e01a6800eb
B264: 104355 | C264: Лента атласная | D264: белая, белое серебро | E264: 10мм×25ярд, | G264: 1 | H264: 132 | I264: 131 | J264: 1369 | L264: =IF(K264>0,K264*I264,"") | N264: =IF(K264>0,COUNTIF($K$7:K264,">0"),"") | O264: https://www.test.lavrpack.ru/local/templates/phoenix_v1/images_cache/thumbs/dbb6d7ca9dca5ae7fa8ff67eb0a9a448.webp?v=1789963886 | P264: a697f904-6447-11ee-bc2f-00e01a6800eb#42fd2e12-6666-11ee-bc2f-00e01a6800eb
B265: 104355 | C265: Лента атласная | D265: белая, белое золото | E265: 10мм×25ярд, | G265: 1 | H265: 132 | I265: 131 | J265: 1098 | L265: =IF(K265>0,K265*I265,"") | N265: =IF(K265>0,COUNTIF($K$7:K265,">0"),"") | O265: https://www.test.lavrpack.ru/local/templates/phoenix_v1/images_cache/thumbs/7bb0f02140910ea76fe4f21c0dc25aac.webp?v=1789911453 | P265: a697f904-6447-11ee-bc2f-00e01a6800eb#4f1b1d38-6666-11ee-bc2f-00e01a6800eb
B266: 104356 | C266: Лента атласная | D266: белая , белое золото | E266: 25мм×25ярд, | G266: 1 | H266: 209 | I266: 203 | J266: 294 | L266: =IF(K266>0,K266*I266,"") | N266: =IF(K266>0,COUNTIF($K$7:K266,">0"),"") | O266: https://www.test.lavrpack.ru/local/templates/phoenix_v1/images_cache/thumbs/a9e00cfaf52fac573b0374b43ca30c7d.webp?v=1789911443 | P266: 00a1268f-6448-11ee-bc2f-00e01a6800eb#58ef2bc9-6666-11ee-bc2f-00e01a6800eb
B267: 104356 | C267: Лента атласная | D267: белая , белое серебро | E267: 25мм×25ярд, | G267: 1 | H267: 209 | I267: 203 | J267: 221 | L267: =IF(K267>0,K267*I267,"") | N267: =IF(K267>0,COUNTIF($K$7:K267,">0"),"") | O267: https://www.test.lavrpack.ru/local/templates/phoenix_v1/images_cache/thumbs/764c6662850eb3a895184650bdecb6a0.webp?v=1789963874 | P267: 00a1268f-6448-11ee-bc2f-00e01a6800eb#82dea9ce-6666-11ee-bc2f-00e01a6800eb
B268: 104354 | C268: Лента атласная | D268: со снежинками, Золото | E268: 25мм×25ярд, | G268: 1 | H268: 209 | I268: 203 | J268: 276 | L268: =IF(K268>0,K268*I268,"") | N268: =IF(K268>0,COUNTIF($K$7:K268,">0"),"") | O268: https://www.test.lavrpack.ru/local/templates/phoenix_v1/images_cache/thumbs/86c462ffc696256112a00a694516fe69.webp?v=1789963883 | P268: 60afd4c6-6446-11ee-bc2f-00e01a6800eb#04112e34-6666-11ee-bc2f-00e01a6800eb
B269: 104354 | C269: Лента атласная | D269: со снежинками, Серебро | E269: 25мм×25ярд, | G269: 1 | H269: 209 | I269: 203 | J269: 521 | L269: =IF(K269>0,K269*I269,"") | N269: =IF(K269>0,COUNTIF($K$7:K269,">0"),"") | O269: https://www.test.lavrpack.ru/local/templates/phoenix_v1/images_cache/thumbs/19534c388b573278e65af1fa124d1792.webp?v=1789911453 | P269: 60afd4c6-6446-11ee-bc2f-00e01a6800eb#0bcda718-6666-11ee-bc2f-00e01a6800eb
B270: 110215 | C270: Лента атласная, двухсторонняя "Happy Day" | D270: Коричневый | E270: 2,5см×20yards, | G270: 1 | H270: 231 | I270: 143 | J270: 107 | L270: =IF(K270>0,K270*I270,"") | N270: =IF(K270>0,COUNTIF($K$7:K270,">0"),"") | O270: https://www.test.lavrpack.ru/local/templates/phoenix_v1/images_cache/thumbs/6c11f7b0b0d1073fca74d8c0ee544b0e.webp?v=1789946152 | P270: 68145c1e-9680-11ef-ab37-22344d083d2c#cebc3e3d-4a1c-11f1-ab50-22344d083d2c
B271: 110215 | C271: Лента атласная, двухсторонняя "Happy Day" | D271: Белый | E271: 2,5см×20yards, | G271: 1 | H271: 231 | I271: 143 | J271: 168 | L271: =IF(K271>0,K271*I271,"") | N271: =IF(K271>0,COUNTIF($K$7:K271,">0"),"") | O271: https://www.test.lavrpack.ru/local/templates/phoenix_v1/images_cache/thumbs/2dfec78d20ba3bdb686a6c7541398ef8.webp?v=1789946152 | P271: 68145c1e-9680-11ef-ab37-22344d083d2c#c4cdd817-4a1c-11f1-ab50-22344d083d2c
A272: Репсовые, джутовые — 69 поз. | N272: =IF(K272>0,COUNTIF($K$7:K272,">0"),"")
B273: 110389 | C273: Лента | D273: Капучино (147) | E273: Репсовая 1см×25ярд | G273: 1 | H273: 66 | I273: 42 | J273: 3531 | L273: =IF(K273>0,K273*I273,"") | N273: =IF(K273>0,COUNTIF($K$7:K273,">0"),"") | O273: https://www.test.lavrpack.ru/local/templates/phoenix_v1/images_cache/thumbs/2498dcbc3b4aa9de8424c84fb4738ffa.webp?v=1789946158 | P273: 6c39a276-9cea-11ef-ab3b-22344d083d2c#a9f2b2b8-9cee-11ef-ab3b-22344d083d2c
B274: 110389 | C274: Лента | D274: Графит (07) | E274: Репсовая 1см×25ярд | G274: 1 | H274: 66 | I274: 42 | J274: 2314 | L274: =IF(K274>0,K274*I274,"") | N274: =IF(K274>0,COUNTIF($K$7:K274,">0"),"") | O274: https://www.test.lavrpack.ru/local/templates/phoenix_v1/images_cache/thumbs/44682fecffe665af87d494f5093ec9a9.webp?v=1789946157 | P274: 6c39a276-9cea-11ef-ab3b-22344d083d2c#91ddec10-9cea-11ef-ab3b-22344d083d2c
B275: 110389 | C275: Лента | D275: Малиновый (31) | E275: Репсовая 1см×25ярд | G275: 1 | H275: 66 | I275: 42 | J275: 2867 | L275: =IF(K275>0,K275*I275,"") | N275: =IF(K275>0,COUNTIF($K$7:K275,">0"),"") | O275: https://www.test.lavrpack.ru/local/templates/phoenix_v1/images_cache/thumbs/c2bb68e7de165ae873b66b08dcbcf0fb.webp?v=1789946154 | P275: 6c39a276-9cea-11ef-ab3b-22344d083d2c#4a94ab1c-9ced-11ef-ab3b-22344d083d2c
B276: 110389 | C276: Лента | D276: Тиффани (51) | E276: Репсовая 1см×25ярд | G276: 1 | H276: 66 | I276: 42 | J276: 2953 | L276: =IF(K276>0,K276*I276,"") | N276: =IF(K276>0,COUNTIF($K$7:K276,">0"),"") | O276: https://www.test.lavrpack.ru/local/templates/phoenix_v1/images_cache/thumbs/79364b67f06eb89409d72e7ba87e980c.webp?v=1789946159 | P276: 6c39a276-9cea-11ef-ab3b-22344d083d2c#e9a4d0a8-9ced-11ef-ab3b-22344d083d2c
B277: 110389 | C277: Лента | D277: Розовый (14) | E277: Репсовая 1см×25ярд | G277: 1 | H277: 66 | I277: 42 | J277: 2030 | L277: =IF(K277>0,K277*I277,"") | N277: =IF(K277>0,COUNTIF($K$7:K277,">0"),"") | O277: https://www.test.lavrpack.ru/local/templates/phoenix_v1/images_cache/thumbs/4b92dadf59c23b9bcd8658a3a19ff7c2.webp?v=1789946159 | P277: 6c39a276-9cea-11ef-ab3b-22344d083d2c#b7e357f9-9cea-11ef-ab3b-22344d083d2c
B278: 110389 | C278: Лента | D278: Алый (38) | E278: Репсовая 1см×25ярд | G278: 1 | H278: 66 | I278: 42 | J278: 2334 | L278: =IF(K278>0,K278*I278,"") | N278: =IF(K278>0,COUNTIF($K$7:K278,">0"),"") | O278: https://www.test.lavrpack.ru/local/templates/phoenix_v1/images_cache/thumbs/bcabe25226b7b4c110c6ffc15fd6fdbf.webp?v=1789946157 | P278: 6c39a276-9cea-11ef-ab3b-22344d083d2c#97d00b6e-9ced-11ef-ab3b-22344d083d2c
B279: 110389 | C279: Лента | D279: Барби (146) | E279: Репсовая 1см×25ярд | G279: 1 | H279: 66 | I279: 42 | J279: 2866 | L279: =IF(K279>0,K279*I279,"") | N279: =IF(K279>0,COUNTIF($K$7:K279,">0"),"") | O279: https://www.test.lavrpack.ru/local/templates/phoenix_v1/images_cache/thumbs/4d9681409d2eb03d370feb2a0b77b217.webp?v=1789946157 | P279: 6c39a276-9cea-11ef-ab3b-22344d083d2c#979b49ad-9cee-11ef-ab3b-22344d083d2c
B280: 110389 | C280: Лента | D280: Слоновая кость (04) | E280: Репсовая 1см×25ярд | G280: 1 | H280: 66 | I280: 42 | J280: 3201 | L280: =IF(K280>0,K280*I280,"") | N280: =IF(K280>0,COUNTIF($K$7:K280,">0"),"") | O280: https://www.test.lavrpack.ru/local/templates/phoenix_v1/images_cache/thumbs/a52cf036f745e658ab871bdf98def53d.webp?v=1789946155 | P280: 6c39a276-9cea-11ef-ab3b-22344d083d2c#78a2aa03-9cea-11ef-ab3b-22344d083d2c
B281: 110389 | C281: Лента | D281: Лиловый (17) | E281: Репсовая 1см×25ярд | G281: 1 | H281: 66 | I281: 42 | J281: 2770 | L281: =IF(K281>0,K281*I281,"") | N281: =IF(K281>0,COUNTIF($K$7:K281,">0"),"") | O281: https://www.test.lavrpack.ru/local/templates/phoenix_v1/images_cache/thumbs/8551707b13b100763dda4e687c693461.webp?v=1789946153 | P281: 6c39a276-9cea-11ef-ab3b-22344d083d2c#0fb365f7-9ceb-11ef-ab3b-22344d083d2c
B282: 110389 | C282: Лента | D282: Пурпурный (33) | E282: Репсовая 1см×25ярд | G282: 1 | H282: 66 | I282: 42 | J282: 2871 | L282: =IF(K282>0,K282*I282,"") | N282: =IF(K282>0,COUNTIF($K$7:K282,">0"),"") | O282: https://www.test.lavrpack.ru/local/templates/phoenix_v1/images_cache/thumbs/076706fd05b8f47b523ceacecd427cff.webp?v=1789946156 | P282: 6c39a276-9cea-11ef-ab3b-22344d083d2c#78a5710d-9ced-11ef-ab3b-22344d083d2c
B283: 110389 | C283: Лента | D283: Сиреневый (72) | E283: Репсовая 1см×25ярд | G283: 1 | H283: 66 | I283: 42 | J283: 2909 | L283: =IF(K283>0,K283*I283,"") | N283: =IF(K283>0,COUNTIF($K$7:K283,">0"),"") | O283: https://www.test.lavrpack.ru/local/templates/phoenix_v1/images_cache/thumbs/a997d88c5c0777b758ab47ebb4848166.webp?v=1789946153 | P283: 6c39a276-9cea-11ef-ab3b-22344d083d2c#2cf7481b-9cee-11ef-ab3b-22344d083d2c
B284: 110389 | C284: Лента | D284: Черный (06) | E284: Репсовая 1см×25ярд | G284: 1 | H284: 66 | I284: 42 | J284: 3824 | L284: =IF(K284>0,K284*I284,"") | N284: =IF(K284>0,COUNTIF($K$7:K284,">0"),"") | O284: https://www.test.lavrpack.ru/local/templates/phoenix_v1/images_cache/thumbs/ef6f6915b450752b1e64ad1c943b4307.webp?v=1789946156 | P284: 6c39a276-9cea-11ef-ab3b-22344d083d2c#8ace18cf-9cea-11ef-ab3b-22344d083d2c
... B330: 110388 | C330: Лента | D330: Светло-сиреневый (122) | E330: Репсовая 2,5см×25ярд | G330: 1 | H330: 82.5 | I330: 70 | J330: 2577 | L330: =IF(K330>0,K330*I330,"") | N330: =IF(K330>0,COUNTIF($K$7:K330,">0"),"") | O330: https://www.test.lavrpack.ru/local/templates/phoenix_v1/images_cache/thumbs/9aaf2f7b176a0267e0f6d812c8d2ab5d.webp?v=1789946150 | P330: 0b8b00e2-9ce6-11ef-ab3b-22344d083d2c#f6e8eb21-9ce6-11ef-ab3b-22344d083d2c
...

Sheet Ваш заказ
A1: · Ваш заказ
A2: Здесь автоматически отображаются только позиции, в которых на листе «Прайс и заказ» указано количество. Лист обновляется сам — ничего копировать не нужно.
A3: Компания | B3: =IF('Прайс и заказ'!B2="","",'Прайс и заказ'!B2) | C3: Телефон | D3: =IF('Прайс и заказ'!B4="","",'Прайс и заказ'!B4) | E3: Город | F3: =IF('Прайс и заказ'!B5="","",'Прайс и заказ'!B5)
A4: Контактное лицо | B4: =IF('Прайс и заказ'!B3="","",'Прайс и заказ'!B3) | C4: Комментарий | D4: =IF('Прайс и заказ'!E2="","",'Прайс и заказ'!E2)
A5: Дата прайса | B5: =IF('Прайс и заказ'!E3="","",'Прайс и заказ'!E3) | C5: Категория | D5: =IF('Прайс и заказ'!E4="","",'Прайс и заказ'!E4)
A6: Итого позиций | C6: ='Прайс и заказ'!K437 | D6: Общее количество | F6: ='Прайс и заказ'!K438 | G6: Сумма заказа | I6: ='Прайс и заказ'!K439
A8: Фото | B8: Артикул | C8: Товар | D8: Цвет / вариант | E8: Ед. | F8: Цена опт, с НДС | G8: Заказать | H8: Сумма | I8: Комментарий | J8: служебная
A9: =IF($J9=0,"",IFERROR(_xlfn.IMAGE(INDEX('Прайс и заказ'!$O:$O,$J9)),"")) | B9: =IF($J9=0,"",IF(INDEX('Прайс и заказ'!B:B,$J9)="","",INDEX('Прайс и заказ'!B:B,$J9))) | C9: =IF($J9=0,"",IF(INDEX('Прайс и заказ'!C:C,$J9)="","",INDEX('Прайс и заказ'!C:C,$J9))) | D9: =IF($J9=0,"",IF(INDEX('Прайс и заказ'!D:D,$J9)="","",INDEX('Прайс и заказ'!D:D,$J9))) | E9: =IF($J9=0,"",IF(INDEX('Прайс и заказ'!F:F,$J9)="","",INDEX('Прайс и заказ'!F:F,$J9))) | F9: =IF($J9=0,"",IF(INDEX('Прайс и заказ'!I:I,$J9)="","",INDEX('Прайс и заказ'!I:I,$J9))) | G9: =IF($J9=0,"",IF(INDEX('Прайс и заказ'!K:K,$J9)="","",INDEX('Прайс и заказ'!K:K,$J9))) | H9: =IF($J9=0,"",IF(INDEX('Прайс и заказ'!L:L,$J9)="","",INDEX('Прайс и заказ'!L:L,$J9))) | I9: =IF($J9=0,"",IF(INDEX('Прайс и заказ'!M:M,$J9)="","",INDEX('Прайс и заказ'!M:M,$J9))) | J9: =IFERROR(MATCH(1,'Прайс и заказ'!$N$7:$N$435,0)+6,0) | K9: =IF($J9=0,"← Пока ничего не выбрано — заполните колонку «Заказать» на листе «Прайс и заказ»","")
A10: =IF($J10=0,"",IFERROR(_xlfn.IMAGE(INDEX('Прайс и заказ'!$O:$O,$J10)),"")) | B10: =IF($J10=0,"",IF(INDEX('Прайс и заказ'!B:B,$J10)="","",INDEX('Прайс и заказ'!B:B,$J10))) | C10: =IF($J10=0,"",IF(INDEX('Прайс и заказ'!C:C,$J10)="","",INDEX('Прайс и заказ'!C:C,$J10))) | D10: =IF($J10=0,"",IF(INDEX('Прайс и заказ'!D:D,$J10)="","",INDEX('Прайс и заказ'!D:D,$J10))) | E10: =IF($J10=0,"",IF(INDEX('Прайс и заказ'!F:F,$J10)="","",INDEX('Прайс и заказ'!F:F,$J10))) | F10: =IF($J10=0,"",IF(INDEX('Прайс и заказ'!I:I,$J10)="","",INDEX('Прайс и заказ'!I:I,$J10))) | G10: =IF($J10=0,"",IF(INDEX('Прайс и заказ'!K:K,$J10)="","",INDEX('Прайс и заказ'!K:K,$J10))) | H10: =IF($J10=0,"",IF(INDEX('Прайс и заказ'!L:L,$J10)="","",INDEX('Прайс и заказ'!L:L,$J10))) | I10: =IF($J10=0,"",IF(INDEX('Прайс и заказ'!M:M,$J10)="","",INDEX('Прайс и заказ'!M:M,$J10))) | J10: =IFERROR(MATCH(2,'Прайс и заказ'!$N$7:$N$435,0)+6,0)
A11: =IF($J11=0,"",IFERROR(_xlfn.IMAGE(INDEX('Прайс и заказ'!$O:$O,$J11)),"")) | B11: =IF($J11=0,"",IF(INDEX('Прайс и заказ'!B:B,$J11)="","",INDEX('Прайс и заказ'!B:B,$J11))) | C11: =IF($J11=0,"",IF(INDEX('Прайс и заказ'!C:C,$J11)="","",INDEX('Прайс и заказ'!C:C,$J11))) | D11: =IF($J11=0,"",IF(INDEX('Прайс и заказ'!D:D,$J11)="","",INDEX('Прайс и заказ'!D:D,$J11))) | E11: =IF($J11=0,"",IF(INDEX('Прайс и заказ'!F:F,$J11)="","",INDEX('Прайс и заказ'!F:F,$J11))) | F11: =IF($J11=0,"",IF(INDEX('Прайс и заказ'!I:I,$J11)="","",INDEX('Прайс и заказ'!I:I,$J11))) | G11: =IF($J11=0,"",IF(INDEX('Прайс и заказ'!K:K,$J11)="","",INDEX('Прайс и заказ'!K:K,$J11))) | H11: =IF($J11=0,"",IF(INDEX('Прайс и заказ'!L:L,$J11)="","",INDEX('Прайс и заказ'!L:L,$J11))) | I11: =IF($J11=0,"",IF(INDEX('Прайс и заказ'!M:M,$J11)="","",INDEX('Прайс и заказ'!M:M,$J11))) | J11: =IFERROR(MATCH(3,'Прайс и заказ'!$N$7:$N$435,0)+6,0)
A12: =IF($J12=0,"",IFERROR(_xlfn.IMAGE(INDEX('Прайс и заказ'!$O:$O,$J12)),"")) | B12: =IF($J12=0,"",IF(INDEX('Прайс и заказ'!B:B,$J12)="","",INDEX('Прайс и заказ'!B:B,$J12))) | C12: =IF($J12=0,"",IF(INDEX('Прайс и заказ'!C:C,$J12)="","",INDEX('Прайс и заказ'!C:C,$J12))) | D12: =IF($J12=0,"",IF(INDEX('Прайс и заказ'!D:D,$J12)="","",INDEX('Прайс и заказ'!D:D,$J12))) | E12: =IF($J12=0,"",IF(INDEX('Прайс и заказ'!F:F,$J12)="","",INDEX('Прайс и заказ'!F:F,$J12))) | F12: =IF($J12=0,"",IF(INDEX('Прайс и заказ'!I:I,$J12)="","",INDEX('Прайс и заказ'!I:I,$J12))) | G12: =IF($J12=0,"",IF(INDEX('Прайс и заказ'!K:K,$J12)="","",INDEX('Прайс и заказ'!K:K,$J12))) | H12: =IF($J12=0,"",IF(INDEX('Прайс и заказ'!L:L,$J12)="","",INDEX('Прайс и заказ'!L:L,$J12))) | I12: =IF($J12=0,"",IF(INDEX('Прайс и заказ'!M:M,$J12)="","",INDEX('Прайс и заказ'!M:M,$J12))) | J12: =IFERROR(MATCH(4,'Прайс и заказ'!$N$7:$N$435,0)+6,0)
A13: =IF($J13=0,"",IFERROR(_xlfn.IMAGE(INDEX('Прайс и заказ'!$O:$O,$J13)),"")) | B13: =IF($J13=0,"",IF(INDEX('Прайс и заказ'!B:B,$J13)="","",INDEX('Прайс и заказ'!B:B,$J13))) | C13: =IF($J13=0,"",IF(INDEX('Прайс и заказ'!C:C,$J13)="","",INDEX('Прайс и заказ'!C:C,$J13))) | D13: =IF($J13=0,"",IF(INDEX('Прайс и заказ'!D:D,$J13)="","",INDEX('Прайс и заказ'!D:D,$J13))) | E13: =IF($J13=0,"",IF(INDEX('Прайс и заказ'!F:F,$J13)="","",INDEX('Прайс и заказ'!F:F,$J13))) | F13: =IF($J13=0,"",IF(INDEX('Прайс и заказ'!I:I,$J13)="","",INDEX('Прайс и заказ'!I:I,$J13))) | G13: =IF($J13=0,"",IF(INDEX('Прайс и заказ'!K:K,$J13)="","",INDEX('Прайс и заказ'!K:K,$J13))) | H13: =IF($J13=0,"",IF(INDEX('Прайс и заказ'!L:L,$J13)="","",INDEX('Прайс и заказ'!L:L,$J13))) | I13: =IF($J13=0,"",IF(INDEX('Прайс и заказ'!M:M,$J13)="","",INDEX('Прайс и заказ'!M:M,$J13))) | J13: =IFERROR(MATCH(5,'Прайс и заказ'!$N$7:$N$435,0)+6,0)
A14: =IF($J14=0,"",IFERROR(_xlfn.IMAGE(INDEX('Прайс и заказ'!$O:$O,$J14)),"")) | B14: =IF($J14=0,"",IF(INDEX('Прайс и заказ'!B:B,$J14)="","",INDEX('Прайс и заказ'!B:B,$J14))) | C14: =IF($J14=0,"",IF(INDEX('Прайс и заказ'!C:C,$J14)="","",INDEX('Прайс и заказ'!C:C,$J14))) | D14: =IF($J14=0,"",IF(INDEX('Прайс и заказ'!D:D,$J14)="","",INDEX('Прайс и заказ'!D:D,$J14))) | E14: =IF($J14=0,"",IF(INDEX('Прайс и заказ'!F:F,$J14)="","",INDEX('Прайс и заказ'!F:F,$J14))) | F14: =IF($J14=0,"",IF(INDEX('Прайс и заказ'!I:I,$J14)="","",INDEX('Прайс и заказ'!I:I,$J14))) | G14: =IF($J14=0,"",IF(INDEX('Прайс и заказ'!K:K,$J14)="","",INDEX('Прайс и заказ'!K:K,$J14))) | H14: =IF($J14=0,"",IF(INDEX('Прайс и заказ'!L:L,$J14)="","",INDEX('Прайс и заказ'!L:L,$J14))) | I14: =IF($J14=0,"",IF(INDEX('Прайс и заказ'!M:M,$J14)="","",INDEX('Прайс и заказ'!M:M,$J14))) | J14: =IFERROR(MATCH(6,'Прайс и заказ'!$N$7:$N$435,0)+6,0)
A15: =IF($J15=0,"",IFERROR(_xlfn.IMAGE(INDEX('Прайс и заказ'!$O:$O,$J15)),"")) | B15: =IF($J15=0,"",IF(INDEX('Прайс и заказ'!B:B,$J15)="","",INDEX('Прайс и заказ'!B:B,$J15))) | C15: =IF($J15=0,"",IF(INDEX('Прайс и заказ'!C:C,$J15)="","",INDEX('Прайс и заказ'!C:C,$J15))) | D15: =IF($J15=0,"",IF(INDEX('Прайс и заказ'!D:D,$J15)="","",INDEX('Прайс и заказ'!D:D,$J15))) | E15: =IF($J15=0,"",IF(INDEX('Прайс и заказ'!F:F,$J15)="","",INDEX('Прайс и заказ'!F:F,$J15))) | F15: =IF($J15=0,"",IF(INDEX('Прайс и заказ'!I:I,$J15)="","",INDEX('Прайс и заказ'!I:I,$J15))) | G15: =IF($J15=0,"",IF(INDEX('Прайс и заказ'!K:K,$J15)="","",INDEX('Прайс и заказ'!K:K,$J15))) | H15: =IF($J15=0,"",IF(INDEX('Прайс и заказ'!L:L,$J15)="","",INDEX('Прайс и заказ'!L:L,$J15))) | I15: =IF($J15=0,"",IF(INDEX('Прайс и заказ'!M:M,$J15)="","",INDEX('Прайс и заказ'!M:M,$J15))) | J15: =IFERROR(MATCH(7,'Прайс и заказ'!$N$7:$N$435,0)+6,0)
A16: =IF($J16=0,"",IFERROR(_xlfn.IMAGE(INDEX('Прайс и заказ'!$O:$O,$J16)),"")) | B16: =IF($J16=0,"",IF(INDEX('Прайс и заказ'!B:B,$J16)="","",INDEX('Прайс и заказ'!B:B,$J16))) | C16: =IF($J16=0,"",IF(INDEX('Прайс и заказ'!C:C,$J16)="","",INDEX('Прайс и заказ'!C:C,$J16))) | D16: =IF($J16=0,"",IF(INDEX('Прайс и заказ'!D:D,$J16)="","",INDEX('Прайс и заказ'!D:D,$J16))) | E16: =IF($J16=0,"",IF(INDEX('Прайс и заказ'!F:F,$J16)="","",INDEX('Прайс и заказ'!F:F,$J16))) | F16: =IF($J16=0,"",IF(INDEX('Прайс и заказ'!I:I,$J16)="","",INDEX('Прайс и заказ'!I:I,$J16))) | G16: =IF($J16=0,"",IF(INDEX('Прайс и заказ'!K:K,$J16)="","",INDEX('Прайс и заказ'!K:K,$J16))) | H16: =IF($J16=0,"",IF(INDEX('Прайс и заказ'!L:L,$J16)="","",INDEX('Прайс и заказ'!L:L,$J16))) | I16: =IF($J16=0,"",IF(INDEX('Прайс и заказ'!M:M,$J16)="","",INDEX('Прайс и заказ'!M:M,$J16))) | J16: =IFERROR(MATCH(8,'Прайс и заказ'!$N$7:$N$435,0)+6,0)
A17: =IF($J17=0,"",IFERROR(_xlfn.IMAGE(INDEX('Прайс и заказ'!$O:$O,$J17)),"")) | B17: =IF($J17=0,"",IF(INDEX('Прайс и заказ'!B:B,$J17)="","",INDEX('Прайс и заказ'!B:B,$J17))) | C17: =IF($J17=0,"",IF(INDEX('Прайс и заказ'!C:C,$J17)="","",INDEX('Прайс и заказ'!C:C,$J17))) | D17: =IF($J17=0,"",IF(INDEX('Прайс и заказ'!D:D,$J17)="","",INDEX('Прайс и заказ'!D:D,$J17))) | E17: =IF($J17=0,"",IF(INDEX('Прайс и заказ'!F:F,$J17)="","",INDEX('Прайс и заказ'!F:F,$J17))) | F17: =IF($J17=0,"",IF(INDEX('Прайс и заказ'!I:I,$J17)="","",INDEX('Прайс и заказ'!I:I,$J17))) | G17: =IF($J17=0,"",IF(INDEX('Прайс и заказ'!K:K,$J17)="","",INDEX('Прайс и заказ'!K:K,$J17))) | H17: =IF($J17=0,"",IF(INDEX('Прайс и заказ'!L:L,$J17)="","",INDEX('Прайс и заказ'!L:L,$J17))) | I17: =IF($J17=0,"",IF(INDEX('Прайс и заказ'!M:M,$J17)="","",INDEX('Прайс и заказ'!M:M,$J17))) | J17: =IFERROR(MATCH(9,'Прайс и заказ'!$N$7:$N$435,0)+6,0)
A18: =IF($J18=0,"",IFERROR(_xlfn.IMAGE(INDEX('Прайс и заказ'!$O:$O,$J18)),"")) | B18: =IF($J18=0,"",IF(INDEX('Прайс и заказ'!B:B,$J18)="","",INDEX('Прайс и заказ'!B:B,$J18))) | C18: =IF($J18=0,"",IF(INDEX('Прайс и заказ'!C:C,$J18)="","",INDEX('Прайс и заказ'!C:C,$J18))) | D18: =IF($J18=0,"",IF(INDEX('Прайс и заказ'!D:D,$J18)="","",INDEX('Прайс и заказ'!D:D,$J18))) | E18: =IF($J18=0,"",IF(INDEX('Прайс и заказ'!F:F,$J18)="","",INDEX('Прайс и заказ'!F:F,$J18))) | F18: =IF($J18=0,"",IF(INDEX('Прайс и заказ'!I:I,$J18)="","",INDEX('Прайс и заказ'!I:I,$J18))) | G18: =IF($J18=0,"",IF(INDEX('Прайс и заказ'!K:K,$J18)="","",INDEX('Прайс и заказ'!K:K,$J18))) | H18: =IF($J18=0,"",IF(INDEX('Прайс и заказ'!L:L,$J18)="","",INDEX('Прайс и заказ'!L:L,$J18))) | I18: =IF($J18=0,"",IF(INDEX('Прайс и заказ'!M:M,$J18)="","",INDEX('Прайс и заказ'!M:M,$J18))) | J18: =IFERROR(MATCH(10,'Прайс и заказ'!$N$7:$N$435,0)+6,0)
A19: =IF($J19=0,"",IFERROR(_xlfn.IMAGE(INDEX('Прайс и заказ'!$O:$O,$J19)),"")) | B19: =IF($J19=0,"",IF(INDEX('Прайс и заказ'!B:B,$J19)="","",INDEX('Прайс и заказ'!B:B,$J19))) | C19: =IF($J19=0,"",IF(INDEX('Прайс и заказ'!C:C,$J19)="","",INDEX('Прайс и заказ'!C:C,$J19))) | D19: =IF($J19=0,"",IF(INDEX('Прайс и заказ'!D:D,$J19)="","",INDEX('Прайс и заказ'!D:D,$J19))) | E19: =IF($J19=0,"",IF(INDEX('Прайс и заказ'!F:F,$J19)="","",INDEX('Прайс и заказ'!F:F,$J19))) | F19: =IF($J19=0,"",IF(INDEX('Прайс и заказ'!I:I,$J19)="","",INDEX('Прайс и заказ'!I:I,$J19))) | G19: =IF($J19=0,"",IF(INDEX('Прайс и заказ'!K:K,$J19)="","",INDEX('Прайс и заказ'!K:K,$J19))) | H19: =IF($J19=0,"",IF(INDEX('Прайс и заказ'!L:L,$J19)="","",INDEX('Прайс и заказ'!L:L,$J19))) | I19: =IF($J19=0,"",IF(INDEX('Прайс и заказ'!M:M,$J19)="","",INDEX('Прайс и заказ'!M:M,$J19))) | J19: =IFERROR(MATCH(11,'Прайс и заказ'!$N$7:$N$435,0)+6,0)
A20: =IF($J20=0,"",IFERROR(_xlfn.IMAGE(INDEX('Прайс и заказ'!$O:$O,$J20)),"")) | B20: =IF($J20=0,"",IF(INDEX('Прайс и заказ'!B:B,$J20)="","",INDEX('Прайс и заказ'!B:B,$J20))) | C20: =IF($J20=0,"",IF(INDEX('Прайс и заказ'!C:C,$J20)="","",INDEX('Прайс и заказ'!C:C,$J20))) | D20: =IF($J20=0,"",IF(INDEX('Прайс и заказ'!D:D,$J20)="","",INDEX('Прайс и заказ'!D:D,$J20))) | E20: =IF($J20=0,"",IF(INDEX('Прайс и заказ'!F:F,$J20)="","",INDEX('Прайс и заказ'!F:F,$J20))) | F20: =IF($J20=0,"",IF(INDEX('Прайс и заказ'!I:I,$J20)="","",INDEX('Прайс и заказ'!I:I,$J20))) | G20: =IF($J20=0,"",IF(INDEX('Прайс и заказ'!K:K,$J20)="","",INDEX('Прайс и заказ'!K:K,$J20))) | H20: =IF($J20=0,"",IF(INDEX('Прайс и заказ'!L:L,$J20)="","",INDEX('Прайс и заказ'!L:L,$J20))) | I20: =IF($J20=0,"",IF(INDEX('Прайс и заказ'!M:M,$J20)="","",INDEX('Прайс и заказ'!M:M,$J20))) | J20: =IFERROR(MATCH(12,'Прайс и заказ'!$N$7:$N$435,0)+6,0)
A21: =IF($J21=0,"",IFERROR(_xlfn.IMAGE(INDEX('Прайс и заказ'!$O:$O,$J21)),"")) | B21: =IF($J21=0,"",IF(INDEX('Прайс и заказ'!B:B,$J21)="","",INDEX('Прайс и заказ'!B:B,$J21))) | C21: =IF($J21=0,"",IF(INDEX('Прайс и заказ'!C:C,$J21)="","",INDEX('Прайс и заказ'!C:C,$J21))) | D21: =IF($J21=0,"",IF(INDEX('Прайс и заказ'!D:D,$J21)="","",INDEX('Прайс и заказ'!D:D,$J21))) | E21: =IF($J21=0,"",IF(INDEX('Прайс и заказ'!F:F,$J21)="","",INDEX('Прайс и заказ'!F:F,$J21))) | F21: =IF($J21=0,"",IF(INDEX('Прайс и заказ'!I:I,$J21)="","",INDEX('Прайс и заказ'!I:I,$J21))) | G21: =IF($J21=0,"",IF(INDEX('Прайс и заказ'!K:K,$J21)="","",INDEX('Прайс и заказ'!K:K,$J21))) | H21: =IF($J21=0,"",IF(INDEX('Прайс и заказ'!L:L,$J21)="","",INDEX('Прайс и заказ'!L:L,$J21))) | I21: =IF($J21=0,"",IF(INDEX('Прайс и заказ'!M:M,$J21)="","",INDEX('Прайс и заказ'!M:M,$J21))) | J21: =IFERROR(MATCH(13,'Прайс и заказ'!$N$7:$N$435,0)+6,0)
A22: =IF($J22=0,"",IFERROR(_xlfn.IMAGE(INDEX('Прайс и заказ'!$O:$O,$J22)),"")) | B22: =IF($J22=0,"",IF(INDEX('Прайс и заказ'!B:B,$J22)="","",INDEX('Прайс и заказ'!B:B,$J22))) | C22: =IF($J22=0,"",IF(INDEX('Прайс и заказ'!C:C,$J22)="","",INDEX('Прайс и заказ'!C:C,$J22))) | D22: =IF($J22=0,"",IF(INDEX('Прайс и заказ'!D:D,$J22)="","",INDEX('Прайс и заказ'!D:D,$J22))) | E22: =IF($J22=0,"",IF(INDEX('Прайс и заказ'!F:F,$J22)="","",INDEX('Прайс и заказ'!F:F,$J22))) | F22: =IF($J22=0,"",IF(INDEX('Прайс и заказ'!I:I,$J22)="","",INDEX('Прайс и заказ'!I:I,$J22))) | G22: =IF($J22=0,"",IF(INDEX('Прайс и заказ'!K:K,$J22)="","",INDEX('Прайс и заказ'!K:K,$J22))) | H22: =IF($J22=0,"",IF(INDEX('Прайс и заказ'!L:L,$J22)="","",INDEX('Прайс и заказ'!L:L,$J22))) | I22: =IF($J22=0,"",IF(INDEX('Прайс и заказ'!M:M,$J22)="","",INDEX('Прайс и заказ'!M:M,$J22))) | J22: =IFERROR(MATCH(14,'Прайс и заказ'!$N$7:$N$435,0)+6,0)
A23: =IF($J23=0,"",IFERROR(_xlfn.IMAGE(INDEX('Прайс и заказ'!$O:$O,$J23)),"")) | B23: =IF($J23=0,"",IF(INDEX('Прайс и заказ'!B:B,$J23)="","",INDEX('Прайс и заказ'!B:B,$J23))) | C23: =IF($J23=0,"",IF(INDEX('Прайс и заказ'!C:C,$J23)="","",INDEX('Прайс и заказ'!C:C,$J23))) | D23: =IF($J23=0,"",IF(INDEX('Прайс и заказ'!D:D,$J23)="","",INDEX('Прайс и заказ'!D:D,$J23))) | E23: =IF($J23=0,"",IF(INDEX('Прайс и заказ'!F:F,$J23)="","",INDEX('Прайс и заказ'!F:F,$J23))) | F23: =IF($J23=0,"",IF(INDEX('Прайс и заказ'!I:I,$J23)="","",INDEX('Прайс и заказ'!I:I,$J23))) | G23: =IF($J23=0,"",IF(INDEX('Прайс и заказ'!K:K,$J23)="","",INDEX('Прайс и заказ'!K:K,$J23))) | H23: =IF($J23=0,"",IF(INDEX('Прайс и заказ'!L:L,$J23)="","",INDEX('Прайс и заказ'!L:L,$J23))) | I23: =IF($J23=0,"",IF(INDEX('Прайс и заказ'!M:M,$J23)="","",INDEX('Прайс и заказ'!M:M,$J23))) | J23: =IFERROR(MATCH(15,'Прайс и заказ'!$N$7:$N$435,0)+6,0)
A24: =IF($J24=0,"",IFERROR(_xlfn.IMAGE(INDEX('Прайс и заказ'!$O:$O,$J24)),"")) | B24: =IF($J24=0,"",IF(INDEX('Прайс и заказ'!B:B,$J24)="","",INDEX('Прайс и заказ'!B:B,$J24))) | C24: =IF($J24=0,"",IF(INDEX('Прайс и заказ'!C:C,$J24)="","",INDEX('Прайс и заказ'!C:C,$J24))) | D24: =IF($J24=0,"",IF(INDEX('Прайс и заказ'!D:D,$J24)="","",INDEX('Прайс и заказ'!D:D,$J24))) | E24: =IF($J24=0,"",IF(INDEX('Прайс и заказ'!F:F,$J24)="","",INDEX('Прайс и заказ'!F:F,$J24))) | F24: =IF($J24=0,"",IF(INDEX('Прайс и заказ'!I:I,$J24)="","",INDEX('Прайс и заказ'!I:I,$J24))) | G24: =IF($J24=0,"",IF(INDEX('Прайс и заказ'!K:K,$J24)="","",INDEX('Прайс и заказ'!K:K,$J24))) | H24: =IF($J24=0,"",IF(INDEX('Прайс и заказ'!L:L,$J24)="","",INDEX('Прайс и заказ'!L:L,$J24))) | I24: =IF($J24=0,"",IF(INDEX('Прайс и заказ'!M:M,$J24)="","",INDEX('Прайс и заказ'!M:M,$J24))) | J24: =IFERROR(MATCH(16,'Прайс и заказ'!$N$7:$N$435,0)+6,0)
A25: =IF($J25=0,"",IFERROR(_xlfn.IMAGE(INDEX('Прайс и заказ'!$O:$O,$J25)),"")) | B25: =IF($J25=0,"",IF(INDEX('Прайс и заказ'!B:B,$J25)="","",INDEX('Прайс и заказ'!B:B,$J25))) | C25: =IF($J25=0,"",IF(INDEX('Прайс и заказ'!C:C,$J25)="","",INDEX('Прайс и заказ'!C:C,$J25))) | D25: =IF($J25=0,"",IF(INDEX('Прайс и заказ'!D:D,$J25)="","",INDEX('Прайс и заказ'!D:D,$J25))) | E25: =IF($J25=0,"",IF(INDEX('Прайс и заказ'!F:F,$J25)="","",INDEX('Прайс и заказ'!F:F,$J25))) | F25: =IF($J25=0,"",IF(INDEX('Прайс и заказ'!I:I,$J25)="","",INDEX('Прайс и заказ'!I:I,$J25))) | G25: =IF($J25=0,"",IF(INDEX('Прайс и заказ'!K:K,$J25)="","",INDEX('Прайс и заказ'!K:K,$J25))) | H25: =IF($J25=0,"",IF(INDEX('Прайс и заказ'!L:L,$J25)="","",INDEX('Прайс и заказ'!L:L,$J25))) | I25: =IF($J25=0,"",IF(INDEX('Прайс и заказ'!M:M,$J25)="","",INDEX('Прайс и заказ'!M:M,$J25))) | J25: =IFERROR(MATCH(17,'Прайс и заказ'!$N$7:$N$435,0)+6,0)
A26: =IF($J26=0,"",IFERROR(_xlfn.IMAGE(INDEX('Прайс и заказ'!$O:$O,$J26)),"")) | B26: =IF($J26=0,"",IF(INDEX('Прайс и заказ'!B:B,$J26)="","",INDEX('Прайс и заказ'!B:B,$J26))) | C26: =IF($J26=0,"",IF(INDEX('Прайс и заказ'!C:C,$J26)="","",INDEX('Прайс и заказ'!C:C,$J26))) | D26: =IF($J26=0,"",IF(INDEX('Прайс и заказ'!D:D,$J26)="","",INDEX('Прайс и заказ'!D:D,$J26))) | E26: =IF($J26=0,"",IF(INDEX('Прайс и заказ'!F:F,$J26)="","",INDEX('Прайс и заказ'!F:F,$J26))) | F26: =IF($J26=0,"",IF(INDEX('Прайс и заказ'!I:I,$J26)="","",INDEX('Прайс и заказ'!I:I,$J26))) | G26: =IF($J26=0,"",IF(INDEX('Прайс и заказ'!K:K,$J26)="","",INDEX('Прайс и заказ'!K:K,$J26))) | H26: =IF($J26=0,"",IF(INDEX('Прайс и заказ'!L:L,$J26)="","",INDEX('Прайс и заказ'!L:L,$J26))) | I26: =IF($J26=0,"",IF(INDEX('Прайс и заказ'!M:M,$J26)="","",INDEX('Прайс и заказ'!M:M,$J26))) | J26: =IFERROR(MATCH(18,'Прайс и заказ'!$N$7:$N$435,0)+6,0)
A27: =IF($J27=0,"",IFERROR(_xlfn.IMAGE(INDEX('Прайс и заказ'!$O:$O,$J27)),"")) | B27: =IF($J27=0,"",IF(INDEX('Прайс и заказ'!B:B,$J27)="","",INDEX('Прайс и заказ'!B:B,$J27))) | C27: =IF($J27=0,"",IF(INDEX('Прайс и заказ'!C:C,$J27)="","",INDEX('Прайс и заказ'!C:C,$J27))) | D27: =IF($J27=0,"",IF(INDEX('Прайс и заказ'!D:D,$J27)="","",INDEX('Прайс и заказ'!D:D,$J27))) | E27: =IF($J27=0,"",IF(INDEX('Прайс и заказ'!F:F,$J27)="","",INDEX('Прайс и заказ'!F:F,$J27))) | F27: =IF($J27=0,"",IF(INDEX('Прайс и заказ'!I:I,$J27)="","",INDEX('Прайс и заказ'!I:I,$J27))) | G27: =IF($J27=0,"",IF(INDEX('Прайс и заказ'!K:K,$J27)="","",INDEX('Прайс и заказ'!K:K,$J27))) | H27: =IF($J27=0,"",IF(INDEX('Прайс и заказ'!L:L,$J27)="","",INDEX('Прайс и заказ'!L:L,$J27))) | I27: =IF($J27=0,"",IF(INDEX('Прайс и заказ'!M:M,$J27)="","",INDEX('Прайс и заказ'!M:M,$J27))) | J27: =IFERROR(MATCH(19,'Прайс и заказ'!$N$7:$N$435,0)+6,0)
A28: =IF($J28=0,"",IFERROR(_xlfn.IMAGE(INDEX('Прайс и заказ'!$O:$O,$J28)),"")) | B28: =IF($J28=0,"",IF(INDEX('Прайс и заказ'!B:B,$J28)="","",INDEX('Прайс и заказ'!B:B,$J28))) | C28: =IF($J28=0,"",IF(INDEX('Прайс и заказ'!C:C,$J28)="","",INDEX('Прайс и заказ'!C:C,$J28))) | D28: =IF($J28=0,"",IF(INDEX('Прайс и заказ'!D:D,$J28)="","",INDEX('Прайс и заказ'!D:D,$J28))) | E28: =IF($J28=0,"",IF(INDEX('Прайс и заказ'!F:F,$J28)="","",INDEX('Прайс и заказ'!F:F,$J28))) | F28: =IF($J28=0,"",IF(INDEX('Прайс и заказ'!I:I,$J28)="","",INDEX('Прайс и заказ'!I:I,$J28))) | G28: =IF($J28=0,"",IF(INDEX('Прайс и заказ'!K:K,$J28)="","",INDEX('Прайс и заказ'!K:K,$J28))) | H28: =IF($J28=0,"",IF(INDEX('Прайс и заказ'!L:L,$J28)="","",INDEX('Прайс и заказ'!L:L,$J28))) | I28: =IF($J28=0,"",IF(INDEX('Прайс и заказ'!M:M,$J28)="","",INDEX('Прайс и заказ'!M:M,$J28))) | J28: =IFERROR(MATCH(20,'Прайс и заказ'!$N$7:$N$435,0)+6,0)
A29: =IF($J29=0,"",IFERROR(_xlfn.IMAGE(INDEX('Прайс и заказ'!$O:$O,$J29)),"")) | B29: =IF($J29=0,"",IF(INDEX('Прайс и заказ'!B:B,$J29)="","",INDEX('Прайс и заказ'!B:B,$J29))) | C29: =IF($J29=0,"",IF(INDEX('Прайс и заказ'!C:C,$J29)="","",INDEX('Прайс и заказ'!C:C,$J29))) | D29: =IF($J29=0,"",IF(INDEX('Прайс и заказ'!D:D,$J29)="","",INDEX('Прайс и заказ'!D:D,$J29))) | E29: =IF($J29=0,"",IF(INDEX('Прайс и заказ'!F:F,$J29)="","",INDEX('Прайс и заказ'!F:F,$J29))) | F29: =IF($J29=0,"",IF(INDEX('Прайс и заказ'!I:I,$J29)="","",INDEX('Прайс и заказ'!I:I,$J29))) | G29: =IF($J29=0,"",IF(INDEX('Прайс и заказ'!K:K,$J29)="","",INDEX('Прайс и заказ'!K:K,$J29))) | H29: =IF($J29=0,"",IF(INDEX('Прайс и заказ'!L:L,$J29)="","",INDEX('Прайс и заказ'!L:L,$J29))) | I29: =IF($J29=0,"",IF(INDEX('Прайс и заказ'!M:M,$J29)="","",INDEX('Прайс и заказ'!M:M,$J29))) | J29: =IFERROR(MATCH(21,'Прайс и заказ'!$N$7:$N$435,0)+6,0)
A30: =IF($J30=0,"",IFERROR(_xlfn.IMAGE(INDEX('Прайс и заказ'!$O:$O,$J30)),"")) | B30: =IF($J30=0,"",IF(INDEX('Прайс и заказ'!B:B,$J30)="","",INDEX('Прайс и заказ'!B:B,$J30))) | C30: =IF($J30=0,"",IF(INDEX('Прайс и заказ'!C:C,$J30)="","",INDEX('Прайс и заказ'!C:C,$J30))) | D30: =IF($J30=0,"",IF(INDEX('Прайс и заказ'!D:D,$J30)="","",INDEX('Прайс и заказ'!D:D,$J30))) | E30: =IF($J30=0,"",IF(INDEX('Прайс и заказ'!F:F,$J30)="","",INDEX('Прайс и заказ'!F:F,$J30))) | F30: =IF($J30=0,"",IF(INDEX('Прайс и заказ'!I:I,$J30)="","",INDEX('Прайс и заказ'!I:I,$J30))) | G30: =IF($J30=0,"",IF(INDEX('Прайс и заказ'!K:K,$J30)="","",INDEX('Прайс и заказ'!K:K,$J30))) | H30: =IF($J30=0,"",IF(INDEX('Прайс и заказ'!L:L,$J30)="","",INDEX('Прайс и заказ'!L:L,$J30))) | I30: =IF($J30=0,"",IF(INDEX('Прайс и заказ'!M:M,$J30)="","",INDEX('Прайс и заказ'!M:M,$J30))) | J30: =IFERROR(MATCH(22,'Прайс и заказ'!$N$7:$N$435,0)+6,0)
A31: =IF($J31=0,"",IFERROR(_xlfn.IMAGE(INDEX('Прайс и заказ'!$O:$O,$J31)),"")) | B31: =IF($J31=0,"",IF(INDEX('Прайс и заказ'!B:B,$J31)="","",INDEX('Прайс и заказ'!B:B,$J31))) | C31: =IF($J31=0,"",IF(INDEX('Прайс и заказ'!C:C,$J31)="","",INDEX('Прайс и заказ'!C:C,$J31))) | D31: =IF($J31=0,"",IF(INDEX('Прайс и заказ'!D:D,$J31)="","",INDEX('Прайс и заказ'!D:D,$J31))) | E31: =IF($J31=0,"",IF(INDEX('Прайс и заказ'!F:F,$J31)="","",INDEX('Прайс и заказ'!F:F,$J31))) | F31: =IF($J31=0,"",IF(INDEX('Прайс и заказ'!I:I,$J31)="","",INDEX('Прайс и заказ'!I:I,$J31))) | G31: =IF($J31=0,"",IF(INDEX('Прайс и заказ'!K:K,$J31)="","",INDEX('Прайс и заказ'!K:K,$J31))) | H31: =IF($J31=0,"",IF(INDEX('Прайс и заказ'!L:L,$J31)="","",INDEX('Прайс и заказ'!L:L,$J31))) | I31: =IF($J31=0,"",IF(INDEX('Прайс и заказ'!M:M,$J31)="","",INDEX('Прайс и заказ'!M:M,$J31))) | J31: =IFERROR(MATCH(23,'Прайс и заказ'!$N$7:$N$435,0)+6,0)
A32: =IF($J32=0,"",IFERROR(_xlfn.IMAGE(INDEX('Прайс и заказ'!$O:$O,$J32)),"")) | B32: =IF($J32=0,"",IF(INDEX('Прайс и заказ'!B:B,$J32)="","",INDEX('Прайс и заказ'!B:B,$J32))) | C32: =IF($J32=0,"",IF(INDEX('Прайс и заказ'!C:C,$J32)="","",INDEX('Прайс и заказ'!C:C,$J32))) | D32: =IF($J32=0,"",IF(INDEX('Прайс и заказ'!D:D,$J32)="","",INDEX('Прайс и заказ'!D:D,$J32))) | E32: =IF($J32=0,"",IF(INDEX('Прайс и заказ'!F:F,$J32)="","",INDEX('Прайс и заказ'!F:F,$J32))) | F32: =IF($J32=0,"",IF(INDEX('Прайс и заказ'!I:I,$J32)="","",INDEX('Прайс и заказ'!I:I,$J32))) | G32: =IF($J32=0,"",IF(INDEX('Прайс и заказ'!K:K,$J32)="","",INDEX('Прайс и заказ'!K:K,$J32))) | H32: =IF($J32=0,"",IF(INDEX('Прайс и заказ'!L:L,$J32)="","",INDEX('Прайс и заказ'!L:L,$J32))) | I32: =IF($J32=0,"",IF(INDEX('Прайс и заказ'!M:M,$J32)="","",INDEX('Прайс и заказ'!M:M,$J32))) | J32: =IFERROR(MATCH(24,'Прайс и заказ'!$N$7:$N$435,0)+6,0)
A33: =IF($J33=0,"",IFERROR(_xlfn.IMAGE(INDEX('Прайс и заказ'!$O:$O,$J33)),"")) | B33: =IF($J33=0,"",IF(INDEX('Прайс и заказ'!B:B,$J33)="","",INDEX('Прайс и заказ'!B:B,$J33))) | C33: =IF($J33=0,"",IF(INDEX('Прайс и заказ'!C:C,$J33)="","",INDEX('Прайс и заказ'!C:C,$J33))) | D33: =IF($J33=0,"",IF(INDEX('Прайс и заказ'!D:D,$J33)="","",INDEX('Прайс и заказ'!D:D,$J33))) | E33: =IF($J33=0,"",IF(INDEX('Прайс и заказ'!F:F,$J33)="","",INDEX('Прайс и заказ'!F:F,$J33))) | F33: =IF($J33=0,"",IF(INDEX('Прайс и заказ'!I:I,$J33)="","",INDEX('Прайс и заказ'!I:I,$J33))) | G33: =IF($J33=0,"",IF(INDEX('Прайс и заказ'!K:K,$J33)="","",INDEX('Прайс и заказ'!K:K,$J33))) | H33: =IF($J33=0,"",IF(INDEX('Прайс и заказ'!L:L,$J33)="","",INDEX('Прайс и заказ'!L:L,$J33))) | I33: =IF($J33=0,"",IF(INDEX('Прайс и заказ'!M:M,$J33)="","",INDEX('Прайс и заказ'!M:M,$J33))) | J33: =IFERROR(MATCH(25,'Прайс и заказ'!$N$7:$N$435,0)+6,0)
A34: =IF($J34=0,"",IFERROR(_xlfn.IMAGE(INDEX('Прайс и заказ'!$O:$O,$J34)),"")) | B34: =IF($J34=0,"",IF(INDEX('Прайс и заказ'!B:B,$J34)="","",INDEX('Прайс и заказ'!B:B,$J34))) | C34: =IF($J34=0,"",IF(INDEX('Прайс и заказ'!C:C,$J34)="","",INDEX('Прайс и заказ'!C:C,$J34))) | D34: =IF($J34=0,"",IF(INDEX('Прайс и заказ'!D:D,$J34)="","",INDEX('Прайс и заказ'!D:D,$J34))) | E34: =IF($J34=0,"",IF(INDEX('Прайс и заказ'!F:F,$J34)="","",INDEX('Прайс и заказ'!F:F,$J34))) | F34: =IF($J34=0,"",IF(INDEX('Прайс и заказ'!I:I,$J34)="","",INDEX('Прайс и заказ'!I:I,$J34))) | G34: =IF($J34=0,"",IF(INDEX('Прайс и заказ'!K:K,$J34)="","",INDEX('Прайс и заказ'!K:K,$J34))) | H34: =IF($J34=0,"",IF(INDEX('Прайс и заказ'!L:L,$J34)="","",INDEX('Прайс и заказ'!L:L,$J34))) | I34: =IF($J34=0,"",IF(INDEX('Прайс и заказ'!M:M,$J34)="","",INDEX('Прайс и заказ'!M:M,$J34))) | J34: =IFERROR(MATCH(26,'Прайс и заказ'!$N$7:$N$435,0)+6,0)
A35: =IF($J35=0,"",IFERROR(_xlfn.IMAGE(INDEX('Прайс и заказ'!$O:$O,$J35)),"")) | B35: =IF($J35=0,"",IF(INDEX('Прайс и заказ'!B:B,$J35)="","",INDEX('Прайс и заказ'!B:B,$J35))) | C35: =IF($J35=0,"",IF(INDEX('Прайс и заказ'!C:C,$J35)="","",INDEX('Прайс и заказ'!C:C,$J35))) | D35: =IF($J35=0,"",IF(INDEX('Прайс и заказ'!D:D,$J35)="","",INDEX('Прайс и заказ'!D:D,$J35))) | E35: =IF($J35=0,"",IF(INDEX('Прайс и заказ'!F:F,$J35)="","",INDEX('Прайс и заказ'!F:F,$J35))) | F35: =IF($J35=0,"",IF(INDEX('Прайс и заказ'!I:I,$J35)="","",INDEX('Прайс и заказ'!I:I,$J35))) | G35: =IF($J35=0,"",IF(INDEX('Прайс и заказ'!K:K,$J35)="","",INDEX('Прайс и заказ'!K:K,$J35))) | H35: =IF($J35=0,"",IF(INDEX('Прайс и заказ'!L:L,$J35)="","",INDEX('Прайс и заказ'!L:L,$J35))) | I35: =IF($J35=0,"",IF(INDEX('Прайс и заказ'!M:M,$J35)="","",INDEX('Прайс и заказ'!M:M,$J35))) | J35: =IFERROR(MATCH(27,'Прайс и заказ'!$N$7:$N$435,0)+6,0)
A36: =IF($J36=0,"",IFERROR(_xlfn.IMAGE(INDEX('Прайс и заказ'!$O:$O,$J36)),"")) | B36: =IF($J36=0,"",IF(INDEX('Прайс и заказ'!B:B,$J36)="","",INDEX('Прайс и заказ'!B:B,$J36))) | C36: =IF($J36=0,"",IF(INDEX('Прайс и заказ'!C:C,$J36)="","",INDEX('Прайс и заказ'!C:C,$J36))) | D36: =IF($J36=0,"",IF(INDEX('Прайс и заказ'!D:D,$J36)="","",INDEX('Прайс и заказ'!D:D,$J36))) | E36: =IF($J36=0,"",IF(INDEX('Прайс и заказ'!F:F,$J36)="","",INDEX('Прайс и заказ'!F:F,$J36))) | F36: =IF($J36=0,"",IF(INDEX('Прайс и заказ'!I:I,$J36)="","",INDEX('Прайс и заказ'!I:I,$J36))) | G36: =IF($J36=0,"",IF(INDEX('Прайс и заказ'!K:K,$J36)="","",INDEX('Прайс и заказ'!K:K,$J36))) | H36: =IF($J36=0,"",IF(INDEX('Прайс и заказ'!L:L,$J36)="","",INDEX('Прайс и заказ'!L:L,$J36))) | I36: =IF($J36=0,"",IF(INDEX('Прайс и заказ'!M:M,$J36)="","",INDEX('Прайс и заказ'!M:M,$J36))) | J36: =IFERROR(MATCH(28,'Прайс и заказ'!$N$7:$N$435,0)+6,0)
A37: =IF($J37=0,"",IFERROR(_xlfn.IMAGE(INDEX('Прайс и заказ'!$O:$O,$J37)),"")) | B37: =IF($J37=0,"",IF(INDEX('Прайс и заказ'!B:B,$J37)="","",INDEX('Прайс и заказ'!B:B,$J37))) | C37: =IF($J37=0,"",IF(INDEX('Прайс и заказ'!C:C,$J37)="","",INDEX('Прайс и заказ'!C:C,$J37))) | D37: =IF($J37=0,"",IF(INDEX('Прайс и заказ'!D:D,$J37)="","",INDEX('Прайс и заказ'!D:D,$J37))) | E37: =IF($J37=0,"",IF(INDEX('Прайс и заказ'!F:F,$J37)="","",INDEX('Прайс и заказ'!F:F,$J37))) | F37: =IF($J37=0,"",IF(INDEX('Прайс и заказ'!I:I,$J37)="","",INDEX('Прайс и заказ'!I:I,$J37))) | G37: =IF($J37=0,"",IF(INDEX('Прайс и заказ'!K:K,$J37)="","",INDEX('Прайс и заказ'!K:K,$J37))) | H37: =IF($J37=0,"",IF(INDEX('Прайс и заказ'!L:L,$J37)="","",INDEX('Прайс и заказ'!L:L,$J37))) | I37: =IF($J37=0,"",IF(INDEX('Прайс и заказ'!M:M,$J37)="","",INDEX('Прайс и заказ'!M:M,$J37))) | J37: =IFERROR(MATCH(29,'Прайс и заказ'!$N$7:$N$435,0)+6,0)
A38: =IF($J38=0,"",IFERROR(_xlfn.IMAGE(INDEX('Прайс и заказ'!$O:$O,$J38)),"")) | B38: =IF($J38=0,"",IF(INDEX('Прайс и заказ'!B:B,$J38)="","",INDEX('Прайс и заказ'!B:B,$J38))) | C38: =IF($J38=0,"",IF(INDEX('Прайс и заказ'!C:C,$J38)="","",INDEX('Прайс и заказ'!C:C,$J38))) | D38: =IF($J38=0,"",IF(INDEX('Прайс и заказ'!D:D,$J38)="","",INDEX('Прайс и заказ'!D:D,$J38))) | E38: =IF($J38=0,"",IF(INDEX('Прайс и заказ'!F:F,$J38)="","",INDEX('Прайс и заказ'!F:F,$J38))) | F38: =IF($J38=0,"",IF(INDEX('Прайс и заказ'!I:I,$J38)="","",INDEX('Прайс и заказ'!I:I,$J38))) | G38: =IF($J38=0,"",IF(INDEX('Прайс и заказ'!K:K,$J38)="","",INDEX('Прайс и заказ'!K:K,$J38))) | H38: =IF($J38=0,"",IF(INDEX('Прайс и заказ'!L:L,$J38)="","",INDEX('Прайс и заказ'!L:L,$J38))) | I38: =IF($J38=0,"",IF(INDEX('Прайс и заказ'!M:M,$J38)="","",INDEX('Прайс и заказ'!M:M,$J38))) | J38: =IFERROR(MATCH(30,'Прайс и заказ'!$N$7:$N$435,0)+6,0)
A39: =IF($J39=0,"",IFERROR(_xlfn.IMAGE(INDEX('Прайс и заказ'!$O:$O,$J39)),"")) | B39: =IF($J39=0,"",IF(INDEX('Прайс и заказ'!B:B,$J39)="","",INDEX('Прайс и заказ'!B:B,$J39))) | C39: =IF($J39=0,"",IF(INDEX('Прайс и заказ'!C:C,$J39)="","",INDEX('Прайс и заказ'!C:C,$J39))) | D39: =IF($J39=0,"",IF(INDEX('Прайс и заказ'!D:D,$J39)="","",INDEX('Прайс и заказ'!D:D,$J39))) | E39: =IF($J39=0,"",IF(INDEX('Прайс и заказ'!F:F,$J39)="","",INDEX('Прайс и заказ'!F:F,$J39))) | F39: =IF($J39=0,"",IF(INDEX('Прайс и заказ'!I:I,$J39)="","",INDEX('Прайс и заказ'!I:I,$J39))) | G39: =IF($J39=0,"",IF(INDEX('Прайс и заказ'!K:K,$J39)="","",INDEX('Прайс и заказ'!K:K,$J39))) | H39: =IF($J39=0,"",IF(INDEX('Прайс и заказ'!L:L,$J39)="","",INDEX('Прайс и заказ'!L:L,$J39))) | I39: =IF($J39=0,"",IF(INDEX('Прайс и заказ'!M:M,$J39)="","",INDEX('Прайс и заказ'!M:M,$J39))) | J39: =IFERROR(MATCH(31,'Прайс и заказ'!$N$7:$N$435,0)+6,0)
A40: =IF($J40=0,"",IFERROR(_xlfn.IMAGE(INDEX('Прайс и заказ'!$O:$O,$J40)),"")) | B40: =IF($J40=0,"",IF(INDEX('Прайс и заказ'!B:B,$J40)="","",INDEX('Прайс и заказ'!B:B,$J40))) | C40: =IF($J40=0,"",IF(INDEX('Прайс и заказ'!C:C,$J40)="","",INDEX('Прайс и заказ'!C:C,$J40))) | D40: =IF($J40=0,"",IF(INDEX('Прайс и заказ'!D:D,$J40)="","",INDEX('Прайс и заказ'!D:D,$J40))) | E40: =IF($J40=0,"",IF(INDEX('Прайс и заказ'!F:F,$J40)="","",INDEX('Прайс и заказ'!F:F,$J40))) | F40: =IF($J40=0,"",IF(INDEX('Прайс и заказ'!I:I,$J40)="","",INDEX('Прайс и заказ'!I:I,$J40))) | G40: =IF($J40=0,"",IF(INDEX('Прайс и заказ'!K:K,$J40)="","",INDEX('Прайс и заказ'!K:K,$J40))) | H40: =IF($J40=0,"",IF(INDEX('Прайс и заказ'!L:L,$J40)="","",INDEX('Прайс и заказ'!L:L,$J40))) | I40: =IF($J40=0,"",IF(INDEX('Прайс и заказ'!M:M,$J40)="","",INDEX('Прайс и заказ'!M:M,$J40))) | J40: =IFERROR(MATCH(32,'Прайс и заказ'!$N$7:$N$435,0)+6,0)
A41: =IF($J41=0,"",IFERROR(_xlfn.IMAGE(INDEX('Прайс и заказ'!$O:$O,$J41)),"")) | B41: =IF($J41=0,"",IF(INDEX('Прайс и заказ'!B:B,$J41)="","",INDEX('Прайс и заказ'!B:B,$J41))) | C41: =IF($J41=0,"",IF(INDEX('Прайс и заказ'!C:C,$J41)="","",INDEX('Прайс и заказ'!C:C,$J41))) | D41: =IF($J41=0,"",IF(INDEX('Прайс и заказ'!D:D,$J41)="","",INDEX('Прайс и заказ'!D:D,$J41))) | E41: =IF($J41=0,"",IF(INDEX('Прайс и заказ'!F:F,$J41)="","",INDEX('Прайс и заказ'!F:F,$J41))) | F41: =IF($J41=0,"",IF(INDEX('Прайс и заказ'!I:I,$J41)="","",INDEX('Прайс и заказ'!I:I,$J41))) | G41: =IF($J41=0,"",IF(INDEX('Прайс и заказ'!K:K,$J41)="","",INDEX('Прайс и заказ'!K:K,$J41))) | H41: =IF($J41=0,"",IF(INDEX('Прайс и заказ'!L:L,$J41)="","",INDEX('Прайс и заказ'!L:L,$J41))) | I41: =IF($J41=0,"",IF(INDEX('Прайс и заказ'!M:M,$J41)="","",INDEX('Прайс и заказ'!M:M,$J41))) | J41: =IFERROR(MATCH(33,'Прайс и заказ'!$N$7:$N$435,0)+6,0)
A42: =IF($J42=0,"",IFERROR(_xlfn.IMAGE(INDEX('Прайс и заказ'!$O:$O,$J42)),"")) | B42: =IF($J42=0,"",IF(INDEX('Прайс и заказ'!B:B,$J42)="","",INDEX('Прайс и заказ'!B:B,$J42))) | C42: =IF($J42=0,"",IF(INDEX('Прайс и заказ'!C:C,$J42)="","",INDEX('Прайс и заказ'!C:C,$J42))) | D42: =IF($J42=0,"",IF(INDEX('Прайс и заказ'!D:D,$J42)="","",INDEX('Прайс и заказ'!D:D,$J42))) | E42: =IF($J42=0,"",IF(INDEX('Прайс и заказ'!F:F,$J42)="","",INDEX('Прайс и заказ'!F:F,$J42))) | F42: =IF($J42=0,"",IF(INDEX('Прайс и заказ'!I:I,$J42)="","",INDEX('Прайс и заказ'!I:I,$J42))) | G42: =IF($J42=0,"",IF(INDEX('Прайс и заказ'!K:K,$J42)="","",INDEX('Прайс и заказ'!K:K,$J42))) | H42: =IF($J42=0,"",IF(INDEX('Прайс и заказ'!L:L,$J42)="","",INDEX('Прайс и заказ'!L:L,$J42))) | I42: =IF($J42=0,"",IF(INDEX('Прайс и заказ'!M:M,$J42)="","",INDEX('Прайс и заказ'!M:M,$J42))) | J42: =IFERROR(MATCH(34,'Прайс и заказ'!$N$7:$N$435,0)+6,0)
A43: =IF($J43=0,"",IFERROR(_xlfn.IMAGE(INDEX('Прайс и заказ'!$O:$O,$J43)),"")) | B43: =IF($J43=0,"",IF(INDEX('Прайс и заказ'!B:B,$J43)="","",INDEX('Прайс и заказ'!B:B,$J43))) | C43: =IF($J43=0,"",IF(INDEX('Прайс и заказ'!C:C,$J43)="","",INDEX('Прайс и заказ'!C:C,$J43))) | D43: =IF($J43=0,"",IF(INDEX('Прайс и заказ'!D:D,$J43)="","",INDEX('Прайс и заказ'!D:D,$J43))) | E43: =IF($J43=0,"",IF(INDEX('Прайс и заказ'!F:F,$J43)="","",INDEX('Прайс и заказ'!F:F,$J43))) | F43: =IF($J43=0,"",IF(INDEX('Прайс и заказ'!I:I,$J43)="","",INDEX('Прайс и заказ'!I:I,$J43))) | G43: =IF($J43=0,"",IF(INDEX('Прайс и заказ'!K:K,$J43)="","",INDEX('Прайс и заказ'!K:K,$J43))) | H43: =IF($J43=0,"",IF(INDEX('Прайс и заказ'!L:L,$J43)="","",INDEX('Прайс и заказ'!L:L,$J43))) | I43: =IF($J43=0,"",IF(INDEX('Прайс и заказ'!M:M,$J43)="","",INDEX('Прайс и заказ'!M:M,$J43))) | J43: =IFERROR(MATCH(35,'Прайс и заказ'!$N$7:$N$435,0)+6,0)
A44: =IF($J44=0,"",IFERROR(_xlfn.IMAGE(INDEX('Прайс и заказ'!$O:$O,$J44)),"")) | B44: =IF($J44=0,"",IF(INDEX('Прайс и заказ'!B:B,$J44)="","",INDEX('Прайс и заказ'!B:B,$J44))) | C44: =IF($J44=0,"",IF(INDEX('Прайс и заказ'!C:C,$J44)="","",INDEX('Прайс и заказ'!C:C,$J44))) | D44: =IF($J44=0,"",IF(INDEX('Прайс и заказ'!D:D,$J44)="","",INDEX('Прайс и заказ'!D:D,$J44))) | E44: =IF($J44=0,"",IF(INDEX('Прайс и заказ'!F:F,$J44)="","",INDEX('Прайс и заказ'!F:F,$J44))) | F44: =IF($J44=0,"",IF(INDEX('Прайс и заказ'!I:I,$J44)="","",INDEX('Прайс и заказ'!I:I,$J44))) | G44: =IF($J44=0,"",IF(INDEX('Прайс и заказ'!K:K,$J44)="","",INDEX('Прайс и заказ'!K:K,$J44))) | H44: =IF($J44=0,"",IF(INDEX('Прайс и заказ'!L:L,$J44)="","",INDEX('Прайс и заказ'!L:L,$J44))) | I44: =IF($J44=0,"",IF(INDEX('Прайс и заказ'!M:M,$J44)="","",INDEX('Прайс и заказ'!M:M,$J44))) | J44: =IFERROR(MATCH(36,'Прайс и заказ'!$N$7:$N$435,0)+6,0)
A45: =IF($J45=0,"",IFERROR(_xlfn.IMAGE(INDEX('Прайс и заказ'!$O:$O,$J45)),"")) | B45: =IF($J45=0,"",IF(INDEX('Прайс и заказ'!B:B,$J45)="","",INDEX('Прайс и заказ'!B:B,$J45))) | C45: =IF($J45=0,"",IF(INDEX('Прайс и заказ'!C:C,$J45)="","",INDEX('Прайс и заказ'!C:C,$J45))) | D45: =IF($J45=0,"",IF(INDEX('Прайс и заказ'!D:D,$J45)="","",INDEX('Прайс и заказ'!D:D,$J45))) | E45: =IF($J45=0,"",IF(INDEX('Прайс и заказ'!F:F,$J45)="","",INDEX('Прайс и заказ'!F:F,$J45))) | F45: =IF($J45=0,"",IF(INDEX('Прайс и заказ'!I:I,$J45)="","",INDEX('Прайс и заказ'!I:I,$J45))) | G45: =IF($J45=0,"",IF(INDEX('Прайс и заказ'!K:K,$J45)="","",INDEX('Прайс и заказ'!K:K,$J45))) | H45: =IF($J45=0,"",IF(INDEX('Прайс и заказ'!L:L,$J45)="","",INDEX('Прайс и заказ'!L:L,$J45))) | I45: =IF($J45=0,"",IF(INDEX('Прайс и заказ'!M:M,$J45)="","",INDEX('Прайс и заказ'!M:M,$J45))) | J45: =IFERROR(MATCH(37,'Прайс и заказ'!$N$7:$N$435,0)+6,0)
A46: =IF($J46=0,"",IFERROR(_xlfn.IMAGE(INDEX('Прайс и заказ'!$O:$O,$J46)),"")) | B46: =IF($J46=0,"",IF(INDEX('Прайс и заказ'!B:B,$J46)="","",INDEX('Прайс и заказ'!B:B,$J46))) | C46: =IF($J46=0,"",IF(INDEX('Прайс и заказ'!C:C,$J46)="","",INDEX('Прайс и заказ'!C:C,$J46))) | D46: =IF($J46=0,"",IF(INDEX('Прайс и заказ'!D:D,$J46)="","",INDEX('Прайс и заказ'!D:D,$J46))) | E46: =IF($J46=0,"",IF(INDEX('Прайс и заказ'!F:F,$J46)="","",INDEX('Прайс и заказ'!F:F,$J46))) | F46: =IF($J46=0,"",IF(INDEX('Прайс и заказ'!I:I,$J46)="","",INDEX('Прайс и заказ'!I:I,$J46))) | G46: =IF($J46=0,"",IF(INDEX('Прайс и заказ'!K:K,$J46)="","",INDEX('Прайс и заказ'!K:K,$J46))) | H46: =IF($J46=0,"",IF(INDEX('Прайс и заказ'!L:L,$J46)="","",INDEX('Прайс и заказ'!L:L,$J46))) | I46: =IF($J46=0,"",IF(INDEX('Прайс и заказ'!M:M,$J46)="","",INDEX('Прайс и заказ'!M:M,$J46))) | J46: =IFERROR(MATCH(38,'Прайс и заказ'!$N$7:$N$435,0)+6,0)
A47: =IF($J47=0,"",IFERROR(_xlfn.IMAGE(INDEX('Прайс и заказ'!$O:$O,$J47)),"")) | B47: =IF($J47=0,"",IF(INDEX('Прайс и заказ'!B:B,$J47)="","",INDEX('Прайс и заказ'!B:B,$J47))) | C47: =IF($J47=0,"",IF(INDEX('Прайс и заказ'!C:C,$J47)="","",INDEX('Прайс и заказ'!C:C,$J47))) | D47: =IF($J47=0,"",IF(INDEX('Прайс и заказ'!D:D,$J47)="","",INDEX('Прайс и заказ'!D:D,$J47))) | E47: =IF($J47=0,"",IF(INDEX('Прайс и заказ'!F:F,$J47)="","",INDEX('Прайс и заказ'!F:F,$J47))) | F47: =IF($J47=0,"",IF(INDEX('Прайс и заказ'!I:I,$J47)="","",INDEX('Прайс и заказ'!I:I,$J47))) | G47: =IF($J47=0,"",IF(INDEX('Прайс и заказ'!K:K,$J47)="","",INDEX('Прайс и заказ'!K:K,$J47))) | H47: =IF($J47=0,"",IF(INDEX('Прайс и заказ'!L:L,$J47)="","",INDEX('Прайс и заказ'!L:L,$J47))) | I47: =IF($J47=0,"",IF(INDEX('Прайс и заказ'!M:M,$J47)="","",INDEX('Прайс и заказ'!M:M,$J47))) | J47: =IFERROR(MATCH(39,'Прайс и заказ'!$N$7:$N$435,0)+6,0)
A48: =IF($J48=0,"",IFERROR(_xlfn.IMAGE(INDEX('Прайс и заказ'!$O:$O,$J48)),"")) | B48: =IF($J48=0,"",IF(INDEX('Прайс и заказ'!B:B,$J48)="","",INDEX('Прайс и заказ'!B:B,$J48))) | C48: =IF($J48=0,"",IF(INDEX('Прайс и заказ'!C:C,$J48)="","",INDEX('Прайс и заказ'!C:C,$J48))) | D48: =IF($J48=0,"",IF(INDEX('Прайс и заказ'!D:D,$J48)="","",INDEX('Прайс и заказ'!D:D,$J48))) | E48: =IF($J48=0,"",IF(INDEX('Прайс и заказ'!F:F,$J48)="","",INDEX('Прайс и заказ'!F:F,$J48))) | F48: =IF($J48=0,"",IF(INDEX('Прайс и заказ'!I:I,$J48)="","",INDEX('Прайс и заказ'!I:I,$J48))) | G48: =IF($J48=0,"",IF(INDEX('Прайс и заказ'!K:K,$J48)="","",INDEX('Прайс и заказ'!K:K,$J48))) | H48: =IF($J48=0,"",IF(INDEX('Прайс и заказ'!L:L,$J48)="","",INDEX('Прайс и заказ'!L:L,$J48))) | I48: =IF($J48=0,"",IF(INDEX('Прайс и заказ'!M:M,$J48)="","",INDEX('Прайс и заказ'!M:M,$J48))) | J48: =IFERROR(MATCH(40,'Прайс и заказ'!$N$7:$N$435,0)+6,0)
A49: =IF($J49=0,"",IFERROR(_xlfn.IMAGE(INDEX('Прайс и заказ'!$O:$O,$J49)),"")) | B49: =IF($J49=0,"",IF(INDEX('Прайс и заказ'!B:B,$J49)="","",INDEX('Прайс и заказ'!B:B,$J49))) | C49: =IF($J49=0,"",IF(INDEX('Прайс и заказ'!C:C,$J49)="","",INDEX('Прайс и заказ'!C:C,$J49))) | D49: =IF($J49=0,"",IF(INDEX('Прайс и заказ'!D:D,$J49)="","",INDEX('Прайс и заказ'!D:D,$J49))) | E49: =IF($J49=0,"",IF(INDEX('Прайс и заказ'!F:F,$J49)="","",INDEX('Прайс и заказ'!F:F,$J49))) | F49: =IF($J49=0,"",IF(INDEX('Прайс и заказ'!I:I,$J49)="","",INDEX('Прайс и заказ'!I:I,$J49))) | G49: =IF($J49=0,"",IF(INDEX('Прайс и заказ'!K:K,$J49)="","",INDEX('Прайс и заказ'!K:K,$J49))) | H49: =IF($J49=0,"",IF(INDEX('Прайс и заказ'!L:L,$J49)="","",INDEX('Прайс и заказ'!L:L,$J49))) | I49: =IF($J49=0,"",IF(INDEX('Прайс и заказ'!M:M,$J49)="","",INDEX('Прайс и заказ'!M:M,$J49))) | J49: =IFERROR(MATCH(41,'Прайс и заказ'!$N$7:$N$435,0)+6,0)
A50: =IF($J50=0,"",IFERROR(_xlfn.IMAGE(INDEX('Прайс и заказ'!$O:$O,$J50)),"")) | B50: =IF($J50=0,"",IF(INDEX('Прайс и заказ'!B:B,$J50)="","",INDEX('Прайс и заказ'!B:B,$J50))) | C50: =IF($J50=0,"",IF(INDEX('Прайс и заказ'!C:C,$J50)="","",INDEX('Прайс и заказ'!C:C,$J50))) | D50: =IF($J50=0,"",IF(INDEX('Прайс и заказ'!D:D,$J50)="","",INDEX('Прайс и заказ'!D:D,$J50))) | E50: =IF($J50=0,"",IF(INDEX('Прайс и заказ'!F:F,$J50)="","",INDEX('Прайс и заказ'!F:F,$J50))) | F50: =IF($J50=0,"",IF(INDEX('Прайс и заказ'!I:I,$J50)="","",INDEX('Прайс и заказ'!I:I,$J50))) | G50: =IF($J50=0,"",IF(INDEX('Прайс и заказ'!K:K,$J50)="","",INDEX('Прайс и заказ'!K:K,$J50))) | H50: =IF($J50=0,"",IF(INDEX('Прайс и заказ'!L:L,$J50)="","",INDEX('Прайс и заказ'!L:L,$J50))) | I50: =IF($J50=0,"",IF(INDEX('Прайс и заказ'!M:M,$J50)="","",INDEX('Прайс и заказ'!M:M,$J50))) | J50: =IFERROR(MATCH(42,'Прайс и заказ'!$N$7:$N$435,0)+6,0)
A51: =IF($J51=0,"",IFERROR(_xlfn.IMAGE(INDEX('Прайс и заказ'!$O:$O,$J51)),"")) | B51: =IF($J51=0,"",IF(INDEX('Прайс и заказ'!B:B,$J51)="","",INDEX('Прайс и заказ'!B:B,$J51))) | C51: =IF($J51=0,"",IF(INDEX('Прайс и заказ'!C:C,$J51)="","",INDEX('Прайс и заказ'!C:C,$J51))) | D51: =IF($J51=0,"",IF(INDEX('Прайс и заказ'!D:D,$J51)="","",INDEX('Прайс и заказ'!D:D,$J51))) | E51: =IF($J51=0,"",IF(INDEX('Прайс и заказ'!F:F,$J51)="","",INDEX('Прайс и заказ'!F:F,$J51))) | F51: =IF($J51=0,"",IF(INDEX('Прайс и заказ'!I:I,$J51)="","",INDEX('Прайс и заказ'!I:I,$J51))) | G51: =IF($J51=0,"",IF(INDEX('Прайс и заказ'!K:K,$J51)="","",INDEX('Прайс и заказ'!K:K,$J51))) | H51: =IF($J51=0,"",IF(INDEX('Прайс и заказ'!L:L,$J51)="","",INDEX('Прайс и заказ'!L:L,$J51))) | I51: =IF($J51=0,"",IF(INDEX('Прайс и заказ'!M:M,$J51)="","",INDEX('Прайс и заказ'!M:M,$J51))) | J51: =IFERROR(MATCH(43,'Прайс и заказ'!$N$7:$N$435,0)+6,0)
A52: =IF($J52=0,"",IFERROR(_xlfn.IMAGE(INDEX('Прайс и заказ'!$O:$O,$J52)),"")) | B52: =IF($J52=0,"",IF(INDEX('Прайс и заказ'!B:B,$J52)="","",INDEX('Прайс и заказ'!B:B,$J52))) | C52: =IF($J52=0,"",IF(INDEX('Прайс и заказ'!C:C,$J52)="","",INDEX('Прайс и заказ'!C:C,$J52))) | D52: =IF($J52=0,"",IF(INDEX('Прайс и заказ'!D:D,$J52)="","",INDEX('Прайс и заказ'!D:D,$J52))) | E52: =IF($J52=0,"",IF(INDEX('Прайс и заказ'!F:F,$J52)="","",INDEX('Прайс и заказ'!F:F,$J52))) | F52: =IF($J52=0,"",IF(INDEX('Прайс и заказ'!I:I,$J52)="","",INDEX('Прайс и заказ'!I:I,$J52))) | G52: =IF($J52=0,"",IF(INDEX('Прайс и заказ'!K:K,$J52)="","",INDEX('Прайс и заказ'!K:K,$J52))) | H52: =IF($J52=0,"",IF(INDEX('Прайс и заказ'!L:L,$J52)="","",INDEX('Прайс и заказ'!L:L,$J52))) | I52: =IF($J52=0,"",IF(INDEX('Прайс и заказ'!M:M,$J52)="","",INDEX('Прайс и заказ'!M:M,$J52))) | J52: =IFERROR(MATCH(44,'Прайс и заказ'!$N$7:$N$435,0)+6,0)
A53: =IF($J53=0,"",IFERROR(_xlfn.IMAGE(INDEX('Прайс и заказ'!$O:$O,$J53)),"")) | B53: =IF($J53=0,"",IF(INDEX('Прайс и заказ'!B:B,$J53)="","",INDEX('Прайс и заказ'!B:B,$J53))) | C53: =IF($J53=0,"",IF(INDEX('Прайс и заказ'!C:C,$J53)="","",INDEX('Прайс и заказ'!C:C,$J53))) | D53: =IF($J53=0,"",IF(INDEX('Прайс и заказ'!D:D,$J53)="","",INDEX('Прайс и заказ'!D:D,$J53))) | E53: =IF($J53=0,"",IF(INDEX('Прайс и заказ'!F:F,$J53)="","",INDEX('Прайс и заказ'!F:F,$J53))) | F53: =IF($J53=0,"",IF(INDEX('Прайс и заказ'!I:I,$J53)="","",INDEX('Прайс и заказ'!I:I,$J53))) | G53: =IF($J53=0,"",IF(INDEX('Прайс и заказ'!K:K,$J53)="","",INDEX('Прайс и заказ'!K:K,$J53))) | H53: =IF($J53=0,"",IF(INDEX('Прайс и заказ'!L:L,$J53)="","",INDEX('Прайс и заказ'!L:L,$J53))) | I53: =IF($J53=0,"",IF(INDEX('Прайс и заказ'!M:M,$J53)="","",INDEX('Прайс и заказ'!M:M,$J53))) | J53: =IFERROR(MATCH(45,'Прайс и заказ'!$N$7:$N$435,0)+6,0)
A54: =IF($J54=0,"",IFERROR(_xlfn.IMAGE(INDEX('Прайс и заказ'!$O:$O,$J54)),"")) | B54: =IF($J54=0,"",IF(INDEX('Прайс и заказ'!B:B,$J54)="","",INDEX('Прайс и заказ'!B:B,$J54))) | C54: =IF($J54=0,"",IF(INDEX('Прайс и заказ'!C:C,$J54)="","",INDEX('Прайс и заказ'!C:C,$J54))) | D54: =IF($J54=0,"",IF(INDEX('Прайс и заказ'!D:D,$J54)="","",INDEX('Прайс и заказ'!D:D,$J54))) | E54: =IF($J54=0,"",IF(INDEX('Прайс и заказ'!F:F,$J54)="","",INDEX('Прайс и заказ'!F:F,$J54))) | F54: =IF($J54=0,"",IF(INDEX('Прайс и заказ'!I:I,$J54)="","",INDEX('Прайс и заказ'!I:I,$J54))) | G54: =IF($J54=0,"",IF(INDEX('Прайс и заказ'!K:K,$J54)="","",INDEX('Прайс и заказ'!K:K,$J54))) | H54: =IF($J54=0,"",IF(INDEX('Прайс и заказ'!L:L,$J54)="","",INDEX('Прайс и заказ'!L:L,$J54))) | I54: =IF($J54=0,"",IF(INDEX('Прайс и заказ'!M:M,$J54)="","",INDEX('Прайс и заказ'!M:M,$J54))) | J54: =IFERROR(MATCH(46,'Прайс и заказ'!$N$7:$N$435,0)+6,0)
A55: =IF($J55=0,"",IFERROR(_xlfn.IMAGE(INDEX('Прайс и заказ'!$O:$O,$J55)),"")) | B55: =IF($J55=0,"",IF(INDEX('Прайс и заказ'!B:B,$J55)="","",INDEX('Прайс и заказ'!B:B,$J55))) | C55: =IF($J55=0,"",IF(INDEX('Прайс и заказ'!C:C,$J55)="","",INDEX('Прайс и заказ'!C:C,$J55))) | D55: =IF($J55=0,"",IF(INDEX('Прайс и заказ'!D:D,$J55)="","",INDEX('Прайс и заказ'!D:D,$J55))) | E55: =IF($J55=0,"",IF(INDEX('Прайс и заказ'!F:F,$J55)="","",INDEX('Прайс и заказ'!F:F,$J55))) | F55: =IF($J55=0,"",IF(INDEX('Прайс и заказ'!I:I,$J55)="","",INDEX('Прайс и заказ'!I:I,$J55))) | G55: =IF($J55=0,"",IF(INDEX('Прайс и заказ'!K:K,$J55)="","",INDEX('Прайс и заказ'!K:K,$J55))) | H55: =IF($J55=0,"",IF(INDEX('Прайс и заказ'!L:L,$J55)="","",INDEX('Прайс и заказ'!L:L,$J55))) | I55: =IF($J55=0,"",IF(INDEX('Прайс и заказ'!M:M,$J55)="","",INDEX('Прайс и заказ'!M:M,$J55))) | J55: =IFERROR(MATCH(47,'Прайс и заказ'!$N$7:$N$435,0)+6,0)
A56: =IF($J56=0,"",IFERROR(_xlfn.IMAGE(INDEX('Прайс и заказ'!$O:$O,$J56)),"")) | B56: =IF($J56=0,"",IF(INDEX('Прайс и заказ'!B:B,$J56)="","",INDEX('Прайс и заказ'!B:B,$J56))) | C56: =IF($J56=0,"",IF(INDEX('Прайс и заказ'!C:C,$J56)="","",INDEX('Прайс и заказ'!C:C,$J56))) | D56: =IF($J56=0,"",IF(INDEX('Прайс и заказ'!D:D,$J56)="","",INDEX('Прайс и заказ'!D:D,$J56))) | E56: =IF($J56=0,"",IF(INDEX('Прайс и заказ'!F:F,$J56)="","",INDEX('Прайс и заказ'!F:F,$J56))) | F56: =IF($J56=0,"",IF(INDEX('Прайс и заказ'!I:I,$J56)="","",INDEX('Прайс и заказ'!I:I,$J56))) | G56: =IF($J56=0,"",IF(INDEX('Прайс и заказ'!K:K,$J56)="","",INDEX('Прайс и заказ'!K:K,$J56))) | H56: =IF($J56=0,"",IF(INDEX('Прайс и заказ'!L:L,$J56)="","",INDEX('Прайс и заказ'!L:L,$J56))) | I56: =IF($J56=0,"",IF(INDEX('Прайс и заказ'!M:M,$J56)="","",INDEX('Прайс и заказ'!M:M,$J56))) | J56: =IFERROR(MATCH(48,'Прайс и заказ'!$N$7:$N$435,0)+6,0)
A57: =IF($J57=0,"",IFERROR(_xlfn.IMAGE(INDEX('Прайс и заказ'!$O:$O,$J57)),"")) | B57: =IF($J57=0,"",IF(INDEX('Прайс и заказ'!B:B,$J57)="","",INDEX('Прайс и заказ'!B:B,$J57))) | C57: =IF($J57=0,"",IF(INDEX('Прайс и заказ'!C:C,$J57)="","",INDEX('Прайс и заказ'!C:C,$J57))) | D57: =IF($J57=0,"",IF(INDEX('Прайс и заказ'!D:D,$J57)="","",INDEX('Прайс и заказ'!D:D,$J57))) | E57: =IF($J57=0,"",IF(INDEX('Прайс и заказ'!F:F,$J57)="","",INDEX('Прайс и заказ'!F:F,$J57))) | F57: =IF($J57=0,"",IF(INDEX('Прайс и заказ'!I:I,$J57)="","",INDEX('Прайс и заказ'!I:I,$J57))) | G57: =IF($J57=0,"",IF(INDEX('Прайс и заказ'!K:K,$J57)="","",INDEX('Прайс и заказ'!K:K,$J57))) | H57: =IF($J57=0,"",IF(INDEX('Прайс и заказ'!L:L,$J57)="","",INDEX('Прайс и заказ'!L:L,$J57))) | I57: =IF($J57=0,"",IF(INDEX('Прайс и заказ'!M:M,$J57)="","",INDEX('Прайс и заказ'!M:M,$J57))) | J57: =IFERROR(MATCH(49,'Прайс и заказ'!$N$7:$N$435,0)+6,0)
A58: =IF($J58=0,"",IFERROR(_xlfn.IMAGE(INDEX('Прайс и заказ'!$O:$O,$J58)),"")) | B58: =IF($J58=0,"",IF(INDEX('Прайс и заказ'!B:B,$J58)="","",INDEX('Прайс и заказ'!B:B,$J58))) | C58: =IF($J58=0,"",IF(INDEX('Прайс и заказ'!C:C,$J58)="","",INDEX('Прайс и заказ'!C:C,$J58))) | D58: =IF($J58=0,"",IF(INDEX('Прайс и заказ'!D:D,$J58)="","",INDEX('Прайс и заказ'!D:D,$J58))) | E58: =IF($J58=0,"",IF(INDEX('Прайс и заказ'!F:F,$J58)="","",INDEX('Прайс и заказ'!F:F,$J58))) | F58: =IF($J58=0,"",IF(INDEX('Прайс и заказ'!I:I,$J58)="","",INDEX('Прайс и заказ'!I:I,$J58))) | G58: =IF($J58=0,"",IF(INDEX('Прайс и заказ'!K:K,$J58)="","",INDEX('Прайс и заказ'!K:K,$J58))) | H58: =IF($J58=0,"",IF(INDEX('Прайс и заказ'!L:L,$J58)="","",INDEX('Прайс и заказ'!L:L,$J58))) | I58: =IF($J58=0,"",IF(INDEX('Прайс и заказ'!M:M,$J58)="","",INDEX('Прайс и заказ'!M:M,$J58))) | J58: =IFERROR(MATCH(50,'Прайс и заказ'!$N$7:$N$435,0)+6,0)
A59: =IF($J59=0,"",IFERROR(_xlfn.IMAGE(INDEX('Прайс и заказ'!$O:$O,$J59)),"")) | B59: =IF($J59=0,"",IF(INDEX('Прайс и заказ'!B:B,$J59)="","",INDEX('Прайс и заказ'!B:B,$J59))) | C59: =IF($J59=0,"",IF(INDEX('Прайс и заказ'!C:C,$J59)="","",INDEX('Прайс и заказ'!C:C,$J59))) | D59: =IF($J59=0,"",IF(INDEX('Прайс и заказ'!D:D,$J59)="","",INDEX('Прайс и заказ'!D:D,$J59))) | E59: =IF($J59=0,"",IF(INDEX('Прайс и заказ'!F:F,$J59)="","",INDEX('Прайс и заказ'!F:F,$J59))) | F59: =IF($J59=0,"",IF(INDEX('Прайс и заказ'!I:I,$J59)="","",INDEX('Прайс и заказ'!I:I,$J59))) | G59: =IF($J59=0,"",IF(INDEX('Прайс и заказ'!K:K,$J59)="","",INDEX('Прайс и заказ'!K:K,$J59))) | H59: =IF($J59=0,"",IF(INDEX('Прайс и заказ'!L:L,$J59)="","",INDEX('Прайс и заказ'!L:L,$J59))) | I59: =IF($J59=0,"",IF(INDEX('Прайс и заказ'!M:M,$J59)="","",INDEX('Прайс и заказ'!M:M,$J59))) | J59: =IFERROR(MATCH(51,'Прайс и заказ'!$N$7:$N$435,0)+6,0)
A60: =IF($J60=0,"",IFERROR(_xlfn.IMAGE(INDEX('Прайс и заказ'!$O:$O,$J60)),"")) | B60: =IF($J60=0,"",IF(INDEX('Прайс и заказ'!B:B,$J60)="","",INDEX('Прайс и заказ'!B:B,$J60))) | C60: =IF($J60=0,"",IF(INDEX('Прайс и заказ'!C:C,$J60)="","",INDEX('Прайс и заказ'!C:C,$J60))) | D60: =IF($J60=0,"",IF(INDEX('Прайс и заказ'!D:D,$J60)="","",INDEX('Прайс и заказ'!D:D,$J60))) | E60: =IF($J60=0,"",IF(INDEX('Прайс и заказ'!F:F,$J60)="","",INDEX('Прайс и заказ'!F:F,$J60))) | F60: =IF($J60=0,"",IF(INDEX('Прайс и заказ'!I:I,$J60)="","",INDEX('Прайс и заказ'!I:I,$J60))) | G60: =IF($J60=0,"",IF(INDEX('Прайс и заказ'!K:K,$J60)="","",INDEX('Прайс и заказ'!K:K,$J60))) | H60: =IF($J60=0,"",IF(INDEX('Прайс и заказ'!L:L,$J60)="","",INDEX('Прайс и заказ'!L:L,$J60))) | I60: =IF($J60=0,"",IF(INDEX('Прайс и заказ'!M:M,$J60)="","",INDEX('Прайс и заказ'!M:M,$J60))) | J60: =IFERROR(MATCH(52,'Прайс и заказ'!$N$7:$N$435,0)+6,0)
A61: =IF($J61=0,"",IFERROR(_xlfn.IMAGE(INDEX('Прайс и заказ'!$O:$O,$J61)),"")) | B61: =IF($J61=0,"",IF(INDEX('Прайс и заказ'!B:B,$J61)="","",INDEX('Прайс и заказ'!B:B,$J61))) | C61: =IF($J61=0,"",IF(INDEX('Прайс и заказ'!C:C,$J61)="","",INDEX('Прайс и заказ'!C:C,$J61))) | D61: =IF($J61=0,"",IF(INDEX('Прайс и заказ'!D:D,$J61)="","",INDEX('Прайс и заказ'!D:D,$J61))) | E61: =IF($J61=0,"",IF(INDEX('Прайс и заказ'!F:F,$J61)="","",INDEX('Прайс и заказ'!F:F,$J61))) | F61: =IF($J61=0,"",IF(INDEX('Прайс и заказ'!I:I,$J61)="","",INDEX('Прайс и заказ'!I:I,$J61))) | G61: =IF($J61=0,"",IF(INDEX('Прайс и заказ'!K:K,$J61)="","",INDEX('Прайс и заказ'!K:K,$J61))) | H61: =IF($J61=0,"",IF(INDEX('Прайс и заказ'!L:L,$J61)="","",INDEX('Прайс и заказ'!L:L,$J61))) | I61: =IF($J61=0,"",IF(INDEX('Прайс и заказ'!M:M,$J61)="","",INDEX('Прайс и заказ'!M:M,$J61))) | J61: =IFERROR(MATCH(53,'Прайс и заказ'!$N$7:$N$435,0)+6,0)
A62: =IF($J62=0,"",IFERROR(_xlfn.IMAGE(INDEX('Прайс и заказ'!$O:$O,$J62)),"")) | B62: =IF($J62=0,"",IF(INDEX('Прайс и заказ'!B:B,$J62)="","",INDEX('Прайс и заказ'!B:B,$J62))) | C62: =IF($J62=0,"",IF(INDEX('Прайс и заказ'!C:C,$J62)="","",INDEX('Прайс и заказ'!C:C,$J62))) | D62: =IF($J62=0,"",IF(INDEX('Прайс и заказ'!D:D,$J62)="","",INDEX('Прайс и заказ'!D:D,$J62))) | E62: =IF($J62=0,"",IF(INDEX('Прайс и заказ'!F:F,$J62)="","",INDEX('Прайс и заказ'!F:F,$J62))) | F62: =IF($J62=0,"",IF(INDEX('Прайс и заказ'!I:I,$J62)="","",INDEX('Прайс и заказ'!I:I,$J62))) | G62: =IF($J62=0,"",IF(INDEX('Прайс и заказ'!K:K,$J62)="","",INDEX('Прайс и заказ'!K:K,$J62))) | H62: =IF($J62=0,"",IF(INDEX('Прайс и заказ'!L:L,$J62)="","",INDEX('Прайс и заказ'!L:L,$J62))) | I62: =IF($J62=0,"",IF(INDEX('Прайс и заказ'!M:M,$J62)="","",INDEX('Прайс и заказ'!M:M,$J62))) | J62: =IFERROR(MATCH(54,'Прайс и заказ'!$N$7:$N$435,0)+6,0)
A63: =IF($J63=0,"",IFERROR(_xlfn.IMAGE(INDEX('Прайс и заказ'!$O:$O,$J63)),"")) | B63: =IF($J63=0,"",IF(INDEX('Прайс и заказ'!B:B,$J63)="","",INDEX('Прайс и заказ'!B:B,$J63))) | C63: =IF($J63=0,"",IF(INDEX('Прайс и заказ'!C:C,$J63)="","",INDEX('Прайс и заказ'!C:C,$J63))) | D63: =IF($J63=0,"",IF(INDEX('Прайс и заказ'!D:D,$J63)="","",INDEX('Прайс и заказ'!D:D,$J63))) | E63: =IF($J63=0,"",IF(INDEX('Прайс и заказ'!F:F,$J63)="","",INDEX('Прайс и заказ'!F:F,$J63))) | F63: =IF($J63=0,"",IF(INDEX('Прайс и заказ'!I:I,$J63)="","",INDEX('Прайс и заказ'!I:I,$J63))) | G63: =IF($J63=0,"",IF(INDEX('Прайс и заказ'!K:K,$J63)="","",INDEX('Прайс и заказ'!K:K,$J63))) | H63: =IF($J63=0,"",IF(INDEX('Прайс и заказ'!L:L,$J63)="","",INDEX('Прайс и заказ'!L:L,$J63))) | I63: =IF($J63=0,"",IF(INDEX('Прайс и заказ'!M:M,$J63)="","",INDEX('Прайс и заказ'!M:M,$J63))) | J63: =IFERROR(MATCH(55,'Прайс и заказ'!$N$7:$N$435,0)+6,0)
A64: =IF($J64=0,"",IFERROR(_xlfn.IMAGE(INDEX('Прайс и заказ'!$O:$O,$J64)),"")) | B64: =IF($J64=0,"",IF(INDEX('Прайс и заказ'!B:B,$J64)="","",INDEX('Прайс и заказ'!B:B,$J64))) | C64: =IF($J64=0,"",IF(INDEX('Прайс и заказ'!C:C,$J64)="","",INDEX('Прайс и заказ'!C:C,$J64))) | D64: =IF($J64=0,"",IF(INDEX('Прайс и заказ'!D:D,$J64)="","",INDEX('Прайс и заказ'!D:D,$J64))) | E64: =IF($J64=0,"",IF(INDEX('Прайс и заказ'!F:F,$J64)="","",INDEX('Прайс и заказ'!F:F,$J64))) | F64: =IF($J64=0,"",IF(INDEX('Прайс и заказ'!I:I,$J64)="","",INDEX('Прайс и заказ'!I:I,$J64))) | G64: =IF($J64=0,"",IF(INDEX('Прайс и заказ'!K:K,$J64)="","",INDEX('Прайс и заказ'!K:K,$J64))) | H64: =IF($J64=0,"",IF(INDEX('Прайс и заказ'!L:L,$J64)="","",INDEX('Прайс и заказ'!L:L,$J64))) | I64: =IF($J64=0,"",IF(INDEX('Прайс и заказ'!M:M,$J64)="","",INDEX('Прайс и заказ'!M:M,$J64))) | J64: =IFERROR(MATCH(56,'Прайс и заказ'!$N$7:$N$435,0)+6,0)
A65: =IF($J65=0,"",IFERROR(_xlfn.IMAGE(INDEX('Прайс и заказ'!$O:$O,$J65)),"")) | B65: =IF($J65=0,"",IF(INDEX('Прайс и заказ'!B:B,$J65)="","",INDEX('Прайс и заказ'!B:B,$J65))) | C65: =IF($J65=0,"",IF(INDEX('Прайс и заказ'!C:C,$J65)="","",INDEX('Прайс и заказ'!C:C,$J65))) | D65: =IF($J65=0,"",IF(INDEX('Прайс и заказ'!D:D,$J65)="","",INDEX('Прайс и заказ'!D:D,$J65))) | E65: =IF($J65=0,"",IF(INDEX('Прайс и заказ'!F:F,$J65)="","",INDEX('Прайс и заказ'!F:F,$J65))) | F65: =IF($J65=0,"",IF(INDEX('Прайс и заказ'!I:I,$J65)="","",INDEX('Прайс и заказ'!I:I,$J65))) | G65: =IF($J65=0,"",IF(INDEX('Прайс и заказ'!K:K,$J65)="","",INDEX('Прайс и заказ'!K:K,$J65))) | H65: =IF($J65=0,"",IF(INDEX('Прайс и заказ'!L:L,$J65)="","",INDEX('Прайс и заказ'!L:L,$J65))) | I65: =IF($J65=0,"",IF(INDEX('Прайс и заказ'!M:M,$J65)="","",INDEX('Прайс и заказ'!M:M,$J65))) | J65: =IFERROR(MATCH(57,'Прайс и заказ'!$N$7:$N$435,0)+6,0)
A66: =IF($J66=0,"",IFERROR(_xlfn.IMAGE(INDEX('Прайс и заказ'!$O:$O,$J66)),"")) | B66: =IF($J66=0,"",IF(INDEX('Прайс и заказ'!B:B,$J66)="","",INDEX('Прайс и заказ'!B:B,$J66))) | C66: =IF($J66=0,"",IF(INDEX('Прайс и заказ'!C:C,$J66)="","",INDEX('Прайс и заказ'!C:C,$J66))) | D66: =IF($J66=0,"",IF(INDEX('Прайс и заказ'!D:D,$J66)="","",INDEX('Прайс и заказ'!D:D,$J66))) | E66: =IF($J66=0,"",IF(INDEX('Прайс и заказ'!F:F,$J66)="","",INDEX('Прайс и заказ'!F:F,$J66))) | F66: =IF($J66=0,"",IF(INDEX('Прайс и заказ'!I:I,$J66)="","",INDEX('Прайс и заказ'!I:I,$J66))) | G66: =IF($J66=0,"",IF(INDEX('Прайс и заказ'!K:K,$J66)="","",INDEX('Прайс и заказ'!K:K,$J66))) | H66: =IF($J66=0,"",IF(INDEX('Прайс и заказ'!L:L,$J66)="","",INDEX('Прайс и заказ'!L:L,$J66))) | I66: =IF($J66=0,"",IF(INDEX('Прайс и заказ'!M:M,$J66)="","",INDEX('Прайс и заказ'!M:M,$J66))) | J66: =IFERROR(MATCH(58,'Прайс и заказ'!$N$7:$N$435,0)+6,0)
A67: =IF($J67=0,"",IFERROR(_xlfn.IMAGE(INDEX('Прайс и заказ'!$O:$O,$J67)),"")) | B67: =IF($J67=0,"",IF(INDEX('Прайс и заказ'!B:B,$J67)="","",INDEX('Прайс и заказ'!B:B,$J67))) | C67: =IF($J67=0,"",IF(INDEX('Прайс и заказ'!C:C,$J67)="","",INDEX('Прайс и заказ'!C:C,$J67))) | D67: =IF($J67=0,"",IF(INDEX('Прайс и заказ'!D:D,$J67)="","",INDEX('Прайс и заказ'!D:D,$J67))) | E67: =IF($J67=0,"",IF(INDEX('Прайс и заказ'!F:F,$J67)="","",INDEX('Прайс и заказ'!F:F,$J67))) | F67: =IF($J67=0,"",IF(INDEX('Прайс и заказ'!I:I,$J67)="","",INDEX('Прайс и заказ'!I:I,$J67))) | G67: =IF($J67=0,"",IF(INDEX('Прайс и заказ'!K:K,$J67)="","",INDEX('Прайс и заказ'!K:K,$J67))) | H67: =IF($J67=0,"",IF(INDEX('Прайс и заказ'!L:L,$J67)="","",INDEX('Прайс и заказ'!L:L,$J67))) | I67: =IF($J67=0,"",IF(INDEX('Прайс и заказ'!M:M,$J67)="","",INDEX('Прайс и заказ'!M:M,$J67))) | J67: =IFERROR(MATCH(59,'Прайс и заказ'!$N$7:$N$435,0)+6,0)
A68: =IF($J68=0,"",IFERROR(_xlfn.IMAGE(INDEX('Прайс и заказ'!$O:$O,$J68)),"")) | B68: =IF($J68=0,"",IF(INDEX('Прайс и заказ'!B:B,$J68)="","",INDEX('Прайс и заказ'!B:B,$J68))) | C68: =IF($J68=0,"",IF(INDEX('Прайс и заказ'!C:C,$J68)="","",INDEX('Прайс и заказ'!C:C,$J68))) | D68: =IF($J68=0,"",IF(INDEX('Прайс и заказ'!D:D,$J68)="","",INDEX('Прайс и заказ'!D:D,$J68))) | E68: =IF($J68=0,"",IF(INDEX('Прайс и заказ'!F:F,$J68)="","",INDEX('Прайс и заказ'!F:F,$J68))) | F68: =IF($J68=0,"",IF(INDEX('Прайс и заказ'!I:I,$J68)="","",INDEX('Прайс и заказ'!I:I,$J68))) | G68: =IF($J68=0,"",IF(INDEX('Прайс и заказ'!K:K,$J68)="","",INDEX('Прайс и заказ'!K:K,$J68))) | H68: =IF($J68=0,"",IF(INDEX('Прайс и заказ'!L:L,$J68)="","",INDEX('Прайс и заказ'!L:L,$J68))) | I68: =IF($J68=0,"",IF(INDEX('Прайс и заказ'!M:M,$J68)="","",INDEX('Прайс и заказ'!M:M,$J68))) | J68: =IFERROR(MATCH(60,'Прайс и заказ'!$N$7:$N$435,0)+6,0)
A69: =IF($J69=0,"",IFERROR(_xlfn.IMAGE(INDEX('Прайс и заказ'!$O:$O,$J69)),"")) | B69: =IF($J69=0,"",IF(INDEX('Прайс и заказ'!B:B,$J69)="","",INDEX('Прайс и заказ'!B:B,$J69))) | C69: =IF($J69=0,"",IF(INDEX('Прайс и заказ'!C:C,$J69)="","",INDEX('Прайс и заказ'!C:C,$J69))) | D69: =IF($J69=0,"",IF(INDEX('Прайс и заказ'!D:D,$J69)="","",INDEX('Прайс и заказ'!D:D,$J69))) | E69: =IF($J69=0,"",IF(INDEX('Прайс и заказ'!F:F,$J69)="","",INDEX('Прайс и заказ'!F:F,$J69))) | F69: =IF($J69=0,"",IF(INDEX('Прайс и заказ'!I:I,$J69)="","",INDEX('Прайс и заказ'!I:I,$J69))) | G69: =IF($J69=0,"",IF(INDEX('Прайс и заказ'!K:K,$J69)="","",INDEX('Прайс и заказ'!K:K,$J69))) | H69: =IF($J69=0,"",IF(INDEX('Прайс и заказ'!L:L,$J69)="","",INDEX('Прайс и заказ'!L:L,$J69))) | I69: =IF($J69=0,"",IF(INDEX('Прайс и заказ'!M:M,$J69)="","",INDEX('Прайс и заказ'!M:M,$J69))) | J69: =IFERROR(MATCH(61,'Прайс и заказ'!$N$7:$N$435,0)+6,0)
A70: =IF($J70=0,"",IFERROR(_xlfn.IMAGE(INDEX('Прайс и заказ'!$O:$O,$J70)),"")) | B70: =IF($J70=0,"",IF(INDEX('Прайс и заказ'!B:B,$J70)="","",INDEX('Прайс и заказ'!B:B,$J70))) | C70: =IF($J70=0,"",IF(INDEX('Прайс и заказ'!C:C,$J70)="","",INDEX('Прайс и заказ'!C:C,$J70))) | D70: =IF($J70=0,"",IF(INDEX('Прайс и заказ'!D:D,$J70)="","",INDEX('Прайс и заказ'!D:D,$J70))) | E70: =IF($J70=0,"",IF(INDEX('Прайс и заказ'!F:F,$J70)="","",INDEX('Прайс и заказ'!F:F,$J70))) | F70: =IF($J70=0,"",IF(INDEX('Прайс и заказ'!I:I,$J70)="","",INDEX('Прайс и заказ'!I:I,$J70))) | G70: =IF($J70=0,"",IF(INDEX('Прайс и заказ'!K:K,$J70)="","",INDEX('Прайс и заказ'!K:K,$J70))) | H70: =IF($J70=0,"",IF(INDEX('Прайс и заказ'!L:L,$J70)="","",INDEX('Прайс и заказ'!L:L,$J70))) | I70: =IF($J70=0,"",IF(INDEX('Прайс и заказ'!M:M,$J70)="","",INDEX('Прайс и заказ'!M:M,$J70))) | J70: =IFERROR(MATCH(62,'Прайс и заказ'!$N$7:$N$435,0)+6,0)
A71: =IF($J71=0,"",IFERROR(_xlfn.IMAGE(INDEX('Прайс и заказ'!$O:$O,$J71)),"")) | B71: =IF($J71=0,"",IF(INDEX('Прайс и заказ'!B:B,$J71)="","",INDEX('Прайс и заказ'!B:B,$J71))) | C71: =IF($J71=0,"",IF(INDEX('Прайс и заказ'!C:C,$J71)="","",INDEX('Прайс и заказ'!C:C,$J71))) | D71: =IF($J71=0,"",IF(INDEX('Прайс и заказ'!D:D,$J71)="","",INDEX('Прайс и заказ'!D:D,$J71))) | E71: =IF($J71=0,"",IF(INDEX('Прайс и заказ'!F:F,$J71)="","",INDEX('Прайс и заказ'!F:F,$J71))) | F71: =IF($J71=0,"",IF(INDEX('Прайс и заказ'!I:I,$J71)="","",INDEX('Прайс и заказ'!I:I,$J71))) | G71: =IF($J71=0,"",IF(INDEX('Прайс и заказ'!K:K,$J71)="","",INDEX('Прайс и заказ'!K:K,$J71))) | H71: =IF($J71=0,"",IF(INDEX('Прайс и заказ'!L:L,$J71)="","",INDEX('Прайс и заказ'!L:L,$J71))) | I71: =IF($J71=0,"",IF(INDEX('Прайс и заказ'!M:M,$J71)="","",INDEX('Прайс и заказ'!M:M,$J71))) | J71: =IFERROR(MATCH(63,'Прайс и заказ'!$N$7:$N$435,0)+6,0)
A72: =IF($J72=0,"",IFERROR(_xlfn.IMAGE(INDEX('Прайс и заказ'!$O:$O,$J72)),"")) | B72: =IF($J72=0,"",IF(INDEX('Прайс и заказ'!B:B,$J72)="","",INDEX('Прайс и заказ'!B:B,$J72))) | C72: =IF($J72=0,"",IF(INDEX('Прайс и заказ'!C:C,$J72)="","",INDEX('Прайс и заказ'!C:C,$J72))) | D72: =IF($J72=0,"",IF(INDEX('Прайс и заказ'!D:D,$J72)="","",INDEX('Прайс и заказ'!D:D,$J72))) | E72: =IF($J72=0,"",IF(INDEX('Прайс и заказ'!F:F,$J72)="","",INDEX('Прайс и заказ'!F:F,$J72))) | F72: =IF($J72=0,"",IF(INDEX('Прайс и заказ'!I:I,$J72)="","",INDEX('Прайс и заказ'!I:I,$J72))) | G72: =IF($J72=0,"",IF(INDEX('Прайс и заказ'!K:K,$J72)="","",INDEX('Прайс и заказ'!K:K,$J72))) | H72: =IF($J72=0,"",IF(INDEX('Прайс и заказ'!L:L,$J72)="","",INDEX('Прайс и заказ'!L:L,$J72))) | I72: =IF($J72=0,"",IF(INDEX('Прайс и заказ'!M:M,$J72)="","",INDEX('Прайс и заказ'!M:M,$J72))) | J72: =IFERROR(MATCH(64,'Прайс и заказ'!$N$7:$N$435,0)+6,0)
A73: =IF($J73=0,"",IFERROR(_xlfn.IMAGE(INDEX('Прайс и заказ'!$O:$O,$J73)),"")) | B73: =IF($J73=0,"",IF(INDEX('Прайс и заказ'!B:B,$J73)="","",INDEX('Прайс и заказ'!B:B,$J73))) | C73: =IF($J73=0,"",IF(INDEX('Прайс и заказ'!C:C,$J73)="","",INDEX('Прайс и заказ'!C:C,$J73))) | D73: =IF($J73=0,"",IF(INDEX('Прайс и заказ'!D:D,$J73)="","",INDEX('Прайс и заказ'!D:D,$J73))) | E73: =IF($J73=0,"",IF(INDEX('Прайс и заказ'!F:F,$J73)="","",INDEX('Прайс и заказ'!F:F,$J73))) | F73: =IF($J73=0,"",IF(INDEX('Прайс и заказ'!I:I,$J73)="","",INDEX('Прайс и заказ'!I:I,$J73))) | G73: =IF($J73=0,"",IF(INDEX('Прайс и заказ'!K:K,$J73)="","",INDEX('Прайс и заказ'!K:K,$J73))) | H73: =IF($J73=0,"",IF(INDEX('Прайс и заказ'!L:L,$J73)="","",INDEX('Прайс и заказ'!L:L,$J73))) | I73: =IF($J73=0,"",IF(INDEX('Прайс и заказ'!M:M,$J73)="","",INDEX('Прайс и заказ'!M:M,$J73))) | J73: =IFERROR(MATCH(65,'Прайс и заказ'!$N$7:$N$435,0)+6,0)
A74: =IF($J74=0,"",IFERROR(_xlfn.IMAGE(INDEX('Прайс и заказ'!$O:$O,$J74)),"")) | B74: =IF($J74=0,"",IF(INDEX('Прайс и заказ'!B:B,$J74)="","",INDEX('Прайс и заказ'!B:B,$J74))) | C74: =IF($J74=0,"",IF(INDEX('Прайс и заказ'!C:C,$J74)="","",INDEX('Прайс и заказ'!C:C,$J74))) | D74: =IF($J74=0,"",IF(INDEX('Прайс и заказ'!D:D,$J74)="","",INDEX('Прайс и заказ'!D:D,$J74))) | E74: =IF($J74=0,"",IF(INDEX('Прайс и заказ'!F:F,$J74)="","",INDEX('Прайс и заказ'!F:F,$J74))) | F74: =IF($J74=0,"",IF(INDEX('Прайс и заказ'!I:I,$J74)="","",INDEX('Прайс и заказ'!I:I,$J74))) | G74: =IF($J74=0,"",IF(INDEX('Прайс и заказ'!K:K,$J74)="","",INDEX('Прайс и заказ'!K:K,$J74))) | H74: =IF($J74=0,"",IF(INDEX('Прайс и заказ'!L:L,$J74)="","",INDEX('Прайс и заказ'!L:L,$J74))) | I74: =IF($J74=0,"",IF(INDEX('Прайс и заказ'!M:M,$J74)="","",INDEX('Прайс и заказ'!M:M,$J74))) | J74: =IFERROR(MATCH(66,'Прайс и заказ'!$N$7:$N$435,0)+6,0)
A75: =IF($J75=0,"",IFERROR(_xlfn.IMAGE(INDEX('Прайс и заказ'!$O:$O,$J75)),"")) | B75: =IF($J75=0,"",IF(INDEX('Прайс и заказ'!B:B,$J75)="","",INDEX('Прайс и заказ'!B:B,$J75))) | C75: =IF($J75=0,"",IF(INDEX('Прайс и заказ'!C:C,$J75)="","",INDEX('Прайс и заказ'!C:C,$J75))) | D75: =IF($J75=0,"",IF(INDEX('Прайс и заказ'!D:D,$J75)="","",INDEX('Прайс и заказ'!D:D,$J75))) | E75: =IF($J75=0,"",IF(INDEX('Прайс и заказ'!F:F,$J75)="","",INDEX('Прайс и заказ'!F:F,$J75))) | F75: =IF($J75=0,"",IF(INDEX('Прайс и заказ'!I:I,$J75)="","",INDEX('Прайс и заказ'!I:I,$J75))) | G75: =IF($J75=0,"",IF(INDEX('Прайс и заказ'!K:K,$J75)="","",INDEX('Прайс и заказ'!K:K,$J75))) | H75: =IF($J75=0,"",IF(INDEX('Прайс и заказ'!L:L,$J75)="","",INDEX('Прайс и заказ'!L:L,$J75))) | I75: =IF($J75=0,"",IF(INDEX('Прайс и заказ'!M:M,$J75)="","",INDEX('Прайс и заказ'!M:M,$J75))) | J75: =IFERROR(MATCH(67,'Прайс и заказ'!$N$7:$N$435,0)+6,0)
A76: =IF($J76=0,"",IFERROR(_xlfn.IMAGE(INDEX('Прайс и заказ'!$O:$O,$J76)),"")) | B76: =IF($J76=0,"",IF(INDEX('Прайс и заказ'!B:B,$J76)="","",INDEX('Прайс и заказ'!B:B,$J76))) | C76: =IF($J76=0,"",IF(INDEX('Прайс и заказ'!C:C,$J76)="","",INDEX('Прайс и заказ'!C:C,$J76))) | D76: =IF($J76=0,"",IF(INDEX('Прайс и заказ'!D:D,$J76)="","",INDEX('Прайс и заказ'!D:D,$J76))) | E76: =IF($J76=0,"",IF(INDEX('Прайс и заказ'!F:F,$J76)="","",INDEX('Прайс и заказ'!F:F,$J76))) | F76: =IF($J76=0,"",IF(INDEX('Прайс и заказ'!I:I,$J76)="","",INDEX('Прайс и заказ'!I:I,$J76))) | G76: =IF($J76=0,"",IF(INDEX('Прайс и заказ'!K:K,$J76)="","",INDEX('Прайс и заказ'!K:K,$J76))) | H76: =IF($J76=0,"",IF(INDEX('Прайс и заказ'!L:L,$J76)="","",INDEX('Прайс и заказ'!L:L,$J76))) | I76: =IF($J76=0,"",IF(INDEX('Прайс и заказ'!M:M,$J76)="","",INDEX('Прайс и заказ'!M:M,$J76))) | J76: =IFERROR(MATCH(68,'Прайс и заказ'!$N$7:$N$435,0)+6,0)
A77: =IF($J77=0,"",IFERROR(_xlfn.IMAGE(INDEX('Прайс и заказ'!$O:$O,$J77)),"")) | B77: =IF($J77=0,"",IF(INDEX('Прайс и заказ'!B:B,$J77)="","",INDEX('Прайс и заказ'!B:B,$J77))) | C77: =IF($J77=0,"",IF(INDEX('Прайс и заказ'!C:C,$J77)="","",INDEX('Прайс и заказ'!C:C,$J77))) | D77: =IF($J77=0,"",IF(INDEX('Прайс и заказ'!D:D,$J77)="","",INDEX('Прайс и заказ'!D:D,$J77))) | E77: =IF($J77=0,"",IF(INDEX('Прайс и заказ'!F:F,$J77)="","",INDEX('Прайс и заказ'!F:F,$J77))) | F77: =IF($J77=0,"",IF(INDEX('Прайс и заказ'!I:I,$J77)="","",INDEX('Прайс и заказ'!I:I,$J77))) | G77: =IF($J77=0,"",IF(INDEX('Прайс и заказ'!K:K,$J77)="","",INDEX('Прайс и заказ'!K:K,$J77))) | H77: =IF($J77=0,"",IF(INDEX('Прайс и заказ'!L:L,$J77)="","",INDEX('Прайс и заказ'!L:L,$J77))) | I77: =IF($J77=0,"",IF(INDEX('Прайс и заказ'!M:M,$J77)="","",INDEX('Прайс и заказ'!M:M,$J77))) | J77: =IFERROR(MATCH(69,'Прайс и заказ'!$N$7:$N$435,0)+6,0)
A78: =IF($J78=0,"",IFERROR(_xlfn.IMAGE(INDEX('Прайс и заказ'!$O:$O,$J78)),"")) | B78: =IF($J78=0,"",IF(INDEX('Прайс и заказ'!B:B,$J78)="","",INDEX('Прайс и заказ'!B:B,$J78))) | C78: =IF($J78=0,"",IF(INDEX('Прайс и заказ'!C:C,$J78)="","",INDEX('Прайс и заказ'!C:C,$J78))) | D78: =IF($J78=0,"",IF(INDEX('Прайс и заказ'!D:D,$J78)="","",INDEX('Прайс и заказ'!D:D,$J78))) | E78: =IF($J78=0,"",IF(INDEX('Прайс и заказ'!F:F,$J78)="","",INDEX('Прайс и заказ'!F:F,$J78))) | F78: =IF($J78=0,"",IF(INDEX('Прайс и заказ'!I:I,$J78)="","",INDEX('Прайс и заказ'!I:I,$J78))) | G78: =IF($J78=0,"",IF(INDEX('Прайс и заказ'!K:K,$J78)="","",INDEX('Прайс и заказ'!K:K,$J78))) | H78: =IF($J78=0,"",IF(INDEX('Прайс и заказ'!L:L,$J78)="","",INDEX('Прайс и заказ'!L:L,$J78))) | I78: =IF($J78=0,"",IF(INDEX('Прайс и заказ'!M:M,$J78)="","",INDEX('Прайс и заказ'!M:M,$J78))) | J78: =IFERROR(MATCH(70,'Прайс и заказ'!$N$7:$N$435,0)+6,0)
A79: =IF($J79=0,"",IFERROR(_xlfn.IMAGE(INDEX('Прайс и заказ'!$O:$O,$J79)),"")) | B79: =IF($J79=0,"",IF(INDEX('Прайс и заказ'!B:B,$J79)="","",INDEX('Прайс и заказ'!B:B,$J79))) | C79: =IF($J79=0,"",IF(INDEX('Прайс и заказ'!C:C,$J79)="","",INDEX('Прайс и заказ'!C:C,$J79))) | D79: =IF($J79=0,"",IF(INDEX('Прайс и заказ'!D:D,$J79)="","",INDEX('Прайс и заказ'!D:D,$J79))) | E79: =IF($J79=0,"",IF(INDEX('Прайс и заказ'!F:F,$J79)="","",INDEX('Прайс и заказ'!F:F,$J79))) | F79: =IF($J79=0,"",IF(INDEX('Прайс и заказ'!I:I,$J79)="","",INDEX('Прайс и заказ'!I:I,$J79))) | G79: =IF($J79=0,"",IF(INDEX('Прайс и заказ'!K:K,$J79)="","",INDEX('Прайс и заказ'!K:K,$J79))) | H79: =IF($J79=0,"",IF(INDEX('Прайс и заказ'!L:L,$J79)="","",INDEX('Прайс и заказ'!L:L,$J79))) | I79: =IF($J79=0,"",IF(INDEX('Прайс и заказ'!M:M,$J79)="","",INDEX('Прайс и заказ'!M:M,$J79))) | J79: =IFERROR(MATCH(71,'Прайс и заказ'!$N$7:$N$435,0)+6,0)
A80: =IF($J80=0,"",IFERROR(_xlfn.IMAGE(INDEX('Прайс и заказ'!$O:$O,$J80)),"")) | B80: =IF($J80=0,"",IF(INDEX('Прайс и заказ'!B:B,$J80)="","",INDEX('Прайс и заказ'!B:B,$J80))) | C80: =IF($J80=0,"",IF(INDEX('Прайс и заказ'!C:C,$J80)="","",INDEX('Прайс и заказ'!C:C,$J80))) | D80: =IF($J80=0,"",IF(INDEX('Прайс и заказ'!D:D,$J80)="","",INDEX('Прайс и заказ'!D:D,$J80))) | E80: =IF($J80=0,"",IF(INDEX('Прайс и заказ'!F:F,$J80)="","",INDEX('Прайс и заказ'!F:F,$J80))) | F80: =IF($J80=0,"",IF(INDEX('Прайс и заказ'!I:I,$J80)="","",INDEX('Прайс и заказ'!I:I,$J80))) | G80: =IF($J80=0,"",IF(INDEX('Прайс и заказ'!K:K,$J80)="","",INDEX('Прайс и заказ'!K:K,$J80))) | H80: =IF($J80=0,"",IF(INDEX('Прайс и заказ'!L:L,$J80)="","",INDEX('Прайс и заказ'!L:L,$J80))) | I80: =IF($J80=0,"",IF(INDEX('Прайс и заказ'!M:M,$J80)="","",INDEX('Прайс и заказ'!M:M,$J80))) | J80: =IFERROR(MATCH(72,'Прайс и заказ'!$N$7:$N$435,0)+6,0)
A81: =IF($J81=0,"",IFERROR(_xlfn.IMAGE(INDEX('Прайс и заказ'!$O:$O,$J81)),"")) | B81: =IF($J81=0,"",IF(INDEX('Прайс и заказ'!B:B,$J81)="","",INDEX('Прайс и заказ'!B:B,$J81))) | C81: =IF($J81=0,"",IF(INDEX('Прайс и заказ'!C:C,$J81)="","",INDEX('Прайс и заказ'!C:C,$J81))) | D81: =IF($J81=0,"",IF(INDEX('Прайс и заказ'!D:D,$J81)="","",INDEX('Прайс и заказ'!D:D,$J81))) | E81: =IF($J81=0,"",IF(INDEX('Прайс и заказ'!F:F,$J81)="","",INDEX('Прайс и заказ'!F:F,$J81))) | F81: =IF($J81=0,"",IF(INDEX('Прайс и заказ'!I:I,$J81)="","",INDEX('Прайс и заказ'!I:I,$J81))) | G81: =IF($J81=0,"",IF(INDEX('Прайс и заказ'!K:K,$J81)="","",INDEX('Прайс и заказ'!K:K,$J81))) | H81: =IF($J81=0,"",IF(INDEX('Прайс и заказ'!L:L,$J81)="","",INDEX('Прайс и заказ'!L:L,$J81))) | I81: =IF($J81=0,"",IF(INDEX('Прайс и заказ'!M:M,$J81)="","",INDEX('Прайс и заказ'!M:M,$J81))) | J81: =IFERROR(MATCH(73,'Прайс и заказ'!$N$7:$N$435,0)+6,0)
A82: =IF($J82=0,"",IFERROR(_xlfn.IMAGE(INDEX('Прайс и заказ'!$O:$O,$J82)),"")) | B82: =IF($J82=0,"",IF(INDEX('Прайс и заказ'!B:B,$J82)="","",INDEX('Прайс и заказ'!B:B,$J82))) | C82: =IF($J82=0,"",IF(INDEX('Прайс и заказ'!C:C,$J82)="","",INDEX('Прайс и заказ'!C:C,$J82))) | D82: =IF($J82=0,"",IF(INDEX('Прайс и заказ'!D:D,$J82)="","",INDEX('Прайс и заказ'!D:D,$J82))) | E82: =IF($J82=0,"",IF(INDEX('Прайс и заказ'!F:F,$J82)="","",INDEX('Прайс и заказ'!F:F,$J82))) | F82: =IF($J82=0,"",IF(INDEX('Прайс и заказ'!I:I,$J82)="","",INDEX('Прайс и заказ'!I:I,$J82))) | G82: =IF($J82=0,"",IF(INDEX('Прайс и заказ'!K:K,$J82)="","",INDEX('Прайс и заказ'!K:K,$J82))) | H82: =IF($J82=0,"",IF(INDEX('Прайс и заказ'!L:L,$J82)="","",INDEX('Прайс и заказ'!L:L,$J82))) | I82: =IF($J82=0,"",IF(INDEX('Прайс и заказ'!M:M,$J82)="","",INDEX('Прайс и заказ'!M:M,$J82))) | J82: =IFERROR(MATCH(74,'Прайс и заказ'!$N$7:$N$435,0)+6,0)
A83: =IF($J83=0,"",IFERROR(_xlfn.IMAGE(INDEX('Прайс и заказ'!$O:$O,$J83)),"")) | B83: =IF($J83=0,"",IF(INDEX('Прайс и заказ'!B:B,$J83)="","",INDEX('Прайс и заказ'!B:B,$J83))) | C83: =IF($J83=0,"",IF(INDEX('Прайс и заказ'!C:C,$J83)="","",INDEX('Прайс и заказ'!C:C,$J83))) | D83: =IF($J83=0,"",IF(INDEX('Прайс и заказ'!D:D,$J83)="","",INDEX('Прайс и заказ'!D:D,$J83))) | E83: =IF($J83=0,"",IF(INDEX('Прайс и заказ'!F:F,$J83)="","",INDEX('Прайс и заказ'!F:F,$J83))) | F83: =IF($J83=0,"",IF(INDEX('Прайс и заказ'!I:I,$J83)="","",INDEX('Прайс и заказ'!I:I,$J83))) | G83: =IF($J83=0,"",IF(INDEX('Прайс и заказ'!K:K,$J83)="","",INDEX('Прайс и заказ'!K:K,$J83))) | H83: =IF($J83=0,"",IF(INDEX('Прайс и заказ'!L:L,$J83)="","",INDEX('Прайс и заказ'!L:L,$J83))) | I83: =IF($J83=0,"",IF(INDEX('Прайс и заказ'!M:M,$J83)="","",INDEX('Прайс и заказ'!M:M,$J83))) | J83: =IFERROR(MATCH(75,'Прайс и заказ'!$N$7:$N$435,0)+6,0)
A84: =IF($J84=0,"",IFERROR(_xlfn.IMAGE(INDEX('Прайс и заказ'!$O:$O,$J84)),"")) | B84: =IF($J84=0,"",IF(INDEX('Прайс и заказ'!B:B,$J84)="","",INDEX('Прайс и заказ'!B:B,$J84))) | C84: =IF($J84=0,"",IF(INDEX('Прайс и заказ'!C:C,$J84)="","",INDEX('Прайс и заказ'!C:C,$J84))) | D84: =IF($J84=0,"",IF(INDEX('Прайс и заказ'!D:D,$J84)="","",INDEX('Прайс и заказ'!D:D,$J84))) | E84: =IF($J84=0,"",IF(INDEX('Прайс и заказ'!F:F,$J84)="","",INDEX('Прайс и заказ'!F:F,$J84))) | F84: =IF($J84=0,"",IF(INDEX('Прайс и заказ'!I:I,$J84)="","",INDEX('Прайс и заказ'!I:I,$J84))) | G84: =IF($J84=0,"",IF(INDEX('Прайс и заказ'!K:K,$J84)="","",INDEX('Прайс и заказ'!K:K,$J84))) | H84: =IF($J84=0,"",IF(INDEX('Прайс и заказ'!L:L,$J84)="","",INDEX('Прайс и заказ'!L:L,$J84))) | I84: =IF($J84=0,"",IF(INDEX('Прайс и заказ'!M:M,$J84)="","",INDEX('Прайс и заказ'!M:M,$J84))) | J84: =IFERROR(MATCH(76,'Прайс и заказ'!$N$7:$N$435,0)+6,0)
A85: =IF($J85=0,"",IFERROR(_xlfn.IMAGE(INDEX('Прайс и заказ'!$O:$O,$J85)),"")) | B85: =IF($J85=0,"",IF(INDEX('Прайс и заказ'!B:B,$J85)="","",INDEX('Прайс и заказ'!B:B,$J85))) | C85: =IF($J85=0,"",IF(INDEX('Прайс и заказ'!C:C,$J85)="","",INDEX('Прайс и заказ'!C:C,$J85))) | D85: =IF($J85=0,"",IF(INDEX('Прайс и заказ'!D:D,$J85)="","",INDEX('Прайс и заказ'!D:D,$J85))) | E85: =IF($J85=0,"",IF(INDEX('Прайс и заказ'!F:F,$J85)="","",INDEX('Прайс и заказ'!F:F,$J85))) | F85: =IF($J85=0,"",IF(INDEX('Прайс и заказ'!I:I,$J85)="","",INDEX('Прайс и заказ'!I:I,$J85))) | G85: =IF($J85=0,"",IF(INDEX('Прайс и заказ'!K:K,$J85)="","",INDEX('Прайс и заказ'!K:K,$J85))) | H85: =IF($J85=0,"",IF(INDEX('Прайс и заказ'!L:L,$J85)="","",INDEX('Прайс и заказ'!L:L,$J85))) | I85: =IF($J85=0,"",IF(INDEX('Прайс и заказ'!M:M,$J85)="","",INDEX('Прайс и заказ'!M:M,$J85))) | J85: =IFERROR(MATCH(77,'Прайс и заказ'!$N$7:$N$435,0)+6,0)
A86: =IF($J86=0,"",IFERROR(_xlfn.IMAGE(INDEX('Прайс и заказ'!$O:$O,$J86)),"")) | B86: =IF($J86=0,"",IF(INDEX('Прайс и заказ'!B:B,$J86)="","",INDEX('Прайс и заказ'!B:B,$J86))) | C86: =IF($J86=0,"",IF(INDEX('Прайс и заказ'!C:C,$J86)="","",INDEX('Прайс и заказ'!C:C,$J86))) | D86: =IF($J86=0,"",IF(INDEX('Прайс и заказ'!D:D,$J86)="","",INDEX('Прайс и заказ'!D:D,$J86))) | E86: =IF($J86=0,"",IF(INDEX('Прайс и заказ'!F:F,$J86)="","",INDEX('Прайс и заказ'!F:F,$J86))) | F86: =IF($J86=0,"",IF(INDEX('Прайс и заказ'!I:I,$J86)="","",INDEX('Прайс и заказ'!I:I,$J86))) | G86: =IF($J86=0,"",IF(INDEX('Прайс и заказ'!K:K,$J86)="","",INDEX('Прайс и заказ'!K:K,$J86))) | H86: =IF($J86=0,"",IF(INDEX('Прайс и заказ'!L:L,$J86)="","",INDEX('Прайс и заказ'!L:L,$J86))) | I86: =IF($J86=0,"",IF(INDEX('Прайс и заказ'!M:M,$J86)="","",INDEX('Прайс и заказ'!M:M,$J86))) | J86: =IFERROR(MATCH(78,'Прайс и заказ'!$N$7:$N$435,0)+6,0)
A87: =IF($J87=0,"",IFERROR(_xlfn.IMAGE(INDEX('Прайс и заказ'!$O:$O,$J87)),"")) | B87: =IF($J87=0,"",IF(INDEX('Прайс и заказ'!B:B,$J87)="","",INDEX('Прайс и заказ'!B:B,$J87))) | C87: =IF($J87=0,"",IF(INDEX('Прайс и заказ'!C:C,$J87)="","",INDEX('Прайс и заказ'!C:C,$J87))) | D87: =IF($J87=0,"",IF(INDEX('Прайс и заказ'!D:D,$J87)="","",INDEX('Прайс и заказ'!D:D,$J87))) | E87: =IF($J87=0,"",IF(INDEX('Прайс и заказ'!F:F,$J87)="","",INDEX('Прайс и заказ'!F:F,$J87))) | F87: =IF($J87=0,"",IF(INDEX('Прайс и заказ'!I:I,$J87)="","",INDEX('Прайс и заказ'!I:I,$J87))) | G87: =IF($J87=0,"",IF(INDEX('Прайс и заказ'!K:K,$J87)="","",INDEX('Прайс и заказ'!K:K,$J87))) | H87: =IF($J87=0,"",IF(INDEX('Прайс и заказ'!L:L,$J87)="","",INDEX('Прайс и заказ'!L:L,$J87))) | I87: =IF($J87=0,"",IF(INDEX('Прайс и заказ'!M:M,$J87)="","",INDEX('Прайс и заказ'!M:M,$J87))) | J87: =IFERROR(MATCH(79,'Прайс и заказ'!$N$7:$N$435,0)+6,0)
A88: =IF($J88=0,"",IFERROR(_xlfn.IMAGE(INDEX('Прайс и заказ'!$O:$O,$J88)),"")) | B88: =IF($J88=0,"",IF(INDEX('Прайс и заказ'!B:B,$J88)="","",INDEX('Прайс и заказ'!B:B,$J88))) | C88: =IF($J88=0,"",IF(INDEX('Прайс и заказ'!C:C,$J88)="","",INDEX('Прайс и заказ'!C:C,$J88))) | D88: =IF($J88=0,"",IF(INDEX('Прайс и заказ'!D:D,$J88)="","",INDEX('Прайс и заказ'!D:D,$J88))) | E88: =IF($J88=0,"",IF(INDEX('Прайс и заказ'!F:F,$J88)="","",INDEX('Прайс и заказ'!F:F,$J88))) | F88: =IF($J88=0,"",IF(INDEX('Прайс и заказ'!I:I,$J88)="","",INDEX('Прайс и заказ'!I:I,$J88))) | G88: =IF($J88=0,"",IF(INDEX('Прайс и заказ'!K:K,$J88)="","",INDEX('Прайс и заказ'!K:K,$J88))) | H88: =IF($J88=0,"",IF(INDEX('Прайс и заказ'!L:L,$J88)="","",INDEX('Прайс и заказ'!L:L,$J88))) | I88: =IF($J88=0,"",IF(INDEX('Прайс и заказ'!M:M,$J88)="","",INDEX('Прайс и заказ'!M:M,$J88))) | J88: =IFERROR(MATCH(80,'Прайс и заказ'!$N$7:$N$435,0)+6,0)
A89: =IF($J89=0,"",IFERROR(_xlfn.IMAGE(INDEX('Прайс и заказ'!$O:$O,$J89)),"")) | B89: =IF($J89=0,"",IF(INDEX('Прайс и заказ'!B:B,$J89)="","",INDEX('Прайс и заказ'!B:B,$J89))) | C89: =IF($J89=0,"",IF(INDEX('Прайс и заказ'!C:C,$J89)="","",INDEX('Прайс и заказ'!C:C,$J89))) | D89: =IF($J89=0,"",IF(INDEX('Прайс и заказ'!D:D,$J89)="","",INDEX('Прайс и заказ'!D:D,$J89))) | E89: =IF($J89=0,"",IF(INDEX('Прайс и заказ'!F:F,$J89)="","",INDEX('Прайс и заказ'!F:F,$J89))) | F89: =IF($J89=0,"",IF(INDEX('Прайс и заказ'!I:I,$J89)="","",INDEX('Прайс и заказ'!I:I,$J89))) | G89: =IF($J89=0,"",IF(INDEX('Прайс и заказ'!K:K,$J89)="","",INDEX('Прайс и заказ'!K:K,$J89))) | H89: =IF($J89=0,"",IF(INDEX('Прайс и заказ'!L:L,$J89)="","",INDEX('Прайс и заказ'!L:L,$J89))) | I89: =IF($J89=0,"",IF(INDEX('Прайс и заказ'!M:M,$J89)="","",INDEX('Прайс и заказ'!M:M,$J89))) | J89: =IFERROR(MATCH(81,'Прайс и заказ'!$N$7:$N$435,0)+6,0)
A90: =IF($J90=0,"",IFERROR(_xlfn.IMAGE(INDEX('Прайс и заказ'!$O:$O,$J90)),"")) | B90: =IF($J90=0,"",IF(INDEX('Прайс и заказ'!B:B,$J90)="","",INDEX('Прайс и заказ'!B:B,$J90))) | C90: =IF($J90=0,"",IF(INDEX('Прайс и заказ'!C:C,$J90)="","",INDEX('Прайс и заказ'!C:C,$J90))) | D90: =IF($J90=0,"",IF(INDEX('Прайс и заказ'!D:D,$J90)="","",INDEX('Прайс и заказ'!D:D,$J90))) | E90: =IF($J90=0,"",IF(INDEX('Прайс и заказ'!F:F,$J90)="","",INDEX('Прайс и заказ'!F:F,$J90))) | F90: =IF($J90=0,"",IF(INDEX('Прайс и заказ'!I:I,$J90)="","",INDEX('Прайс и заказ'!I:I,$J90))) | G90: =IF($J90=0,"",IF(INDEX('Прайс и заказ'!K:K,$J90)="","",INDEX('Прайс и заказ'!K:K,$J90))) | H90: =IF($J90=0,"",IF(INDEX('Прайс и заказ'!L:L,$J90)="","",INDEX('Прайс и заказ'!L:L,$J90))) | I90: =IF($J90=0,"",IF(INDEX('Прайс и заказ'!M:M,$J90)="","",INDEX('Прайс и заказ'!M:M,$J90))) | J90: =IFERROR(MATCH(82,'Прайс и заказ'!$N$7:$N$435,0)+6,0)
A91: =IF($J91=0,"",IFERROR(_xlfn.IMAGE(INDEX('Прайс и заказ'!$O:$O,$J91)),"")) | B91: =IF($J91=0,"",IF(INDEX('Прайс и заказ'!B:B,$J91)="","",INDEX('Прайс и заказ'!B:B,$J91))) | C91: =IF($J91=0,"",IF(INDEX('Прайс и заказ'!C:C,$J91)="","",INDEX('Прайс и заказ'!C:C,$J91))) | D91: =IF($J91=0,"",IF(INDEX('Прайс и заказ'!D:D,$J91)="","",INDEX('Прайс и заказ'!D:D,$J91))) | E91: =IF($J91=0,"",IF(INDEX('Прайс и заказ'!F:F,$J91)="","",INDEX('Прайс и заказ'!F:F,$J91))) | F91: =IF($J91=0,"",IF(INDEX('Прайс и заказ'!I:I,$J91)="","",INDEX('Прайс и заказ'!I:I,$J91))) | G91: =IF($J91=0,"",IF(INDEX('Прайс и заказ'!K:K,$J91)="","",INDEX('Прайс и заказ'!K:K,$J91))) | H91: =IF($J91=0,"",IF(INDEX('Прайс и заказ'!L:L,$J91)="","",INDEX('Прайс и заказ'!L:L,$J91))) | I91: =IF($J91=0,"",IF(INDEX('Прайс и заказ'!M:M,$J91)="","",INDEX('Прайс и заказ'!M:M,$J91))) | J91: =IFERROR(MATCH(83,'Прайс и заказ'!$N$7:$N$435,0)+6,0)
A92: =IF($J92=0,"",IFERROR(_xlfn.IMAGE(INDEX('Прайс и заказ'!$O:$O,$J92)),"")) | B92: =IF($J92=0,"",IF(INDEX('Прайс и заказ'!B:B,$J92)="","",INDEX('Прайс и заказ'!B:B,$J92))) | C92: =IF($J92=0,"",IF(INDEX('Прайс и заказ'!C:C,$J92)="","",INDEX('Прайс и заказ'!C:C,$J92))) | D92: =IF($J92=0,"",IF(INDEX('Прайс и заказ'!D:D,$J92)="","",INDEX('Прайс и заказ'!D:D,$J92))) | E92: =IF($J92=0,"",IF(INDEX('Прайс и заказ'!F:F,$J92)="","",INDEX('Прайс и заказ'!F:F,$J92))) | F92: =IF($J92=0,"",IF(INDEX('Прайс и заказ'!I:I,$J92)="","",INDEX('Прайс и заказ'!I:I,$J92))) | G92: =IF($J92=0,"",IF(INDEX('Прайс и заказ'!K:K,$J92)="","",INDEX('Прайс и заказ'!K:K,$J92))) | H92: =IF($J92=0,"",IF(INDEX('Прайс и заказ'!L:L,$J92)="","",INDEX('Прайс и заказ'!L:L,$J92))) | I92: =IF($J92=0,"",IF(INDEX('Прайс и заказ'!M:M,$J92)="","",INDEX('Прайс и заказ'!M:M,$J92))) | J92: =IFERROR(MATCH(84,'Прайс и заказ'!$N$7:$N$435,0)+6,0)
A93: =IF($J93=0,"",IFERROR(_xlfn.IMAGE(INDEX('Прайс и заказ'!$O:$O,$J93)),"")) | B93: =IF($J93=0,"",IF(INDEX('Прайс и заказ'!B:B,$J93)="","",INDEX('Прайс и заказ'!B:B,$J93))) | C93: =IF($J93=0,"",IF(INDEX('Прайс и заказ'!C:C,$J93)="","",INDEX('Прайс и заказ'!C:C,$J93))) | D93: =IF($J93=0,"",IF(INDEX('Прайс и заказ'!D:D,$J93)="","",INDEX('Прайс и заказ'!D:D,$J93))) | E93: =IF($J93=0,"",IF(INDEX('Прайс и заказ'!F:F,$J93)="","",INDEX('Прайс и заказ'!F:F,$J93))) | F93: =IF($J93=0,"",IF(INDEX('Прайс и заказ'!I:I,$J93)="","",INDEX('Прайс и заказ'!I:I,$J93))) | G93: =IF($J93=0,"",IF(INDEX('Прайс и заказ'!K:K,$J93)="","",INDEX('Прайс и заказ'!K:K,$J93))) | H93: =IF($J93=0,"",IF(INDEX('Прайс и заказ'!L:L,$J93)="","",INDEX('Прайс и заказ'!L:L,$J93))) | I93: =IF($J93=0,"",IF(INDEX('Прайс и заказ'!M:M,$J93)="","",INDEX('Прайс и заказ'!M:M,$J93))) | J93: =IFERROR(MATCH(85,'Прайс и заказ'!$N$7:$N$435,0)+6,0)
A94: =IF($J94=0,"",IFERROR(_xlfn.IMAGE(INDEX('Прайс и заказ'!$O:$O,$J94)),"")) | B94: =IF($J94=0,"",IF(INDEX('Прайс и заказ'!B:B,$J94)="","",INDEX('Прайс и заказ'!B:B,$J94))) | C94: =IF($J94=0,"",IF(INDEX('Прайс и заказ'!C:C,$J94)="","",INDEX('Прайс и заказ'!C:C,$J94))) | D94: =IF($J94=0,"",IF(INDEX('Прайс и заказ'!D:D,$J94)="","",INDEX('Прайс и заказ'!D:D,$J94))) | E94: =IF($J94=0,"",IF(INDEX('Прайс и заказ'!F:F,$J94)="","",INDEX('Прайс и заказ'!F:F,$J94))) | F94: =IF($J94=0,"",IF(INDEX('Прайс и заказ'!I:I,$J94)="","",INDEX('Прайс и заказ'!I:I,$J94))) | G94: =IF($J94=0,"",IF(INDEX('Прайс и заказ'!K:K,$J94)="","",INDEX('Прайс и заказ'!K:K,$J94))) | H94: =IF($J94=0,"",IF(INDEX('Прайс и заказ'!L:L,$J94)="","",INDEX('Прайс и заказ'!L:L,$J94))) | I94: =IF($J94=0,"",IF(INDEX('Прайс и заказ'!M:M,$J94)="","",INDEX('Прайс и заказ'!M:M,$J94))) | J94: =IFERROR(MATCH(86,'Прайс и заказ'!$N$7:$N$435,0)+6,0)
A95: =IF($J95=0,"",IFERROR(_xlfn.IMAGE(INDEX('Прайс и заказ'!$O:$O,$J95)),"")) | B95: =IF($J95=0,"",IF(INDEX('Прайс и заказ'!B:B,$J95)="","",INDEX('Прайс и заказ'!B:B,$J95))) | C95: =IF($J95=0,"",IF(INDEX('Прайс и заказ'!C:C,$J95)="","",INDEX('Прайс и заказ'!C:C,$J95))) | D95: =IF($J95=0,"",IF(INDEX('Прайс и заказ'!D:D,$J95)="","",INDEX('Прайс и заказ'!D:D,$J95))) | E95: =IF($J95=0,"",IF(INDEX('Прайс и заказ'!F:F,$J95)="","",INDEX('Прайс и заказ'!F:F,$J95))) | F95: =IF($J95=0,"",IF(INDEX('Прайс и заказ'!I:I,$J95)="","",INDEX('Прайс и заказ'!I:I,$J95))) | G95: =IF($J95=0,"",IF(INDEX('Прайс и заказ'!K:K,$J95)="","",INDEX('Прайс и заказ'!K:K,$J95))) | H95: =IF($J95=0,"",IF(INDEX('Прайс и заказ'!L:L,$J95)="","",INDEX('Прайс и заказ'!L:L,$J95))) | I95: =IF($J95=0,"",IF(INDEX('Прайс и заказ'!M:M,$J95)="","",INDEX('Прайс и заказ'!M:M,$J95))) | J95: =IFERROR(MATCH(87,'Прайс и заказ'!$N$7:$N$435,0)+6,0)
A96: =IF($J96=0,"",IFERROR(_xlfn.IMAGE(INDEX('Прайс и заказ'!$O:$O,$J96)),"")) | B96: =IF($J96=0,"",IF(INDEX('Прайс и заказ'!B:B,$J96)="","",INDEX('Прайс и заказ'!B:B,$J96))) | C96: =IF($J96=0,"",IF(INDEX('Прайс и заказ'!C:C,$J96)="","",INDEX('Прайс и заказ'!C:C,$J96))) | D96: =IF($J96=0,"",IF(INDEX('Прайс и заказ'!D:D,$J96)="","",INDEX('Прайс и заказ'!D:D,$J96))) | E96: =IF($J96=0,"",IF(INDEX('Прайс и заказ'!F:F,$J96)="","",INDEX('Прайс и заказ'!F:F,$J96))) | F96: =IF($J96=0,"",IF(INDEX('Прайс и заказ'!I:I,$J96)="","",INDEX('Прайс и заказ'!I:I,$J96))) | G96: =IF($J96=0,"",IF(INDEX('Прайс и заказ'!K:K,$J96)="","",INDEX('Прайс и заказ'!K:K,$J96))) | H96: =IF($J96=0,"",IF(INDEX('Прайс и заказ'!L:L,$J96)="","",INDEX('Прайс и заказ'!L:L,$J96))) | I96: =IF($J96=0,"",IF(INDEX('Прайс и заказ'!M:M,$J96)="","",INDEX('Прайс и заказ'!M:M,$J96))) | J96: =IFERROR(MATCH(88,'Прайс и заказ'!$N$7:$N$435,0)+6,0)
A97: =IF($J97=0,"",IFERROR(_xlfn.IMAGE(INDEX('Прайс и заказ'!$O:$O,$J97)),"")) | B97: =IF($J97=0,"",IF(INDEX('Прайс и заказ'!B:B,$J97)="","",INDEX('Прайс и заказ'!B:B,$J97))) | C97: =IF($J97=0,"",IF(INDEX('Прайс и заказ'!C:C,$J97)="","",INDEX('Прайс и заказ'!C:C,$J97))) | D97: =IF($J97=0,"",IF(INDEX('Прайс и заказ'!D:D,$J97)="","",INDEX('Прайс и заказ'!D:D,$J97))) | E97: =IF($J97=0,"",IF(INDEX('Прайс и заказ'!F:F,$J97)="","",INDEX('Прайс и заказ'!F:F,$J97))) | F97: =IF($J97=0,"",IF(INDEX('Прайс и заказ'!I:I,$J97)="","",INDEX('Прайс и заказ'!I:I,$J97))) | G97: =IF($J97=0,"",IF(INDEX('Прайс и заказ'!K:K,$J97)="","",INDEX('Прайс и заказ'!K:K,$J97))) | H97: =IF($J97=0,"",IF(INDEX('Прайс и заказ'!L:L,$J97)="","",INDEX('Прайс и заказ'!L:L,$J97))) | I97: =IF($J97=0,"",IF(INDEX('Прайс и заказ'!M:M,$J97)="","",INDEX('Прайс и заказ'!M:M,$J97))) | J97: =IFERROR(MATCH(89,'Прайс и заказ'!$N$7:$N$435,0)+6,0)
A98: =IF($J98=0,"",IFERROR(_xlfn.IMAGE(INDEX('Прайс и заказ'!$O:$O,$J98)),"")) | B98: =IF($J98=0,"",IF(INDEX('Прайс и заказ'!B:B,$J98)="","",INDEX('Прайс и заказ'!B:B,$J98))) | C98: =IF($J98=0,"",IF(INDEX('Прайс и заказ'!C:C,$J98)="","",INDEX('Прайс и заказ'!C:C,$J98))) | D98: =IF($J98=0,"",IF(INDEX('Прайс и заказ'!D:D,$J98)="","",INDEX('Прайс и заказ'!D:D,$J98))) | E98: =IF($J98=0,"",IF(INDEX('Прайс и заказ'!F:F,$J98)="","",INDEX('Прайс и заказ'!F:F,$J98))) | F98: =IF($J98=0,"",IF(INDEX('Прайс и заказ'!I:I,$J98)="","",INDEX('Прайс и заказ'!I:I,$J98))) | G98: =IF($J98=0,"",IF(INDEX('Прайс и заказ'!K:K,$J98)="","",INDEX('Прайс и заказ'!K:K,$J98))) | H98: =IF($J98=0,"",IF(INDEX('Прайс и заказ'!L:L,$J98)="","",INDEX('Прайс и заказ'!L:L,$J98))) | I98: =IF($J98=0,"",IF(INDEX('Прайс и заказ'!M:M,$J98)="","",INDEX('Прайс и заказ'!M:M,$J98))) | J98: =IFERROR(MATCH(90,'Прайс и заказ'!$N$7:$N$435,0)+6,0)
A99: =IF($J99=0,"",IFERROR(_xlfn.IMAGE(INDEX('Прайс и заказ'!$O:$O,$J99)),"")) | B99: =IF($J99=0,"",IF(INDEX('Прайс и заказ'!B:B,$J99)="","",INDEX('Прайс и заказ'!B:B,$J99))) | C99: =IF($J99=0,"",IF(INDEX('Прайс и заказ'!C:C,$J99)="","",INDEX('Прайс и заказ'!C:C,$J99))) | D99: =IF($J99=0,"",IF(INDEX('Прайс и заказ'!D:D,$J99)="","",INDEX('Прайс и заказ'!D:D,$J99))) | E99: =IF($J99=0,"",IF(INDEX('Прайс и заказ'!F:F,$J99)="","",INDEX('Прайс и заказ'!F:F,$J99))) | F99: =IF($J99=0,"",IF(INDEX('Прайс и заказ'!I:I,$J99)="","",INDEX('Прайс и заказ'!I:I,$J99))) | G99: =IF($J99=0,"",IF(INDEX('Прайс и заказ'!K:K,$J99)="","",INDEX('Прайс и заказ'!K:K,$J99))) | H99: =IF($J99=0,"",IF(INDEX('Прайс и заказ'!L:L,$J99)="","",INDEX('Прайс и заказ'!L:L,$J99))) | I99: =IF($J99=0,"",IF(INDEX('Прайс и заказ'!M:M,$J99)="","",INDEX('Прайс и заказ'!M:M,$J99))) | J99: =IFERROR(MATCH(91,'Прайс и заказ'!$N$7:$N$435,0)+6,0)
A100: =IF($J100=0,"",IFERROR(_xlfn.IMAGE(INDEX('Прайс и заказ'!$O:$O,$J100)),"")) | B100: =IF($J100=0,"",IF(INDEX('Прайс и заказ'!B:B,$J100)="","",INDEX('Прайс и заказ'!B:B,$J100))) | C100: =IF($J100=0,"",IF(INDEX('Прайс и заказ'!C:C,$J100)="","",INDEX('Прайс и заказ'!C:C,$J100))) | D100: =IF($J100=0,"",IF(INDEX('Прайс и заказ'!D:D,$J100)="","",INDEX('Прайс и заказ'!D:D,$J100))) | E100: =IF($J100=0,"",IF(INDEX('Прайс и заказ'!F:F,$J100)="","",INDEX('Прайс и заказ'!F:F,$J100))) | F100: =IF($J100=0,"",IF(INDEX('Прайс и заказ'!I:I,$J100)="","",INDEX('Прайс и заказ'!I:I,$J100))) | G100: =IF($J100=0,"",IF(INDEX('Прайс и заказ'!K:K,$J100)="","",INDEX('Прайс и заказ'!K:K,$J100))) | H100: =IF($J100=0,"",IF(INDEX('Прайс и заказ'!L:L,$J100)="","",INDEX('Прайс и заказ'!L:L,$J100))) | I100: =IF($J100=0,"",IF(INDEX('Прайс и заказ'!M:M,$J100)="","",INDEX('Прайс и заказ'!M:M,$J100))) | J100: =IFERROR(MATCH(92,'Прайс и заказ'!$N$7:$N$435,0)+6,0)
A101: =IF($J101=0,"",IFERROR(_xlfn.IMAGE(INDEX('Прайс и заказ'!$O:$O,$J101)),"")) | B101: =IF($J101=0,"",IF(INDEX('Прайс и заказ'!B:B,$J101)="","",INDEX('Прайс и заказ'!B:B,$J101))) | C101: =IF($J101=0,"",IF(INDEX('Прайс и заказ'!C:C,$J101)="","",INDEX('Прайс и заказ'!C:C,$J101))) | D101: =IF($J101=0,"",IF(INDEX('Прайс и заказ'!D:D,$J101)="","",INDEX('Прайс и заказ'!D:D,$J101))) | E101: =IF($J101=0,"",IF(INDEX('Прайс и заказ'!F:F,$J101)="","",INDEX('Прайс и заказ'!F:F,$J101))) | F101: =IF($J101=0,"",IF(INDEX('Прайс и заказ'!I:I,$J101)="","",INDEX('Прайс и заказ'!I:I,$J101))) | G101: =IF($J101=0,"",IF(INDEX('Прайс и заказ'!K:K,$J101)="","",INDEX('Прайс и заказ'!K:K,$J101))) | H101: =IF($J101=0,"",IF(INDEX('Прайс и заказ'!L:L,$J101)="","",INDEX('Прайс и заказ'!L:L,$J101))) | I101: =IF($J101=0,"",IF(INDEX('Прайс и заказ'!M:M,$J101)="","",INDEX('Прайс и заказ'!M:M,$J101))) | J101: =IFERROR(MATCH(93,'Прайс и заказ'!$N$7:$N$435,0)+6,0)
...
